BEGIN:VCALENDAR
VERSION:2.0
PRODID:-//UOA Academy - ECPv6.15.20//NONSGML v1.0//EN
CALSCALE:GREGORIAN
METHOD:PUBLISH
X-WR-CALNAME:UOA Academy
X-ORIGINAL-URL:https://uoa-academy.com
X-WR-CALDESC:Events for UOA Academy
REFRESH-INTERVAL;VALUE=DURATION:PT1H
X-Robots-Tag:noindex
X-PUBLISHED-TTL:PT1H
BEGIN:VTIMEZONE
TZID:UTC
BEGIN:STANDARD
TZOFFSETFROM:+0000
TZOFFSETTO:+0000
TZNAME:UTC
DTSTART:20220101T000000
END:STANDARD
END:VTIMEZONE
BEGIN:VEVENT
DTSTART;VALUE=DATE:20231117
DTEND;VALUE=DATE:20231118
DTSTAMP:20260422T141614
CREATED:20230720T175525Z
LAST-MODIFIED:20230720T210158Z
UID:8348-1700179200-1700265599@uoa-academy.com
SUMMARY:Time Management for Boosting Productivity
DESCRIPTION:Objectives\nTime Management for Boosting Productivity course is a one-day training program designed to help individuals improve their time management skills and increase productivity. Participants will learn practical techniques and strategies to effectively manage their time\,\nset priorities\, and optimize their workflow. The course covers various topics\, including prioritization\, planning and scheduling\, managing email and communication\, stress management\, and work-life balance. \nTarget Audience\nThis course is suitable for professionals at all levels who want to enhance their time management skills and boost their productivity. It is beneficial for individuals in any industry or role\, including managers\, team leaders\, entrepreneurs\, and employees seeking to improve their efficiency and effectiveness in their work. \nLearning Outcomes\n● Set clear priorities and align tasks with organizational goals.\n● Apply time optimization techniques to eliminate time-wasting activities and manage interruptions effectively.\n● Develop effective planning and scheduling strategies to maximize productivity and meet deadlines.\n● Manage email and communication efficiently\, reducing inbox overload and interruptions.\n● Cultivate effective work habits\, including organization\, focus\, and concentration techniques. \nCourse Outlines:\nDay 1:\nModule 1: Introduction to Time Management\n● Understanding the importance of effective time management\n● Identifying common time management challenges\n● The link between time management and productivity \nModule 2: Setting Priorities\n● Defining goals and objectives\n● Identifying high-value tasks and activities\n● Applying the Eisenhower Matrix for prioritization\n● Aligning priorities with organizational objectives \nModule 3: Time Optimization Techniques\n● Overcoming procrastination and eliminating time wasters\n● Strategies for managing interruptions and distractions\n● Effective delegation and task batching\n● The Pomodoro Technique and other time-blocking methods \nModule 4: Planning and Scheduling\n● Creating a structured daily\, weekly\, and monthly schedule\n● Using digital and paper-based planners effectively\n● Allocating time for important and urgent tasks\n● Incorporating flexibility and contingency plans \nModule 5: Managing Email and Communication\n● Strategies for efficient email management\n● Handling email overload and reducing inbox clutter\n● Prioritizing and responding to emails effectively\n● Streamlining communication channels and reducing interruptions \nModule 6: Effective Work Habits\n● Organizing workspaces for maximum productivity\n● Adopting proactive approaches to task management\n● Developing routines and rituals for better time utilization\n● Building focus and concentration techniques \nModule 7: Stress Management and Work-Life Balance\n● Recognizing signs of stress and its impact on productivity\n● Techniques for stress reduction and relaxation\n● Setting boundaries and managing work-life integration\n● Self-care practices for maintaining well-being \nModule 8: Continuous Improvement and Sustainability\n● Reflecting on time management practices and identifying areas for improvement\n● Strategies for ongoing self-assessment and adjustment\n● Developing habits for long-term time management success\n● Creating an action plan for implementing learned techniques \nPricing:\nRM 900.00 Per Person (HRD Corp Claimable Course)\n \nKindly scan or click on the link below for your \nLearning Registration.\n \nFor any enquiries\, please contact us at:\n \nUOA Academy Sdn Bhd\nUOA Corporate Tower\, Lobby A\, Avenue 10\, The Vertical\nBangsar South City\, No 8 Jalan Kerinchi\n59200 Kuala Lumpur\, Malaysia.\nTel: 6019 225 0942 / 6016 806 1760 / 6016 241 3517\nEmail: register@uoa-academy.com\n \n\nhttps://www.surveymonkey.com/r/uoaapb \n \nCancellation & Transfer\nPlease note that should this registration be cancelled fourteen (14) days before the day of the training\, a 50% cancellation charge will be imposed. If cancellation is made seven (7) days before the training\, full payment of the training will be levied. Please note that amendments can only be made to the above arrangement by giving a minimum of three (3) working days’ notice.\n \nDisclaimer: UOA Academy reserves the right to make changes to the venue\, date\, and speaker\, including cancellation of the workshop if warranted by circumstances beyond its control.\n  \n\n  \nJoin Today!
URL:https://uoa-academy.com/events/time-management-for-boosting-productivity/
END:VEVENT
END:VCALENDAR