BEGIN:VCALENDAR
VERSION:2.0
PRODID:-//UOA Academy - ECPv6.15.20//NONSGML v1.0//EN
CALSCALE:GREGORIAN
METHOD:PUBLISH
X-WR-CALNAME:UOA Academy
X-ORIGINAL-URL:https://uoa-academy.com
X-WR-CALDESC:Events for UOA Academy
REFRESH-INTERVAL;VALUE=DURATION:PT1H
X-Robots-Tag:noindex
X-PUBLISHED-TTL:PT1H
BEGIN:VTIMEZONE
TZID:UTC
BEGIN:STANDARD
TZOFFSETFROM:+0000
TZOFFSETTO:+0000
TZNAME:UTC
DTSTART:20220101T000000
END:STANDARD
END:VTIMEZONE
BEGIN:VEVENT
DTSTART;VALUE=DATE:20231116
DTEND;VALUE=DATE:20231117
DTSTAMP:20260422T224142
CREATED:20230720T172447Z
LAST-MODIFIED:20230720T202552Z
UID:8346-1700092800-1700179199@uoa-academy.com
SUMMARY:The Art of Public Speaking & Presentation
DESCRIPTION:Delegation: The Art of Delegating Effectively (1 day)\nObjectives\nThe “Delegation: The Art of Delegating Effectively” course is designed to help participants develop the skills and knowledge required to effectively delegate tasks and responsibilities in a professional setting. Delegation is a crucial skill for leaders and managers as it empowers team members\, improves productivity\, and fosters professional growth. Through interactive discussions\, practical exercises\, and case studies\, participants will learn the essential techniques and strategies for successful delegation. \nTarget Audience\nThe “Delegation: The Art of Delegating Effectively” course is designed for managers\, supervisors\, team leaders\, entrepreneurs\, business owners\, project managers\, department heads\, team coordinators\, HR professionals\, emerging leaders\, and professionals transitioning to leadership roles\, who aim to enhance their delegation skills and effectively assign tasks and responsibilities in their respective roles and industries.. \nLearning Outcomes\n● Understand the concept and importance of delegation in a professional setting.\n● Assess tasks and determine their suitability for delegation based on team members’ skills and capabilities.\n● Effectively communicate expectations\, instructions\, and guidelines for delegated tasks.\n● Establish clear objectives\, deadlines\, and checkpoints for delegated tasks. \nCourse Outlines:\nDay 1:\nModule 1: Introduction to Delegation\n● Definition and importance of delegation\n● Benefits and challenges of delegation\n● Common misconceptions about delegation \nModule 2: Assessing Delegation Readiness\n● Evaluating task suitability for delegation\n● Analyzing team members’ skills and capabilities\n● Identifying barriers to effective delegation \nModule 3: Delegation Process\n● Step-by-step guide to effective delegation\n● Setting clear expectations and objectives\n● Assigning appropriate tasks and responsibilities\n● Establishing deadlines and checkpoints\n● Providing necessary resources and support \nModule 4: Effective Communication\n● Importance of clear and concise communication\n● Active listening and feedback techniques\n● Delivering instructions and guidelines effectively\n● Handling questions and concerns \nModule 5: Building Trust and Accountability\n● Developing trust within the team\n● Empowering team members to take ownership\n● Establishing accountability mechanisms\n● Recognizing and rewarding delegation efforts \nModule 6: Monitoring and Feedback\n● Strategies for monitoring progress and performance\n● Providing constructive feedback and guidance\n● Addressing challenges and obstacles\n● Adjusting delegation approach as needed \nPricing:\nRM 900.00 Per Person (HRD Corp Claimable Course)\n \nKindly scan or click on the link below for your \nLearning Registration.\n \nFor any enquiries\, please contact us at:\n \nUOA Academy Sdn Bhd\nUOA Corporate Tower\, Lobby A\, Avenue 10\, The Vertical\nBangsar South City\, No 8 Jalan Kerinchi\n59200 Kuala Lumpur\, Malaysia.\nTel: 6019 225 0942 / 6016 806 1760 / 6016 241 3517\nEmail: register@uoa-academy.com\n \n\nhttps://www.surveymonkey.com/r/uoaapb \n \nCancellation & Transfer\nPlease note that should this registration be cancelled fourteen (14) days before the day of the training\, a 50% cancellation charge will be imposed. If cancellation is made seven (7) days before the training\, full payment of the training will be levied. Please note that amendments can only be made to the above arrangement by giving a minimum of three (3) working days’ notice.\n \nDisclaimer: UOA Academy reserves the right to make changes to the venue\, date\, and speaker\, including cancellation of the workshop if warranted by circumstances beyond its control.\n  \n\n  \nJoin Today!
URL:https://uoa-academy.com/events/the-art-of-public-speaking-presentation/
END:VEVENT
END:VCALENDAR