BEGIN:VCALENDAR
VERSION:2.0
PRODID:-//UOA Academy - ECPv6.15.20//NONSGML v1.0//EN
CALSCALE:GREGORIAN
METHOD:PUBLISH
X-WR-CALNAME:UOA Academy
X-ORIGINAL-URL:https://uoa-academy.com
X-WR-CALDESC:Events for UOA Academy
REFRESH-INTERVAL;VALUE=DURATION:PT1H
X-Robots-Tag:noindex
X-PUBLISHED-TTL:PT1H
BEGIN:VTIMEZONE
TZID:Asia/Kuala_Lumpur
BEGIN:STANDARD
TZOFFSETFROM:+0800
TZOFFSETTO:+0800
TZNAME:+08
DTSTART:20250101T000000
END:STANDARD
END:VTIMEZONE
BEGIN:VEVENT
DTSTART;VALUE=DATE:20260407
DTEND;VALUE=DATE:20260409
DTSTAMP:20260421T174902
CREATED:20260109T072903Z
LAST-MODIFIED:20260122T041333Z
UID:50549-1775520000-1775692799@uoa-academy.com
SUMMARY:Telephone Techniques and Handling Difficult Clients  (2 Days)
DESCRIPTION:Objectives  \nThe Telephone Techniques and Handling Difficult Clients course aims to enhance participants’ communication skills in telephone interactions and equip them with strategies to effectively manage challenging client interactions. The primary objectives include providing insights into telephone etiquette\, developing techniques for handling difficult clients\, and fostering a positive customer service experience.  \nTarget Audience  \nThis course is designed for customer service representatives\, executives\, and professionals involved in telephone-based interactions. It is suitable for individuals seeking to improve their telephone communication skills and effectively handle challenging client situations. The content caters to those in various industries where telephone communication plays a crucial role in customer relations.  \nLearning Outcomes  \n\n Gain proficiency in telephone etiquette\, encompassing effective greetings\, active listening\, and maintaining a professional tone. \n Develop strategies for managing difficult clients\, addressing complaints\, and resolving conflicts during telephone interactions. \n Acquire skills to enhance customer satisfaction through improved communication effectiveness. \n Contribute to a positive and professional organizational image through effective telephone techniques. \nEmpower participants with the knowledge and tools to handle challenging client interactions with confidence and professionalism. \n\nCourse Outlines:  \nDay 1:  \nModule 1: Foundations of Effective Telephone Communication  \n\n Professional Telephone Etiquette (Greetings\, Introductions\, Closing Remarks) \nActive Listening Skills (Techniques for Effective Listening and Understanding) \nNonverbal Communication in Telephone Interactions (Tone of Voice\, Pace\, Enunciation) \n Building Rapport and Establishing Trust \n\nModule 2: Handling Customer Inquiries and Requests  \n\n Gathering Information and Clarifying Client Needs \n Providing Accurate and Concise Information \n Problem-Solving Techniques for Common Customer Inquiries \n Directing Calls and Transferring Calls Effectively \n\nModule 3: Techniques for Handling Customer Complaints  \n\n Active Listening and Empathy in Complaint Handling \n Acknowledging and Validating Customer Concerns \n De-escalation Techniques for Angry or Frustrated Clients \n Finding Solutions and Resolving Complaints Effectively \n\nModule 4: Building Rapport and Customer Relationships  \n\n Personalized Communication and Customer Recognition \n Active Listening and Empathy in Customer Interactions \n Building Trust and Credibility through Effective Communication \n\nDay 2:  \nModule 5: Dealing with Difficult Client Behaviors  \n\n Identifying and Addressing Aggressive\, Rude\, or Demanding Clients \nSetting Boundaries and Maintaining Professionalism \n Handling Difficult Conversations and Difficult People \n Techniques for Remaining Calm and Composed under Pressure \n\nModule 6: Handling Difficult Situations  \n\n Dealing with Irate Customers and Handling Angry Outbursts \nManaging Difficult Calls and Escalation Situations \n Handling Customer Complaints and Disputes \n Techniques for Handling Difficult or Sensitive Topics \n\nModule 7: Communication Technology and Tools  \n\n Utilizing Telephone Systems and Communication Technologies \nEffective Use of Call Recording and Monitoring Tools \n Communication Protocols and Best Practices \n Technology and its Impact on Customer Service \n\nModule 8: Enhancing Customer Satisfaction  \n\n Measuring Customer Satisfaction and Gathering Feedback \nUsing Customer Feedback to Improve Telephone Interactions \nCreating a Positive Customer Experience \n Building Long-Term Customer Relationships\n\nPRICING: \n\nRM 2\,200.00 Per Person (HRD Corp Claimable Course) + 8% SSTTo inquire about pricing for our training\, please contact us for a quote. \n\n\nKindly scan or click on the link below for your. Learning Registration.For any enquiries\, please contact us at:UOA Academy Sdn BhdSuite 1-2\, Lower Level 1\, City\, The Horizon Annexe\, Avenue 7\,Bangsar South\, 59200 Kuala Lumpur\, Wilayah Persekutuan Kuala Lumpur. \nTel: 6013 482 4810 / 6016 241 3517Email: register@uoa-academy.com \n\n  \n\n \nClick Here for Registration & Further Details!  \n \nCancellation & Transfer\n\nPlease note that should this registration be cancelled fourteen (14) days before the day of the training\, a 50% cancellation charge will be imposed. If cancellation is made seven (7) days before the training\, full payment of the training will be levied. Please note that amendments can only be made to the above arrangement by giving a minimum of three (3) working days’ notice. Additionally\, a 30% upfront payment is required via Human Resource Development Corporation (HRDC) or bank transfer.  \nDisclaimer: UOA Academy reserves the right to make changes to the venue\, date\, and speaker\, including cancellation of the workshop if warranted by circumstances beyond its control.  \n\n     \n  \n 
URL:https://uoa-academy.com/events/telephone-techniques-and-handling-difficult-clients-2-days/
CATEGORIES:Interpersonal Development,Interpersonal Skill,Management,Self Development
END:VEVENT
END:VCALENDAR