BEGIN:VCALENDAR
VERSION:2.0
PRODID:-//UOA Academy - ECPv6.15.20//NONSGML v1.0//EN
CALSCALE:GREGORIAN
METHOD:PUBLISH
X-WR-CALNAME:UOA Academy
X-ORIGINAL-URL:https://uoa-academy.com
X-WR-CALDESC:Events for UOA Academy
REFRESH-INTERVAL;VALUE=DURATION:PT1H
X-Robots-Tag:noindex
X-PUBLISHED-TTL:PT1H
BEGIN:VTIMEZONE
TZID:Asia/Kuala_Lumpur
BEGIN:STANDARD
TZOFFSETFROM:+0800
TZOFFSETTO:+0800
TZNAME:+08
DTSTART:20250101T000000
END:STANDARD
END:VTIMEZONE
BEGIN:VEVENT
DTSTART;VALUE=DATE:20260923
DTEND;VALUE=DATE:20260925
DTSTAMP:20260422T051250
CREATED:20260113T083055Z
LAST-MODIFIED:20260113T083055Z
UID:50744-1790121600-1790294399@uoa-academy.com
SUMMARY:Supervisory Development Skills (2 Days)
DESCRIPTION:Objectives  \nThe Supervisory Development Programme is designed to equip supervisors with the essential mindset\, skills\, and tools required to lead effectively in today’s dynamic workplace. Through this programme\, participants will develop a clear understanding of their roles and responsibilities as supervisors\, while strengthening their self-awareness through personality and behavioural assessments. They will also learn to apply effective communication\, leadership\, and delegation techniques to build and motivate high-performing teams. In addition\, the programme aims to enhance supervisors’ ability to monitor and review performance\, provide constructive feedback\, and apply problem-solving strategies to improve team and business outcomes. Ultimately\, this programme seeks to create well-rounded supervisors who can successfully manage themselves\, lead others with confidence\, and contribute to the overall growth of the organisation.  \nTarget Audience  \nThis programme is designed for individuals who are currently in supervisory roles\, newly appointed supervisors\, or those being prepared to take on supervisory responsibilities in the near future. It is also suitable for team leaders\, line managers\, and executives who wish to strengthen their leadership and people management skills. The programme provides practical tools and insights that can be applied across industries\, making it valuable for any professional seeking to enhance their effectiveness in managing themselves\, their teams\, and their business responsibilities.  \nLearning Outcomes  \n\n Define supervisory management and the core competencies required. ● Identify their own personality and leadership styles\, and how these impact their team. ● Apply effective behavioural\, communication\, and delegation skills. \n Supervise\, coordinate\, and synergise team performance to achieve goals. ● Provide constructive feedback\, coaching\, and performance reviews. ● Demonstrate a balanced role as a supervisor in managing self\, others\, and the business. \n\nMODULE 1: GAIN THE MINDSET Understand & Explore  \n\n Their role as a Supervisor \n How to balance both sets of skills? \n Difference between management and leadership \n Your Journey: – From a team member to a team leader \n Competencies of a supervisor \n Understand the tools for practical leadership skills to apply to work situations and challenges \n\nMODULE 2: MANAGING PEOPLE  \n\n Managing the expectations \n Managing team members \n Managing peers \n Managing your managers \n\nMODULE 3: TIME – MANAGEMENT  \n\n How to manage time? \n Prioritizing the To-Do List \nDelegating work \n\nMODULE 4: COMMUNICATION  \n\n Evaluate self in communication abilities \n Develop communication- oral and written \n Evaluate your natural Listening skills \n Acquire active listening skills \n Asking effective questions \n Understand how to communicate during meetings \n Being assertive \n\nMODULE 5: RECOGNISING THE ACHIEVEMENTSUnderstand  \n\n the relevance of recognizing the team members for their effort \n strategies for recognizing the team members \n\nMODULE 6: TEAMWORK  \n\n Understand team dynamics \n 5-step model of team-development \n Characteristics of a highly effective team \n Examine how to enhance the value and effectiveness of your team ● Identify opportunities for improving self and the team \n Create action- plan for applying the concepts and skills \n\nMODULE 7: DELEGATION & ACCOUNTABILITY  \n\n Importance of delegation and accountability \n Assess your current delegation and accountability strengths and areas for improvement \n Learn how to effectively communicate a delegated assignment to team members and follow through with them for accountability \n\nMODULE 8: BUILDING TRUST  \n\n Importance of trust to build productive relationships and achieving business results ● Identify the behaviours and actions that make and break trust \n How to rebuild lost or damaged trust? \n Create action plans and strategies for sustainability \n\nMODULE 9: CONFLICT MANAGEMENT  \n\n Develop awareness about your approach to managing differences at the workplace ● Explore root cause of differences and conflict \n Understand the distinctive approaches to managing differences and conflict MODULE 10: STRESS MANAGEMENT \n Identify situations and factors which lead to stress \n Understand how to handle high-pressure situations \n Explore possible outcomes when stress management techniques are employed \n\nPRICING: \n\nRM 2\,200.00 Per Person (HRD Corp Claimable Course) + 8% SSTTo inquire about pricing for our training\, please contact us for a quote. \n\n\nKindly scan or click on the link below for your. Learning Registration.For any enquiries\, please contact us at:UOA Academy Sdn BhdSuite 1-2\, Lower Level 1\, City\, The Horizon Annexe\, Avenue 7\,Bangsar South\, 59200 Kuala Lumpur\, Wilayah Persekutuan Kuala Lumpur. \nTel: 6013 482 4810 / 6016 241 3517Email: register@uoa-academy.com \n\n  \n\n \nClick Here for Registration & Further Details!  \n \nCancellation & Transfer\n\nPlease note that should this registration be cancelled fourteen (14) days before the day of the training\, a 50% cancellation charge will be imposed. If cancellation is made seven (7) days before the training\, full payment of the training will be levied. Please note that amendments can only be made to the above arrangement by giving a minimum of three (3) working days’ notice. Additionally\, a 30% upfront payment is required via Human Resource Development Corporation (HRDC) or bank transfer.  \nDisclaimer: UOA Academy reserves the right to make changes to the venue\, date\, and speaker\, including cancellation of the workshop if warranted by circumstances beyond its control.  \n\n     \n  \n 
URL:https://uoa-academy.com/events/supervisory-development-skills-2-day-leadership-course/
CATEGORIES:Interpersonal Development,Interpersonal Skill,Management,Self Development
END:VEVENT
END:VCALENDAR