BEGIN:VCALENDAR
VERSION:2.0
PRODID:-//UOA Academy - ECPv6.15.20//NONSGML v1.0//EN
CALSCALE:GREGORIAN
METHOD:PUBLISH
X-WR-CALNAME:UOA Academy
X-ORIGINAL-URL:https://uoa-academy.com
X-WR-CALDESC:Events for UOA Academy
REFRESH-INTERVAL;VALUE=DURATION:PT1H
X-Robots-Tag:noindex
X-PUBLISHED-TTL:PT1H
BEGIN:VTIMEZONE
TZID:Asia/Kuala_Lumpur
BEGIN:STANDARD
TZOFFSETFROM:+0800
TZOFFSETTO:+0800
TZNAME:+08
DTSTART:20230101T000000
END:STANDARD
END:VTIMEZONE
BEGIN:VEVENT
DTSTART;VALUE=DATE:20240723
DTEND;VALUE=DATE:20240725
DTSTAMP:20260426T120133
CREATED:20240419T004027Z
LAST-MODIFIED:20240419T034216Z
UID:21229-1721692800-1721865599@uoa-academy.com
SUMMARY:Structure Fundamental Design & Construction Method  (2 days)
DESCRIPTION:Objectives\nThe “Fundamental Design & Construction Method” course aims to provide participants with a comprehensive understanding of the foundational principles and methodologies in structural design and construction. The primary objectives include equipping participants with essential knowledge in structural engineering\, construction methods\, and design principles. Participants will gain insights into the critical factors influencing structural integrity and safety in construction projects. The course also aims to foster an appreciation for sustainability and innovation in design and construction practices. \nTarget Audience\nThis course is tailored for professionals in the fields of civil engineering\, architecture\, construction management\, and related disciplines. It caters to individuals seeking to deepen their knowledge of fundamental design and construction methodologies\, including those\ninvolved in planning\, designing\, or overseeing construction projects. The content is relevant to both early-career professionals and seasoned practitioners looking to stay abreast of the latest advancements in the field. \nLearning Outcomes\n● Develop a robust foundation in structural design and construction.\n● Acquire a comprehensive understanding of key design principles: load analysis\, material selection\, and structural stability.\n● Attain proficiency in diverse construction methods\, prioritizing safety and efficiency.\n● Critically evaluate and apply sustainable practices in design and construction for environmentally conscious projects.\n● Be well-equipped to contribute to successful and resilient construction projects\, integrating fundamental design principles with contemporary methodologies. \nCourse Outlines:\nDay 1: \nModule 1: Introduction to Structural Design and Construction Principles\n● Overview of foundational principles in structural design and construction\n● Importance of structural engineering\, construction methods\, and design principles \nModule 2: Key Design Principles\n● In-depth exploration of load analysis\, material selection\, and structural stability\n● Illustrating critical factors influencing structural integrity and safety \nModule 3: Proficiency in Construction Methods\n● Comprehensive study of diverse construction methods\, from traditional to modern\napproaches\n● Emphasis on safety and efficiency in executing construction projects \nModule 4: Sustainability and Innovation in Design and Construction\n● Fostering an appreciation for sustainable practices in design and construction\n● Exploration of innovative approaches to enhance environmental consciousness \nModule 5: Critical Factors Influencing Structural Integrity\n● Analyzing factors such as external forces\, materials\, and design decisions\n● Discussions on mitigating risks and ensuring structural safety \nDay 2:\nModule 6: Application of Design Principles in Project Planning\n● Practical applications of design principles in the planning phase\n● Group exercises and case studies to enhance application skills \nModule 7: Safety and Efficiency in Construction\n● Strategies for prioritizing safety and efficiency in construction methods\n● Best practices and industry standards for ensuring project success \nModule 8: Sustainable Practices in Project Execution\n● Examination of sustainable practices applicable to design and construction\n● Hands-on activities to integrate sustainability into project execution \nModule 9: Integration of Design Principles with Contemporary Methodologies\n● Practical guidance on integrating foundational design principles with modern methodologies\n● Industry insights on staying abreast of the latest advancements in the field \nPricing:\nRM 1\,500.00 Per Person (HRD Corp Claimable Course) + 6% SST\n \nKindly scan or click on the link below for your \nLearning Registration.\n \nFor any enquiries\, please contact us at:\n \nUOA Academy Sdn Bhd\nUOA Corporate Tower\, Lobby A\, Avenue 10\, The Vertical\nBangsar South City\, No 8 Jalan Kerinchi\n59200 Kuala Lumpur\, Malaysia.\nTel: 6019 225 0942 / 6016 806 1760 / 6016 241 3517\nEmail: register@uoa-academy.com\n \n\nhttps://www.surveymonkey.com/r/UOAAEX\n \nCancellation & Transfer\n\nPlease note that should this registration be cancelled fourteen (14) days before the day of the training\, a 50% cancellation charge will be imposed. If cancellation is made seven (7) days before the training\, full payment of the training will be levied. Please note that amendments can only be made to the above arrangement by giving a minimum of three (3) working days’ notice. Additionally\, a 30% upfront payment is required via Human Resource Development Corporation (HRDC) or bank transfer. \nDisclaimer: UOA Academy reserves the right to make changes to the venue\, date\, and speaker\,\nincluding cancellation of the workshop if warranted by circumstances beyond its control. \n\n  \n\n  \nJoin Today! \n 
URL:https://uoa-academy.com/events/structure-fundamental-design-construction-method-2-days/
ATTACH;FMTTYPE=image/jpeg:https://uoa-academy.com/wp-content/uploads/2024/04/Structure-Fundamental-Design-Construction-Method.jpg
END:VEVENT
END:VCALENDAR