BEGIN:VCALENDAR
VERSION:2.0
PRODID:-//UOA Academy - ECPv6.15.20//NONSGML v1.0//EN
CALSCALE:GREGORIAN
METHOD:PUBLISH
X-WR-CALNAME:UOA Academy
X-ORIGINAL-URL:https://uoa-academy.com
X-WR-CALDESC:Events for UOA Academy
REFRESH-INTERVAL;VALUE=DURATION:PT1H
X-Robots-Tag:noindex
X-PUBLISHED-TTL:PT1H
BEGIN:VTIMEZONE
TZID:Asia/Kuala_Lumpur
BEGIN:STANDARD
TZOFFSETFROM:+0800
TZOFFSETTO:+0800
TZNAME:+08
DTSTART:20230101T000000
END:STANDARD
END:VTIMEZONE
BEGIN:VEVENT
DTSTART;VALUE=DATE:20240619
DTEND;VALUE=DATE:20240621
DTSTAMP:20260426T102848
CREATED:20240109T071030Z
LAST-MODIFIED:20240117T140144Z
UID:11113-1718755200-1718927999@uoa-academy.com
SUMMARY:Strategy Essentials for Project Managers (2 days)
DESCRIPTION:Objectives \nThe Strategy Essentials for Project Managers course is designed to equip project managers with essential strategic skills and knowledge to excel in their roles. The objective is to provide participants with a comprehensive understanding of strategic management principles\, enabling them to effectively plan\, execute\, and oversee projects aligned with organizational goals. The program aims to empower project managers to navigate complex challenges\, make informed decisions\, and contribute strategically to the overall success of their projects and the organization. \nTarget Audience \nThis program is specifically tailored for project managers\, team leaders\, and middle management responsible for project execution and delivery. It is suitable for individuals at various levels of project management experience\, from entry-level to seasoned project managers. The content is crafted to address the unique challenges and responsibilities faced by project managers\, ensuring that participants acquire the necessary strategic skills to enhance their project management capabilities. \nLearning Outcomes  \n\nGain insights into aligning project objectives with organizational strategies for overall business success.\nDevelop proficiency in risk management to navigate complexities in projects.\nEnhance leadership abilities by leading projects with a strategic mindset.\nDevelop the capability to foster adaptability and innovation in project management.\n\n\nCourse Outlines:\n \nDay 1: \nModule 1: Introduction to Strategic Project Management \n\nUnderstanding the significance of strategic management in project roles\nOverview of course objectives and structure\nAligning individual project goals with organizational strategies\n\nModule 2: Comprehensive Understanding of Strategic Principles \n\nDeveloping a solid foundation in strategic management principles\nEnsuring projects are aligned with organizational goals\nCase studies on successful strategic project management\n\nModule 3: Strategic Planning for Project Execution \n\nAcquiring skills in strategic planning for effective project execution\nTools and techniques for aligning project plans with organizational strategies\nHands-on exercises and real-world applications\n\nModule 4: Proficiency in Risk Management  \n\nDeveloping proficiency in risk management for navigating project complexities\nIdentifying\, assessing\, and mitigating project risks\nCase studies on risk management in successful projects\n\nDay 2: \nModule 5:  Leadership with a Strategic Mindset \n\nEnhancing leadership abilities by leading projects with a strategic mindset\nStrategies for effective decision-making in project management\nPractical approaches to leading teams strategically\n\nModule 6: Fostering Adaptability and Innovation \n\nDeveloping the capability to foster adaptability and innovation in project management\nEncouraging a culture of innovation within project teams\nCase studies on innovative project management approaches\n\nModule 7: Interactive Workshops and Case Studies \n\nApplying learned concepts in interactive workshops\nAnalyzing real-world case studies for strategic project management\nGroup discussions and problem-solving exercises\n\nModule 8: Continuous Improvement Strategies \n\nStrategies for continuous improvement in strategic project management\nFeedback mechanisms and learning from project experiences\nDeveloping personal action plans for ongoing growth\n\n\nPricing:\nRM 1\,500.00 Per Person (HRD Corp Claimable Course) + 6% SST\n \nKindly scan or click on the link below for your \nLearning Registration.\n \nFor any enquiries\, please contact us at:\n \nUOA Academy Sdn Bhd\nUOA Corporate Tower\, Lobby A\, Avenue 10\, The Vertical\nBangsar South City\, No 8 Jalan Kerinchi\n59200 Kuala Lumpur\, Malaysia.\nTel: 6019 225 0942 / 6016 806 1760 / 6016 241 3517\nEmail: register@uoa-academy.com\n \n\nhttps://www.surveymonkey.com/r/UOAAEX\n \nCancellation & Transfer\n\nPlease note that should this registration be cancelled fourteen (14) days before the day of the training\, a 50% cancellation charge will be imposed. If cancellation is made seven (7) days before the training\, full payment of the training will be levied. Please note that amendments can only be made to the above arrangement by giving a minimum of three (3) working days’ notice. Additionally\, a 30% upfront payment is required via Human Resource Development Corporation (HRDC) or bank transfer. \nDisclaimer: UOA Academy reserves the right to make changes to the venue\, date\, and speaker\,\nincluding cancellation of the workshop if warranted by circumstances beyond its control. \n\n  \n\n  \nJoin Today! \n 
URL:https://uoa-academy.com/events/strategy-essentials-for-project-managers/
ATTACH;FMTTYPE=image/png:https://uoa-academy.com/wp-content/uploads/2024/01/Strategy-Essentials-for-Project-Managers.png
END:VEVENT
END:VCALENDAR