BEGIN:VCALENDAR
VERSION:2.0
PRODID:-//UOA Academy - ECPv6.15.20//NONSGML v1.0//EN
CALSCALE:GREGORIAN
METHOD:PUBLISH
X-WR-CALNAME:UOA Academy
X-ORIGINAL-URL:https://uoa-academy.com
X-WR-CALDESC:Events for UOA Academy
REFRESH-INTERVAL;VALUE=DURATION:PT1H
X-Robots-Tag:noindex
X-PUBLISHED-TTL:PT1H
BEGIN:VTIMEZONE
TZID:Asia/Kuala_Lumpur
BEGIN:STANDARD
TZOFFSETFROM:+0800
TZOFFSETTO:+0800
TZNAME:+08
DTSTART:20240101T000000
END:STANDARD
END:VTIMEZONE
BEGIN:VEVENT
DTSTART;VALUE=DATE:20250409
DTEND;VALUE=DATE:20250411
DTSTAMP:20260423T211432
CREATED:20250224T061346Z
LAST-MODIFIED:20250403T024308Z
UID:39347-1744156800-1744329599@uoa-academy.com
SUMMARY:Speak and Write Confidently with Better English (2 days)
DESCRIPTION:Objectives \nSpeak and Write Confidently with Better English course is designed to help participants improve their speaking and writing skills in the English language. This interactive training program focuses on enhancing communication effectiveness\, building confidence\, and mastering the essentials of spoken and written English. Participants will learn practical strategies\, techniques\, and best practices to express themselves fluently\, articulate their ideas clearly\, and convey their message with confidence in both spoken and written forms. \nTarget Audience \nThe Speak and Write Confidently with Better English course is designed for all employees in any organization who want to enhance their English language skills and improve their abilities in speaking and writing. It is suitable for employees at all levels\, from entry-level to managerial positions\, regardless of their current proficiency in English. \nLearning Outcomes \n\nExpand their vocabulary and choose words more effectively for clearer communication.\nDevelop a strong foundation in grammar and reduce common mistakes in speaking and writing.\nSpeak with confidence\, clarity\, and proper pronunciation\, overcoming nervousness and improving public speaking skills.\nEngage in conversations with ease\, building rapport and using appropriate expressions in various workplace settings.\nWrite clear and coherent texts with proper structure\, organization\, and proofreading techniques.\n\nCourse Outlines: \nDay 1: \nModule 1: Building Vocabulary and Grammar Foundation \n\nExpanding vocabulary and improving word choice\nGrammar essentials for effective communication\nCommon mistakes to avoid in spoken and written English\n\nModule 2: Developing Effective Speaking Skills \n\nPronunciation and intonation for clear communication\nStrategies for overcoming nervousness and speaking with confidence\nEffective techniques for public speaking and presentations\n\nModule 3: Enhancing Listening and Comprehension Skills \n\nActive listening techniques to improve understanding\nComprehending different accents and speech patterns\nNote-taking and summarizing skills for better retention\n\nModule 4: Mastering Conversational Skills \n\nInitiating and maintaining conversations\nBuilding rapport and active participation in discussions\nPolite expressions and effective communication in various social settings\n\nDay 2: \nModule 5: Writing Clear and Coherent Texts \n\nStructuring and organizing written communication effectively\nDeveloping coherent paragraphs and logical flow\nProofreading and editing techniques for error-free writing\n\nModule 6: Improving Writing Style and Tone \n\nUsing appropriate language and tone for different contexts\nDeveloping a concise and engaging writing style\nAdapting writing for different purposes (e.g.\, emails\, reports\, business correspondence)\n\nModule 7: Enhancing Grammar and Punctuation Skills \n\nCommon grammar and punctuation rules\nAvoiding common errors in writing\nPolishing writing skills for accuracy and clarity\n\nModule 8: Effective Business Communication \n\nProfessional communication skills for the workplace\nWriting effective emails\, memos\, and reports\nCommunicating with confidence in business meetings and presentation\n\nPRICING: \n\nContact us for pricing information \n\n \nKindly scan or click on the link below for your \nLearning Registration.\n \nFor any enquiries\, please contact us at:\n \nUOA Academy Sdn Bhd\nUOA Corporate Tower\, Lobby A\, Avenue 10\, The Vertical\nBangsar South City\, No 8 Jalan Kerinchi\n59200 Kuala Lumpur\, Malaysia.\nTel: 603-2381 0478 | 6012-575 1767\nEmail: register@uoa-academy.com\n \n\nhttps://www.surveymonkey.com/r/EXTREG\n \nCancellation & Transfer\n\nPlease note that should this registration be cancelled fourteen (14) days before the day of the training\, a 50% cancellation charge will be imposed. If cancellation is made seven (7) days before the training\, full payment of the training will be levied. Please note that amendments can only be made to the above arrangement by giving a minimum of three (3) working days’ notice. Additionally\, a 30% upfront payment is required via Human Resource Development Corporation (HRDC) or bank transfer. \nDisclaimer: UOA Academy reserves the right to make changes to the venue\, date\, and speaker\,\nincluding cancellation of the workshop if warranted by circumstances beyond its control. \n\n  \n\n  \nJoin Today! \n 
URL:https://uoa-academy.com/events/speak-and-write-confidently-with-better-english/
CATEGORIES:Interpersonal Development,Interpersonal Skill,Management,Self Development
ATTACH;FMTTYPE=image/jpeg:https://uoa-academy.com/wp-content/uploads/2025/02/Speak-and-Write-Confidently-with-Better-English.jpg
END:VEVENT
END:VCALENDAR