BEGIN:VCALENDAR
VERSION:2.0
PRODID:-//UOA Academy - ECPv6.15.20//NONSGML v1.0//EN
CALSCALE:GREGORIAN
METHOD:PUBLISH
X-WR-CALNAME:UOA Academy
X-ORIGINAL-URL:https://uoa-academy.com
X-WR-CALDESC:Events for UOA Academy
REFRESH-INTERVAL;VALUE=DURATION:PT1H
X-Robots-Tag:noindex
X-PUBLISHED-TTL:PT1H
BEGIN:VTIMEZONE
TZID:Asia/Kuala_Lumpur
BEGIN:STANDARD
TZOFFSETFROM:+0800
TZOFFSETTO:+0800
TZNAME:+08
DTSTART:20230101T000000
END:STANDARD
END:VTIMEZONE
BEGIN:VEVENT
DTSTART;VALUE=DATE:20240925
DTEND;VALUE=DATE:20240927
DTSTAMP:20260421T151953
CREATED:20240109T041245Z
LAST-MODIFIED:20240423T033413Z
UID:11110-1727222400-1727395199@uoa-academy.com
SUMMARY:Scaffolding Training
DESCRIPTION:Objectives \nThe objective of the Scaffolding Training program is to equip participants with the necessary skills and knowledge to effectively provide instructional support in educational or training settings. The program aims to train individuals\, such as educators\, trainers\, or facilitators\, in implementing scaffolding techniques to guide learners through the acquisition of new skills and concepts. By the end of the training\, participants will be adept at tailoring support to learners’ needs\, fostering a more effective and supportive learning environment. \nTarget Audience \nThis Scaffolding Training is designed for educators\, trainers\, instructional designers\, and anyone involved in facilitating learning experiences. It is suitable for professionals across various fields\, including education\, corporate training\, and skill development programs. The content is crafted to address the unique needs of those responsible for guiding others through the learning process\, enhancing their ability to provide targeted and effective support. \nLearning Outcomes  \n\nGain in-depth knowledge of scaffolding techniques and their application in educational settings.\nDevelop skills in modeling effective learning behaviors for enhanced understanding.\nBe well-equipped to foster engaging and successful learning experiences.\nEnhance the ability to facilitate knowledge retention in learners through effective scaffolding.\n\nCourse Outlines: \nDay 1: \nModule 1: Introduction to Scaffolding in Education \n\nUnderstanding the importance of scaffolding in learning\nOverview of course objectives and structure\nRole of scaffolding in facilitating effective learning experiences\n\nModule 2: In-depth Knowledge of Scaffolding Techniques \n\nExploring various scaffolding techniques and their applications\nCase studies on successful implementation of scaffolding in educational contexts\nPractical exercises for hands-on learning\n\nModule 3: Tailoring Support to Individual Learner Needs \n\nDeveloping skills to tailor instructional support based on learners’ unique needs\nStrategies for creating a supportive and adaptive learning environment\nReal-world examples of personalized scaffolding approaches\n\nModule 4: Modeling Effective Learning Behaviors \n\nCultivating skills in modeling effective learning behaviors\nDemonstrating behaviors that enhance understanding and engagement\nRole-playing and simulations for practical application\n\nDay 2: \nModule 5: Fostering Engaging Learning Experiences \n\nEquipping participants to foster engaging and successful learning experiences\nStrategies for creating interactive and participatory learning sessions\nIncorporating technology and multimedia for enhanced engagement\n\nModule 6: Facilitating Knowledge Retention \n\nEnhancing the ability to facilitate knowledge retention through effective scaffolding\nTechniques for reinforcing and consolidating learned concepts\nContinuous assessment and feedback for retention improvement\n\nModule 7: Strategies for Continuous Enhancement\n \n\nExplore methodologies for continuously refining scaffolding techniques.\nImplement effective feedback mechanisms to glean insights from experiences.\nDevelop personalized action plans to sustain ongoing professional growth. \n\nPricing:\nRM 1\,500.00 Per Person (HRD Corp Claimable Course) + 6% SST\n \nKindly scan or click on the link below for your \nLearning Registration.\n \nFor any enquiries\, please contact us at:\n \nUOA Academy Sdn Bhd\nUOA Corporate Tower\, Lobby A\, Avenue 10\, The Vertical\nBangsar South City\, No 8 Jalan Kerinchi\n59200 Kuala Lumpur\, Malaysia.\nTel: 6019 225 0942 / 6016 806 1760 / 6016 241 3517\nEmail: register@uoa-academy.com\n \n\nhttps://www.surveymonkey.com/r/UOAAEX\n \nCancellation & Transfer\n\nPlease note that should this registration be cancelled fourteen (14) days before the day of the training\, a 50% cancellation charge will be imposed. If cancellation is made seven (7) days before the training\, full payment of the training will be levied. Please note that amendments can only be made to the above arrangement by giving a minimum of three (3) working days’ notice. Additionally\, a 30% upfront payment is required via Human Resource Development Corporation (HRDC) or bank transfer. \nDisclaimer: UOA Academy reserves the right to make changes to the venue\, date\, and speaker\,\nincluding cancellation of the workshop if warranted by circumstances beyond its control. \n\n  \n\n  \nJoin Today! \n 
URL:https://uoa-academy.com/events/scaffolding-training/
ATTACH;FMTTYPE=image/png:https://uoa-academy.com/wp-content/uploads/2024/01/Scaffolding-Training.png
END:VEVENT
END:VCALENDAR