BEGIN:VCALENDAR
VERSION:2.0
PRODID:-//UOA Academy - ECPv6.15.20//NONSGML v1.0//EN
CALSCALE:GREGORIAN
METHOD:PUBLISH
X-WR-CALNAME:UOA Academy
X-ORIGINAL-URL:https://uoa-academy.com
X-WR-CALDESC:Events for UOA Academy
REFRESH-INTERVAL;VALUE=DURATION:PT1H
X-Robots-Tag:noindex
X-PUBLISHED-TTL:PT1H
BEGIN:VTIMEZONE
TZID:Asia/Kuala_Lumpur
BEGIN:STANDARD
TZOFFSETFROM:+0800
TZOFFSETTO:+0800
TZNAME:+08
DTSTART:20250101T000000
END:STANDARD
END:VTIMEZONE
BEGIN:VEVENT
DTSTART;VALUE=DATE:20260909
DTEND;VALUE=DATE:20260910
DTSTAMP:20260422T014427
CREATED:20260113T075822Z
LAST-MODIFIED:20260113T080041Z
UID:50736-1788912000-1788998399@uoa-academy.com
SUMMARY:Safety Measures & Emergency Actions Training Course (1 Day)
DESCRIPTION:Objectives  \nThe objective of this training course is to equip participants with essential knowledge and practical skills to ensure a safe and secure environment in various settings. This programme focuses on core safety measures\, risk awareness\, and effective emergency response actions\, enabling participants to respond proactively to incidents\, reduce risks\, and manage emergencies confidently and professionally.  \nTarget Audience  \nThis training course is designed for security personnel\, including new hires and experienced officers\, who are responsible for maintaining safety\, security\, and emergency readiness within their assigned premises.  \nLearning Outcomes  \n\n Understand key safety and security protocols relevant to their roles \nIdentify workplace risks and potential hazards effectively \n Apply physical security and access control measures appropriately \nRespond to fire and emergency situations using correct procedures \nPerform basic emergency response and first aid actions \n Participate effectively in emergency drills and crisis situations \n\nCourse Outlines:  \nDay 1:  \nModule 1: Introduction to Safety Measures & Security Responsibilities  \n\n Importance of safety in security operations \n Legal and ethical considerations in safety management\nRoles\, duties\, and protocols of security officers \n Creating a safety-conscious mindset \n\nModule 2: Risk Assessment & Hazard Identification  \n\n Principles of risk assessment \n Identifying common workplace and site-specific hazards \nPreventive measures to minimise risks \n Reporting and documentation of safety concerns \n\nModule 3: Physical Security & Access Control Measures  \n\n Access control and identification procedures \n Visitor management practices \n Surveillance and monitoring systems \n Perimeter security measures \n\nModule 4: Fire Safety & Emergency Evacuation  \n\n Fire prevention and common fire hazards \n Emergency evacuation procedures \n Roles during fire emergencies \n Proper use of fire extinguishers \n\nModule 5: Emergency Response\, First Aid & Crisis Handling  \n\n Emergency response procedures and communication protocols \nCoordination with emergency services \n Recognising common injuries and basic first aid response \nDe-escalation techniques for volatile situations \n Crisis identification and response strategies \n\nModule 6: Practical Drills\, Review & Assessment  \n\n Simulated emergency and evacuation drills \n Scenario-based role play and response exercises \n Review of key concepts and best practices \n Knowledge assessment and course wrap-up \n\nPRICING: \n\nRM 1\,500.00 Per Person (HRD Corp Claimable Course) + 8% SSTTo inquire about pricing for our training\, please contact us for a quote. \n\n\nKindly scan or click on the link below for your. Learning Registration.For any enquiries\, please contact us at:UOA Academy Sdn BhdSuite 1-2\, Lower Level 1\, City\, The Horizon Annexe\, Avenue 7\,Bangsar South\, 59200 Kuala Lumpur\, Wilayah Persekutuan Kuala Lumpur. \nTel: 6013 482 4810 / 6016 241 3517Email: register@uoa-academy.com \n\n  \n\n \nClick Here for Registration & Further Details!  \n \nCancellation & Transfer\n\nPlease note that should this registration be cancelled fourteen (14) days before the day of the training\, a 50% cancellation charge will be imposed. If cancellation is made seven (7) days before the training\, full payment of the training will be levied. Please note that amendments can only be made to the above arrangement by giving a minimum of three (3) working days’ notice. Additionally\, a 30% upfront payment is required via Human Resource Development Corporation (HRDC) or bank transfer.  \nDisclaimer: UOA Academy reserves the right to make changes to the venue\, date\, and speaker\, including cancellation of the workshop if warranted by circumstances beyond its control.  \n\n     \n  \n 
URL:https://uoa-academy.com/events/safety-measures-emergency-actions-course/
CATEGORIES:Interpersonal Development,Interpersonal Skill,Management,Self Development
END:VEVENT
END:VCALENDAR