BEGIN:VCALENDAR
VERSION:2.0
PRODID:-//UOA Academy - ECPv6.15.20//NONSGML v1.0//EN
CALSCALE:GREGORIAN
METHOD:PUBLISH
X-WR-CALNAME:UOA Academy
X-ORIGINAL-URL:https://uoa-academy.com
X-WR-CALDESC:Events for UOA Academy
REFRESH-INTERVAL;VALUE=DURATION:PT1H
X-Robots-Tag:noindex
X-PUBLISHED-TTL:PT1H
BEGIN:VTIMEZONE
TZID:Asia/Kuala_Lumpur
BEGIN:STANDARD
TZOFFSETFROM:+0800
TZOFFSETTO:+0800
TZNAME:+08
DTSTART:20230101T000000
END:STANDARD
END:VTIMEZONE
BEGIN:VEVENT
DTSTART;VALUE=DATE:20240305
DTEND;VALUE=DATE:20240307
DTSTAMP:20260420T070053
CREATED:20240108T082632Z
LAST-MODIFIED:20240108T082632Z
UID:11074-1709596800-1709769599@uoa-academy.com
SUMMARY:Personal Protective Equipment (PPE) for Construction (2 days)
DESCRIPTION:Objectives \nThe Personal Protective Equipment (PPE) for Construction course aims to educate participants on the importance of proper PPE usage to enhance safety in construction settings. The primary objective is to equip participants with the knowledge and skills needed to identify\, select\, and use appropriate PPE based on specific job hazards. The course focuses on promoting a safety-first mindset\, emphasizing compliance with industry regulations\, and fostering a culture of risk awareness and mitigation. \nTarget Audience \nThis course is specifically designed for individuals working in the construction industry\, including construction supervisors\, site managers\, and safety officers. It is tailored for those seeking a comprehensive understanding of the importance of PPE in preventing occupational hazards and ensuring a secure work environment. The content is applicable to both experienced construction professionals and those new to the industry. \nLearning Outcomes  \n\nAcquire the ability to assess job hazards effectively and select appropriate PPE to mitigate risks.\nEmpower participants to contribute to a safer construction environment by promoting PPE compliance.\nEnhance decision-making skills related to PPE selection and usage in construction settings.\nEmphasizing the importance of PPE in preventing occupational hazards.\nEquip participants with the knowledge and skills necessary to uphold industry regulations and standards related to PPE in construction.\n\n\nCourse Outlines: \nDay 1: \nModule 1: Introduction to PPE in Construction \n\nUnderstanding the importance of PPE in enhancing safety.\nOverview of industry regulations and standards.\n\nModule 2: Identifying Job Hazards \n\nDeveloping skills to assess and identify construction job hazards.\nRecognizing potential risks and occupational hazards.\n\nModule 3: Proper Usage and Maintenance \n\nGaining practical skills in the correct usage and maintenance of PPE.\nEnsuring optimal effectiveness and longevity of PPE\n\nDay 2: \nModule 4: Promoting PPE Compliance \n\nEmpowering participants to promote a safety-first mindset.\nStrategies for fostering PPE compliance in construction settings.\n\nModule 5: Cultivating a Safety Culture \n\nEmphasizing the importance of PPE in preventing occupational hazards.\nFostering a culture of risk awareness and mitigation.\n\nModule 6: Industry Regulations and Standards \n\nEquipping participants with the knowledge and skills to uphold industry regulations.\nEnsuring compliance with PPE standards in construction.\n\nPricing:\n \nRM 1\,500.00 Per Person (HRD Corp Claimable Course) + 6% SST\n \nKindly scan or click on the link below for your \nLearning Registration.\n \nFor any enquiries\, please contact us at:\n \nUOA Academy Sdn Bhd\nUOA Corporate Tower\, Lobby A\, Avenue 10\, The Vertical\nBangsar South City\, No 8 Jalan Kerinchi\n59200 Kuala Lumpur\, Malaysia.\nTel: 6019 225 0942 / 6016 806 1760 / 6016 241 3517\nEmail: register@uoa-academy.com\n \n\nhttps://www.surveymonkey.com/r/UOAAEX\n \nCancellation & Transfer\n\nPlease note that should this registration be cancelled fourteen (14) days before the day of the training\, a 50% cancellation charge will be imposed. If cancellation is made seven (7) days before the training\, full payment of the training will be levied. Please note that amendments can only be made to the above arrangement by giving a minimum of three (3) working days’ notice. Additionally\, a 30% upfront payment is required via Human Resource Development Corporation (HRDC) or bank transfer. \nDisclaimer: UOA Academy reserves the right to make changes to the venue\, date\, and speaker\,\nincluding cancellation of the workshop if warranted by circumstances beyond its control. \n\n  \n\n  \nJoin Today!
URL:https://uoa-academy.com/events/personal-protective-equipment-ppe-for-construction/
ATTACH;FMTTYPE=image/png:https://uoa-academy.com/wp-content/uploads/2024/01/Personal-Protective-Equipment-PPE-for-Construction.png
END:VEVENT
END:VCALENDAR