BEGIN:VCALENDAR
VERSION:2.0
PRODID:-//UOA Academy - ECPv6.15.20//NONSGML v1.0//EN
CALSCALE:GREGORIAN
METHOD:PUBLISH
X-WR-CALNAME:UOA Academy
X-ORIGINAL-URL:https://uoa-academy.com
X-WR-CALDESC:Events for UOA Academy
REFRESH-INTERVAL;VALUE=DURATION:PT1H
X-Robots-Tag:noindex
X-PUBLISHED-TTL:PT1H
BEGIN:VTIMEZONE
TZID:Asia/Kuala_Lumpur
BEGIN:STANDARD
TZOFFSETFROM:+0800
TZOFFSETTO:+0800
TZNAME:+08
DTSTART:20230101T000000
END:STANDARD
END:VTIMEZONE
BEGIN:VEVENT
DTSTART;VALUE=DATE:20240912
DTEND;VALUE=DATE:20240913
DTSTAMP:20260421T171417
CREATED:20240109T033349Z
LAST-MODIFIED:20240117T131320Z
UID:11101-1726099200-1726185599@uoa-academy.com
SUMMARY:Marketing Management of Social Medias (1 day)
DESCRIPTION:Objectives \nThe Marketing Management of Social Media course is designed to equip participants with the essential knowledge and skills required to effectively manage and leverage social media platforms for marketing purposes. The course aims to provide a comprehensive understanding of social media marketing strategies\, tools\, and best practices. Participants will gain insights into creating and implementing successful social media campaigns that align with business goals and engage target audiences. \nTarget Audience \nThis course is designed for marketing professionals\, social media managers\, executive\, middle management\, and anyone involved in developing and implementing social media marketing strategies. It caters to individuals seeking to enhance their skills in managing and optimizing social media channels to promote brands\, products\, or services. The content is crafted to benefit participants at various levels of expertise\, from beginners to experienced marketers. \nLearning Outcomes  \n\nAcquire skills for the strategic management of social media platforms.\nLearn strategies to engage and grow an online audience effectively.\nLearn how to align social media efforts with broader marketing goals.\nGain empowerment to navigate the dynamic landscape of social media marketing.\nContribute effectively to the success of organizations or clients through strategic social media management.\n\n\nCourse Outlines:\n \nModule 1: Social Media Marketing Strategies \n\nComprehensive understanding of effective social media marketing strategies\nExploring tools and best practices in the field\nCase studies on successful social media marketing implementations\n\nModule 2: Creating Impactful Social Media Campaigns \n\nStrategies for creating and executing successful social media campaigns\nCrafting content that resonates with target audiences\nUtilizing visuals\, videos\, and other multimedia elements\n\nModule 3: Strategic Management of Social Media Platforms \n\nAcquiring skills for the strategic management of various social media platforms\nTools and techniques for optimizing content for different platforms\nEnsuring brand consistency across social media channels\n\nModule 4: Audience Engagement and Growth  \n\nTechniques for engaging and growing an online audience effectively\nBuilding and nurturing online communities\nLeveraging user-generated content and interactive features\n\nModule 5: Navigating the Dynamic Landscape \n\nEmpowerment to navigate the dynamic landscape of social media marketing\nStaying updated on industry trends and emerging platforms\nAdaptation strategies for changing algorithms and user behaviors \n\nPricing:\nRM 1\,000.00 Per Person (HRD Corp Claimable Course) + 6% SST\n \nKindly scan or click on the link below for your \nLearning Registration.\n \nFor any enquiries\, please contact us at:\n \nUOA Academy Sdn Bhd\nUOA Corporate Tower\, Lobby A\, Avenue 10\, The Vertical\nBangsar South City\, No 8 Jalan Kerinchi\n59200 Kuala Lumpur\, Malaysia.\nTel: 6019 225 0942 / 6016 806 1760 / 6016 241 3517\nEmail: register@uoa-academy.com\n \n\nhttps://www.surveymonkey.com/r/UOAAEX\n \nCancellation & Transfer\n\nPlease note that should this registration be cancelled fourteen (14) days before the day of the training\, a 50% cancellation charge will be imposed. If cancellation is made seven (7) days before the training\, full payment of the training will be levied. Please note that amendments can only be made to the above arrangement by giving a minimum of three (3) working days’ notice. Additionally\, a 30% upfront payment is required via Human Resource Development Corporation (HRDC) or bank transfer. \nDisclaimer: UOA Academy reserves the right to make changes to the venue\, date\, and speaker\,\nincluding cancellation of the workshop if warranted by circumstances beyond its control. \n\n  \n\n  \nJoin Today! \n 
URL:https://uoa-academy.com/events/marketing-management-of-social-medias/
ATTACH;FMTTYPE=image/png:https://uoa-academy.com/wp-content/uploads/2024/01/Marketing-Management-of-Social-Medias.png
END:VEVENT
END:VCALENDAR