BEGIN:VCALENDAR
VERSION:2.0
PRODID:-//UOA Academy - ECPv6.15.20//NONSGML v1.0//EN
CALSCALE:GREGORIAN
METHOD:PUBLISH
X-WR-CALNAME:UOA Academy
X-ORIGINAL-URL:https://uoa-academy.com
X-WR-CALDESC:Events for UOA Academy
REFRESH-INTERVAL;VALUE=DURATION:PT1H
X-Robots-Tag:noindex
X-PUBLISHED-TTL:PT1H
BEGIN:VTIMEZONE
TZID:UTC
BEGIN:STANDARD
TZOFFSETFROM:+0000
TZOFFSETTO:+0000
TZNAME:UTC
DTSTART:20220101T000000
END:STANDARD
END:VTIMEZONE
BEGIN:VEVENT
DTSTART;VALUE=DATE:20231220
DTEND;VALUE=DATE:20231222
DTSTAMP:20260421T174742
CREATED:20230720T190901Z
LAST-MODIFIED:20230720T200537Z
UID:8368-1703030400-1703203199@uoa-academy.com
SUMMARY:Managing Multiple Tasks and Work Priorities
DESCRIPTION:Objectives\nThe “Managing Multiple Tasks and Work Priorities” course is designed to equip participants with effective strategies and techniques for managing their workload\, prioritizing tasks\, and maximizing productivity in a dynamic and fast-paced work environment. Through practical exercises\, discussions\, and real-life scenarios\, participants will learn how to effectively handle multiple responsibilities\, make informed decisions on task prioritization\, and enhance their time management skills. \nTarget Audience\nThe “Managing Multiple Tasks and Work Priorities” course is designed for professionals at all levels who are faced with managing multiple tasks\, responsibilities\, and competing priorities in their work. It is suitable for individuals from various industries and roles\, including managers\, supervisors\, project leads\, team members\, and anyone seeking to enhance their task management and work prioritization skills. \nLearning Outcomes\n● Assess and analyze their workload to effectively manage multiple tasks and responsibilities.\n● Apply proven time management techniques to maximize productivity and minimize time wastage.\n● Prioritize tasks based on importance\, urgency\, and organizational goals.\n● Implement strategies to minimize interruptions and distractions and maintain focus. \nCourse Outlines:\nDay 1:\nModule 1: Introduction to Managing Multiple Tasks and Work Priorities\n● Understanding the challenges and impact of managing multiple tasks.\n● Identifying common time management pitfalls and how they affect productivity.\n● Setting goals for improving task management and work prioritization.\n● Analyzing Workload and Task Prioritization \nModule 2: Assessing the current workload and identifying tasks and responsibilities.\n● Applying prioritization techniques to categorize tasks based on importance and urgency.\n● Identifying key factors and criteria for effective task prioritization.\n● Time Management Techniques \nModule 3: Exploring proven time management strategies and techniques.\n● Setting realistic deadlines and creating a time management plan.\n● Overcoming procrastination and managing distractions.\n● Managing Interruptions and Distractions \nModule 4: Identifying common interruptions and distractions in the workplace.\n● Implementing strategies to minimize and effectively handle interruptions.\n● Developing techniques to regain focus and maintain productivity.\n● Delegating and Outsourcing Tasks \nModule 5: Recognizing tasks that can be delegated or outsourced..\n● Understanding the criteria for determining tasks that are suitable for delegation or outsourcing.\n● Identifying tasks that are repetitive\, time-consuming\, or outside your core competency.\n● Evaluating the potential benefits and risks associated with delegating or outsourcing specific tasks. \nDay 2:\nModule 6: Effective Task and Project Planning\n● Breaking down projects into manageable tasks and creating action plans.\n● Utilizing task management tools and software for planning and tracking progress.\n● Incorporating flexibility and adaptability in task and project planning. \nModule 7: Prioritization Decision-Making\n● Making informed decisions on task prioritization based on organizational goals and deadlines.\n● Applying techniques such as the Eisenhower Matrix or ABC Analysis.\n● Evaluating trade-offs and considering the impact of task prioritization decisions. \nModule 8: Managing Work Overload and Stress\n● Recognizing signs of work overload and stress.\n● Implementing stress management techniques and self-care practices.\n● Seeking support and resources to manage work-related stress effectively. \nModule 9: Effective Communication and Collaboration\n● Communicating task priorities and deadlines clearly to stakeholders.\n● Collaborating with team members and stakeholders to manage interdependencies.\n● Resolving conflicts and managing competing priorities effectively. \nModule 10: Flexibility and Adaptability\n● Developing a flexible mindset to adapt to changing priorities and unforeseen circumstances.\n● Embracing agile approaches and adjusting plans as needed.\n● Managing conflicting demands and reprioritizing tasks when necessary. \nModule 11: Personal Productivity and Continuous Improvement\n● Developing personal productivity habits and routines.\n● Reviewing and reflecting on task management practices for continuous improvement.\n● Leveraging technology and tools for enhanced productivity. \nModule 12: Conclusion and Action Planning\n● Summarizing key takeaways from the course.\n● Creating an action plan for implementing task management and work prioritization strategies.\n● Setting goals and accountability measures for ongoing improvement. \nPricing:\nRM 1\,000.00 Per Person (HRD Corp Claimable Course)\n \nKindly scan or click on the link below for your \nLearning Registration.\n \nFor any enquiries\, please contact us at:\n \nUOA Academy Sdn Bhd\nUOA Corporate Tower\, Lobby A\, Avenue 10\, The Vertical\nBangsar South City\, No 8 Jalan Kerinchi\n59200 Kuala Lumpur\, Malaysia.\nTel: 6019 225 0942 / 6016 806 1760 / 6016 241 3517\nEmail: register@uoa-academy.com\n \n\nhttps://www.surveymonkey.com/r/uoaapb \n \nCancellation & Transfer\nPlease note that should this registration be cancelled fourteen (14) days before the day of the training\, a 50% cancellation charge will be imposed. If cancellation is made seven (7) days before the training\, full payment of the training will be levied. Please note that amendments can only be made to the above arrangement by giving a minimum of three (3) working days’ notice.\n \nDisclaimer: UOA Academy reserves the right to make changes to the venue\, date\, and speaker\, including cancellation of the workshop if warranted by circumstances beyond its control.\n  \n\n  \nJoin Today!
URL:https://uoa-academy.com/events/managing-multiple-tasks-and-work-priorities-2/
END:VEVENT
END:VCALENDAR