BEGIN:VCALENDAR
VERSION:2.0
PRODID:-//UOA Academy - ECPv6.15.20//NONSGML v1.0//EN
CALSCALE:GREGORIAN
METHOD:PUBLISH
X-WR-CALNAME:UOA Academy
X-ORIGINAL-URL:https://uoa-academy.com
X-WR-CALDESC:Events for UOA Academy
REFRESH-INTERVAL;VALUE=DURATION:PT1H
X-Robots-Tag:noindex
X-PUBLISHED-TTL:PT1H
BEGIN:VTIMEZONE
TZID:Asia/Kuala_Lumpur
BEGIN:STANDARD
TZOFFSETFROM:+0800
TZOFFSETTO:+0800
TZNAME:+08
DTSTART:20250101T000000
END:STANDARD
END:VTIMEZONE
BEGIN:VEVENT
DTSTART;VALUE=DATE:20260709
DTEND;VALUE=DATE:20260710
DTSTAMP:20260424T183149
CREATED:20260113T021556Z
LAST-MODIFIED:20260113T021556Z
UID:50691-1783555200-1783641599@uoa-academy.com
SUMMARY:Scaffolding Training  (1 Day)
DESCRIPTION:Objectives  \nThe Scaffolding Training programme is designed to equip participants with the essential knowledge and practical skills to provide effective instructional support in learning environments. The programme focuses on understanding scaffolding concepts\, applying appropriate techniques\, and tailoring support to learners’ needs to enhance engagement\, understanding\, and retention.  \nThis 1-day programme consolidates key concepts and practical elements from the original design\, enabling participants to apply scaffolding strategies confidently within educational\, training\, and workplace learning settings.  \nTarget Audience  \n\n Educators and lecturers \n Trainers and facilitators \n Instructional designers \n Corporate trainers and learning practitioners \n Individuals involved in facilitating learning and development programmes \n\nLearning Outcomes  \nBy the end of this programme\, participants will be able to:  \n\n Understand the importance of scaffolding in effective learning \n Apply key scaffolding techniques in instructional settings \n Tailor learning support to meet individual learner needs \n Model effective learning behaviours to enhance understanding \n Foster engaging learning experiences and improve knowledge retention \n\nCourse Outlines:  \nDay 1  \nModule 1: Introduction to Scaffolding in Learning  \n\n Understanding the concept and importance of scaffolding \nRole of scaffolding in facilitating effective learning experiences \nOverview of programme objectives and structure \n\nModule 2: Scaffolding Techniques & Applications  \n\n Overview of various scaffolding techniques \n Application of scaffolding methods in different learning contexts \nCase examples of successful scaffolding implementation \nPractical exercises for hands-on understanding \n\nModule 3: Tailoring Support to Learner Needs  \n\n Identifying individual learner needs \n Strategies for adapting instructional support \n Creating a supportive and adaptive learning environment \nReal-world examples of personalised scaffolding approaches \n\nModule 4: Modelling Effective Learning Behaviours  \n\n Importance of modelling in learning facilitation \n Demonstrating behaviours that enhance engagement and understanding \nRole-playing and simulation activities for application \n\nModule 5: Fostering Engagement & Knowledge Retention  \n\n Techniques to create engaging learning experiences \n Strategies to reinforce and consolidate learning \n Using feedback and assessment to support retention \n Key takeaways and practical application planning \n\nPRICING: \n\nRM 1\,500.00 Per Person (HRD Corp Claimable Course) + 8% SSTTo inquire about pricing for our training\, please contact us for a quote. \n\n\nKindly scan or click on the link below for your. Learning Registration.For any enquiries\, please contact us at:UOA Academy Sdn BhdSuite 1-2\, Lower Level 1\, City\, The Horizon Annexe\, Avenue 7\,Bangsar South\, 59200 Kuala Lumpur\, Wilayah Persekutuan Kuala Lumpur. \nTel: 6013 482 4810 / 6016 241 3517Email: register@uoa-academy.com \n\n  \n\n \nClick Here for Registration & Further Details!  \n \nCancellation & Transfer\n\nPlease note that should this registration be cancelled fourteen (14) days before the day of the training\, a 50% cancellation charge will be imposed. If cancellation is made seven (7) days before the training\, full payment of the training will be levied. Please note that amendments can only be made to the above arrangement by giving a minimum of three (3) working days’ notice. Additionally\, a 30% upfront payment is required via Human Resource Development Corporation (HRDC) or bank transfer.  \nDisclaimer: UOA Academy reserves the right to make changes to the venue\, date\, and speaker\, including cancellation of the workshop if warranted by circumstances beyond its control.  \n\n     \n  \n 
URL:https://uoa-academy.com/events/instructional-scaffolding-training-for-educators-trainers/
CATEGORIES:Interpersonal Development,Interpersonal Skill,Management,Self Development
END:VEVENT
END:VCALENDAR