BEGIN:VCALENDAR
VERSION:2.0
PRODID:-//UOA Academy - ECPv6.15.20//NONSGML v1.0//EN
CALSCALE:GREGORIAN
METHOD:PUBLISH
X-WR-CALNAME:UOA Academy
X-ORIGINAL-URL:https://uoa-academy.com
X-WR-CALDESC:Events for UOA Academy
REFRESH-INTERVAL;VALUE=DURATION:PT1H
X-Robots-Tag:noindex
X-PUBLISHED-TTL:PT1H
BEGIN:VTIMEZONE
TZID:Asia/Kuala_Lumpur
BEGIN:STANDARD
TZOFFSETFROM:+0800
TZOFFSETTO:+0800
TZNAME:+08
DTSTART:20250101T000000
END:STANDARD
END:VTIMEZONE
BEGIN:VEVENT
DTSTART;VALUE=DATE:20260310
DTEND;VALUE=DATE:20260312
DTSTAMP:20260422T232058
CREATED:20260119T030432Z
LAST-MODIFIED:20260122T041509Z
UID:50905-1773100800-1773273599@uoa-academy.com
SUMMARY:Image Empowerment Workshop – Crafting Your Professional Identity (2 Days)
DESCRIPTION:Objectives  \nThis programme is designed to empower professionals to craft and enhance their professional identity by developing a strong personal image and presence. It focuses on how individuals are perceived in the workplace and how personal branding\, communication\, and appearance contribute to credibility and career progression. The programme addresses real workplace situations within the Malaysian corporate and multicultural context\, helping participants project professionalism with confidence. Participants will learn to present themselves effectively across professional interactions\, platforms\, and career stages.  \nTarget Audience  \n\n Professionals at various stages of their careers \n Executives\, managers\, and aspiring leaders \n Customer-facing and corporate professionals \n Individuals preparing for career advancement or role transitions \n\nLearning Outcomes  \n\n Define a clear and authentic personal brand aligned with career goals \nDemonstrate professional presence through communication\, body language\, and appearance \n Present themselves confidently in meetings\, interviews\, and networking situations \nMaintain a consistent professional image across workplace and digital platforms \nCraft and deliver a compelling personal elevator pitch \n Apply feedback to continuously refine professional image and identity \n\nCourse Outlines: Day 1 – Building and Defining Your Professional Image  \nModule 1: Understanding Personal Branding  \n\n Defining personal brand and professional identity \n Key elements that shape how others perceive you \n Aligning personal brand with career goals and aspirations \n\nModule 2: Professional Image in the Malaysian Workplace  \n\n Professional expectations in Malaysian corporate culture \nNavigating multicultural norms\, etiquette\, and respect \nBalancing authenticity with organisational culture \n\nModule 3: Developing a Professional Presence  \n\n Impact of body language\, posture\, and gestures \n Professional attire\, grooming\, and workplace appropriateness \nProjecting confidence in daily workplace interactions \n\nModule 4: Confidence\, Mindset & Self-Awareness  \n\n Understanding self-image and professional mindset \n Managing self-doubt and professional insecurities \n Building confidence through preparation and awareness \n\nDay 2 – Communicating\, Presenting & Sustaining Your Professional Identity  \nModule 5: Mastering Self-Presentation Skills  \n\n Verbal and non-verbal communication in professional settings \nPresenting ideas clearly and professionally \n Handling meetings\, interviews\, and discussions confidently \n\nModule 6: Crafting and Delivering Your Personal Elevator Pitch  \n Structuring a clear and compelling elevator pitch  \n\n Communicating value\, strengths\, and expertise concisely \n Practising delivery with confidence and clarity \n\nModule 7: Professional Image in Digital & Social Platforms  \n\n Managing professional image on LinkedIn and digital platforms \nAligning online presence with workplace reputation \n Common mistakes and best practices in the Malaysian context \n\nModule 8: Feedback\, Adaptability & Personal Action Plan  \n\n Receiving and applying feedback constructively \n Adapting professional image across roles and career stages \nDeveloping a personal action plan to sustain professional growth \n\nPRICING: \n\nRM 2\,200.00 Per Person (HRD Corp Claimable Course) + 8% SSTTo inquire about pricing for our training\, please contact us for a quote. \n\n\nKindly scan or click on the link below for your. Learning Registration.For any enquiries\, please contact us at:UOA Academy Sdn BhdSuite 1-2\, Lower Level 1\, City\, The Horizon Annexe\, Avenue 7\,Bangsar South\, 59200 Kuala Lumpur\, Wilayah Persekutuan Kuala Lumpur. \nTel: 6013 482 4810 / 6016 241 3517Email: register@uoa-academy.com \n\n  \n\n \nClick Here for Registration & Further Details!  \n \nCancellation & Transfer\n\nPlease note that should this registration be cancelled fourteen (14) days before the day of the training\, a 50% cancellation charge will be imposed. If cancellation is made seven (7) days before the training\, full payment of the training will be levied. Please note that amendments can only be made to the above arrangement by giving a minimum of three (3) working days’ notice. Additionally\, a 30% upfront payment is required via Human Resource Development Corporation (HRDC) or bank transfer.  \nDisclaimer: UOA Academy reserves the right to make changes to the venue\, date\, and speaker\, including cancellation of the workshop if warranted by circumstances beyond its control.  \n\n     \n  \n 
URL:https://uoa-academy.com/events/image-empowerment-professional-identity-2-days/
CATEGORIES:Interpersonal Development,Interpersonal Skill,Management,Self Development
END:VEVENT
END:VCALENDAR