BEGIN:VCALENDAR
VERSION:2.0
PRODID:-//UOA Academy - ECPv6.15.20//NONSGML v1.0//EN
CALSCALE:GREGORIAN
METHOD:PUBLISH
X-WR-CALNAME:UOA Academy
X-ORIGINAL-URL:https://uoa-academy.com
X-WR-CALDESC:Events for UOA Academy
REFRESH-INTERVAL;VALUE=DURATION:PT1H
X-Robots-Tag:noindex
X-PUBLISHED-TTL:PT1H
BEGIN:VTIMEZONE
TZID:Asia/Kuala_Lumpur
BEGIN:STANDARD
TZOFFSETFROM:+0800
TZOFFSETTO:+0800
TZNAME:+08
DTSTART:20250101T000000
END:STANDARD
END:VTIMEZONE
BEGIN:VEVENT
DTSTART;VALUE=DATE:20260811
DTEND;VALUE=DATE:20260813
DTSTAMP:20260421T204343
CREATED:20260113T055844Z
LAST-MODIFIED:20260113T055844Z
UID:50720-1786406400-1786579199@uoa-academy.com
SUMMARY:HVAC System Controls – Level 3  (2 Days)
DESCRIPTION:Objectives  \nThe HVAC System Controls – Level 3 course is designed to equip senior HVAC professionals with advanced competencies in system optimisation\, analytics-driven decision-making\, integrated building systems\, and performance improvement.  \nThis programme focuses on strategic control optimisation\, advanced diagnostics\, energy performance analytics\, and system integration to enable participants to manage complex HVAC environments efficiently while supporting sustainability\, cost optimisation\, and operational excellence.  \nTarget Audience  \n\n Senior HVAC Technicians \n HVAC Engineers \n Facility & Building Managers \n Maintenance Managers \n Professionals who have completed HVAC Controls Level 1 & Level 2 or possess equivalent experience \n\nLearning Outcomes  \n\n Upon completion of this 2-day programme\, participants will be able to: \nAnalyse and optimise complex HVAC control systems for performance and efficiency \nInterpret advanced HVAC performance data and analytics \n Diagnose persistent\, system-wide faults using advanced methodologies \nIntegrate HVAC controls with Building Management Systems (BMS) and other building systems \n Implement energy optimisation strategies aligned with sustainability goals \nLead troubleshooting\, optimisation\, and continuous improvement initiatives \n\nCourse Outline Day 1: Advanced System Analysis & Control Optimisation  \nModule 1: Advanced HVAC Control System Architecture  \n\n Review of advanced DDC and BMS architectures \n Distributed vs centralised control systems \n Networked HVAC systems and communication hierarchy \nData flow and control logic mapping \n\nModule 2: Advanced Control Strategies & Optimization  \n\n Advanced PID tuning techniques \n Adaptive and predictive control strategies \n Load-based and demand-driven control optimisation \nEliminating control conflicts and inefficiencies \n\nModule 3: HVAC Performance Analytics  \n\n Understanding HVAC system performance data \n Trend logs\, alarms\, and fault detection analytics \n Identifying inefficiencies using historical data \n Interpreting KPIs for HVAC performance \n\nModule 4: System Integration & Interoperability  \n\n Integrating HVAC with BMS\, lighting\, and energy systems \nBACnet\, Modbus\, and other integration protocols \n Managing interoperability challenges \n Cybersecurity awareness for building control systems\n\nDay 2: Advanced Diagnostics\, Energy & Leadership  \nModule 5: Advanced Troubleshooting & Root Cause Analysis  \n\n Diagnosing intermittent and recurring faults \n System-wide vs component-level fault analysis \n Advanced diagnostic tools and techniques \n Developing structured root cause analysis (RCA) \n\nModule 6: Energy Optimisation & Sustainability Strategies  \n\n Advanced energy efficiency strategies \n Chiller plant optimisation and sequencing \n Demand response and energy load management \n Supporting sustainability and energy compliance goals \n\nModule 7: Commissioning\, Re-Commissioning & Continuous Improvement  \n\n Advanced commissioning principles \n Re-commissioning existing HVAC systems \n Performance verification and benchmarking \n Continuous improvement through system tuning \n\nModule 8: Leadership\, Documentation & Operational Excellence  \n\n Leading technical teams in complex HVAC environments \nDeveloping SOPs for advanced systems \n Technical reporting and stakeholder communication \n Building long-term reliability and performance culture \n\nPRICING: \n\nRM 2\,200.00 Per Person (HRD Corp Claimable Course) + 8% SSTTo inquire about pricing for our training\, please contact us for a quote. \n\n\nKindly scan or click on the link below for your. Learning Registration.For any enquiries\, please contact us at:UOA Academy Sdn BhdSuite 1-2\, Lower Level 1\, City\, The Horizon Annexe\, Avenue 7\,Bangsar South\, 59200 Kuala Lumpur\, Wilayah Persekutuan Kuala Lumpur. \nTel: 6013 482 4810 / 6016 241 3517Email: register@uoa-academy.com \n\n  \n\n \nClick Here for Registration & Further Details!  \n \nCancellation & Transfer\n\nPlease note that should this registration be cancelled fourteen (14) days before the day of the training\, a 50% cancellation charge will be imposed. If cancellation is made seven (7) days before the training\, full payment of the training will be levied. Please note that amendments can only be made to the above arrangement by giving a minimum of three (3) working days’ notice. Additionally\, a 30% upfront payment is required via Human Resource Development Corporation (HRDC) or bank transfer.  \nDisclaimer: UOA Academy reserves the right to make changes to the venue\, date\, and speaker\, including cancellation of the workshop if warranted by circumstances beyond its control.  \n\n     \n  \n 
URL:https://uoa-academy.com/events/hvac-system-controls-level-3-advanced-optimization/
CATEGORIES:Interpersonal Development,Interpersonal Skill,Management,Self Development
END:VEVENT
END:VCALENDAR