BEGIN:VCALENDAR
VERSION:2.0
PRODID:-//UOA Academy - ECPv6.15.20//NONSGML v1.0//EN
CALSCALE:GREGORIAN
METHOD:PUBLISH
X-WR-CALNAME:UOA Academy
X-ORIGINAL-URL:https://uoa-academy.com
X-WR-CALDESC:Events for UOA Academy
REFRESH-INTERVAL;VALUE=DURATION:PT1H
X-Robots-Tag:noindex
X-PUBLISHED-TTL:PT1H
BEGIN:VTIMEZONE
TZID:Asia/Kuala_Lumpur
BEGIN:STANDARD
TZOFFSETFROM:+0800
TZOFFSETTO:+0800
TZNAME:+08
DTSTART:20250101T000000
END:STANDARD
END:VTIMEZONE
BEGIN:VEVENT
DTSTART;VALUE=DATE:20260818
DTEND;VALUE=DATE:20260820
DTSTAMP:20260422T084124
CREATED:20260113T064024Z
LAST-MODIFIED:20260113T064024Z
UID:50728-1787011200-1787183999@uoa-academy.com
SUMMARY:High-Performance Habits for Busy Professionals
DESCRIPTION:Objectives  \nIn today’s fast-paced and demanding work environment\, professionals are expected to deliver results while managing multiple priorities\, tight deadlines\, and constant distractions. This 2-day programme is designed to help busy professionals develop high-performance habits that improve focus\, productivity\, and resilience without leading to burnout.  \nParticipants will learn how to manage energy\, time\, and attention more effectively\, build disciplined work habits\, and adopt practical strategies to sustain performance in the Malaysian workplace context  \nTarget Audience  \n\n Professionals and Executives \n Managers and Team Leaders \n Supervisors and Senior Officers \n Individuals handling multiple responsibilities and deadlines \n Employees seeking sustainable performance improvement \n\nLearning Outcomes  \n\n Understand what drives high performance in busy work environments \nIdentify personal productivity blockers and performance gaps \n Build effective daily habits that support focus and consistency \n Manage time\, energy\, and priorities more strategically \n Improve work efficiency without increasing stress \n Create a personalised high-performance action plan\n\nCourse Outline  \nDay 1 – Foundations of High Performance & Focus  \nModule 1: Understanding High Performance in the Modern Workplace  \n\nWhat high performance really means for busy professionals \nCommon challenges in today’s work environment \n High performance vs burnout \n\nModule 2: Mindset & Personal Effectiveness  \n\n Performance-driven mindset \n Taking ownership and accountability \n Managing internal distractions and limiting beliefs \n\nModule 3: Managing Energy\, Not Just Time  \n\n Understanding personal energy cycles \n Aligning tasks with peak energy levels \n Managing fatigue and stress effectively \n\nModule 4: Focus & Attention Management  \n\n Identifying focus killers at work \n Managing interruptions and digital distractions \n Building deep-work habits \n\nDay 2 – Productivity Systems & Sustainable Habits  \nModule 5: Prioritisation & Smart Work Planning  \n\n Distinguishing urgent vs important tasks \n Planning work for impact\, not activity \n Setting realistic goals and deadlines \n\nModule 6: Building High-Performance Daily Habits  \n\nHabit formation principles \n Designing effective morning and workday routines \nEliminating unproductive habits \n\nModule 7: Productivity Tools & Work Systems  \n\n Creating effective task and workflow systems \n Managing to-do lists and schedules efficiently \n Working smarter through planning and organising \n\nPRICING: \n\nRM 2\,200.00 Per Person (HRD Corp Claimable Course) + 8% SSTTo inquire about pricing for our training\, please contact us for a quote. \n\n\nKindly scan or click on the link below for your. Learning Registration.For any enquiries\, please contact us at:UOA Academy Sdn BhdSuite 1-2\, Lower Level 1\, City\, The Horizon Annexe\, Avenue 7\,Bangsar South\, 59200 Kuala Lumpur\, Wilayah Persekutuan Kuala Lumpur. \nTel: 6013 482 4810 / 6016 241 3517Email: register@uoa-academy.com \n\n  \n\n \nClick Here for Registration & Further Details!  \n \nCancellation & Transfer\n\nPlease note that should this registration be cancelled fourteen (14) days before the day of the training\, a 50% cancellation charge will be imposed. If cancellation is made seven (7) days before the training\, full payment of the training will be levied. Please note that amendments can only be made to the above arrangement by giving a minimum of three (3) working days’ notice. Additionally\, a 30% upfront payment is required via Human Resource Development Corporation (HRDC) or bank transfer.  \nDisclaimer: UOA Academy reserves the right to make changes to the venue\, date\, and speaker\, including cancellation of the workshop if warranted by circumstances beyond its control.  \n\n     \n  \n 
URL:https://uoa-academy.com/events/high-performance-habits-for-professionals-2-days/
CATEGORIES:Interpersonal Development,Interpersonal Skill,Management,Self Development
END:VEVENT
END:VCALENDAR