BEGIN:VCALENDAR
VERSION:2.0
PRODID:-//UOA Academy - ECPv6.15.20//NONSGML v1.0//EN
CALSCALE:GREGORIAN
METHOD:PUBLISH
X-WR-CALNAME:UOA Academy
X-ORIGINAL-URL:https://uoa-academy.com
X-WR-CALDESC:Events for UOA Academy
REFRESH-INTERVAL;VALUE=DURATION:PT1H
X-Robots-Tag:noindex
X-PUBLISHED-TTL:PT1H
BEGIN:VTIMEZONE
TZID:UTC
BEGIN:STANDARD
TZOFFSETFROM:+0000
TZOFFSETTO:+0000
TZNAME:UTC
DTSTART:20220101T000000
END:STANDARD
END:VTIMEZONE
BEGIN:VEVENT
DTSTART;VALUE=DATE:20231219
DTEND;VALUE=DATE:20231221
DTSTAMP:20260422T055152
CREATED:20230720T184132Z
LAST-MODIFIED:20230720T200811Z
UID:8362-1702944000-1703116799@uoa-academy.com
SUMMARY:Essential Skills for Communication Success in a Corporate World
DESCRIPTION:Objectives\nEffective communication skills are crucial for success in the corporate world. This two-day course aims to equip participants with essential communication techniques and strategies to excel in various workplace scenarios. From mastering verbal and non-verbal communication\nto handling challenging conversations\, participants will develop the skills necessary to build strong professional relationships and foster a positive and productive work environment. \nTarget Audience\nThis course is designed for professionals at various levels in the corporate world who want to enhance their communication skills. It is suitable for employees from different departments and roles\, including managers\, team leaders\, project coordinators\, customer service\nrepresentatives\, and any other individuals seeking to improve their communication effectiveness in a corporate setting. \nLearning Outcomes\n● Demonstrate improved verbal communication skills\, including clear articulation\, effective presentation techniques\, and the use of positive language.\n● Display proficiency in active listening\, enabling them to understand others better and respond appropriately.\n● Utilize non-verbal communication cues\, such as body language and facial expressions\, to enhance the impact of their messages and create a positive impression.\n● Handle challenging conversations and conflicts with composure and emotional intelligence\, facilitating constructive outcomes \nCourse Outlines:\nDay 1: \nModule 1: Understanding the Importance of Effective Communication\n● The impact of communication on workplace relationships and productivity\n● Identifying communication challenges in the corporate setting\n● Building a personal communication improvement plan \nModule 2: Verbal Communication Skills\n● Active listening techniques for better understanding and empathy\n● Articulating thoughts clearly and concisely\n● Developing strong speaking skills and effective presentation techniques\n● Using positive language and assertive communication \nModule 3: Non-Verbal Communication and Body Language\n● Understanding the significance of non-verbal cues in communication\n● Interpreting body language accurately\n● Mastering facial expressions\, gestures\, and eye contact\n● Aligning verbal and non-verbal communication for impactful messages \nModule 4: Written Communication Excellence\n● Crafting professional emails\, memos\, and reports\n● The art of effective business writing\n● Understanding tone and etiquette in written communication\n● Editing and proofreading techniques for error-free communication \nDay 2:\nModule 5: Communicating with Different Personality Types\n● Recognizing diverse communication styles and preferences\n● Adapting communication for various personality types\n● Building rapport and trust with colleagues and clients \nModule 6: Managing Challenging Conversations\n● Strategies for handling conflicts and difficult situations\n● Maintaining composure and emotional intelligence during tough discussions\n● Providing constructive feedback and receiving feedback gracefully \nModule 7: Effective Communication in Teams and Meetings\n● Communicating ideas clearly in team settings\n● Active participation and engagement in meetings\n● Facilitating discussions and encouraging collaboration\n● Resolving conflicts and building consensus in group settings \nModule 8: Building Professional Relationships through Communication\n● Networking and relationship-building strategies\n● Enhancing professional presence and credibility\n● Developing interpersonal communication skills \nPricing:\nRM 1\,000.00 Per Person (HRD Corp Claimable Course)\n \nKindly scan or click on the link below for your \nLearning Registration.\n \nFor any enquiries\, please contact us at:\n \nUOA Academy Sdn Bhd\nUOA Corporate Tower\, Lobby A\, Avenue 10\, The Vertical\nBangsar South City\, No 8 Jalan Kerinchi\n59200 Kuala Lumpur\, Malaysia.\nTel: 6019 225 0942 / 6016 806 1760 / 6016 241 3517\nEmail: register@uoa-academy.com\n \n\nhttps://www.surveymonkey.com/r/uoaapb \n \nCancellation & Transfer\nPlease note that should this registration be cancelled fourteen (14) days before the day of the training\, a 50% cancellation charge will be imposed. If cancellation is made seven (7) days before the training\, full payment of the training will be levied. Please note that amendments can only be made to the above arrangement by giving a minimum of three (3) working days’ notice.\n \nDisclaimer: UOA Academy reserves the right to make changes to the venue\, date\, and speaker\, including cancellation of the workshop if warranted by circumstances beyond its control.\n  \n\n  \nJoin Today!
URL:https://uoa-academy.com/events/essential-skills-for-communication-success-in-a-corporate-world/
END:VEVENT
END:VCALENDAR