BEGIN:VCALENDAR
VERSION:2.0
PRODID:-//UOA Academy - ECPv6.15.20//NONSGML v1.0//EN
CALSCALE:GREGORIAN
METHOD:PUBLISH
X-WR-CALNAME:UOA Academy
X-ORIGINAL-URL:https://uoa-academy.com
X-WR-CALDESC:Events for UOA Academy
REFRESH-INTERVAL;VALUE=DURATION:PT1H
X-Robots-Tag:noindex
X-PUBLISHED-TTL:PT1H
BEGIN:VTIMEZONE
TZID:Asia/Kuala_Lumpur
BEGIN:STANDARD
TZOFFSETFROM:+0800
TZOFFSETTO:+0800
TZNAME:+08
DTSTART:20230101T000000
END:STANDARD
END:VTIMEZONE
BEGIN:VEVENT
DTSTART;VALUE=DATE:20240619
DTEND;VALUE=DATE:20240621
DTSTAMP:20260426T065125
CREATED:20240110T090008Z
LAST-MODIFIED:20240110T090008Z
UID:11202-1718755200-1718927999@uoa-academy.com
SUMMARY:Electrical Operation & Maintenance for Building Services  (2 days)
DESCRIPTION:Objectives \nThe objectives of the Electrical Operation & Maintenance for Building Services program are to equip participants with comprehensive knowledge and skills in the electrical operation and maintenance of building services. The program aims to provide a deep understanding of electrical systems within building services\, focusing on effective operation\, routine maintenance\, and troubleshooting. Participants will gain proficiency in ensuring electrical safety\, optimizing system performance\, and contributing to the overall efficiency of building services. \nTarget Audience \nThis training is designed for building managers\, facility maintenance personnel\, electrical technicians\, and professionals responsible for the operation and maintenance of electrical systems within building services. It caters to individuals seeking practical insights into electrical systems\, from beginners to experienced practitioners looking to enhance their skills in building services maintenance. The program is suitable for those working in various building types\, including commercial\, residential\, and industrial facilities. \nLearning Outcomes  \n\nDevelop advanced knowledge in electrical operation and maintenance for building services.\nAcquire skills in routine inspection\, troubleshooting\, and preventive maintenance of electrical systems.\nEnhance the ability to ensure electrical safety and identify potential issues.\nApply effective solutions for optimal performance of electrical systems.\nContribute to the smooth operation of diverse building service environments.\n\nCourse Outlines: \nDay 1: \nModule 1: Overview of Building Electrical Systems \n\nUnderstanding the Components and Architecture of Building Electrical Systems\nOverview of Electrical Distribution and Wiring in Building Services\n\nModule 2: Routine Inspection and Maintenance \n\nImportance of Routine Inspection in Building Electrical Systems\nDeveloping Skills for Effective Preventive Maintenance\n\nModule 3: Troubleshooting Techniques \n\nTechniques for Identifying and Diagnosing Electrical Issues\nStrategies for Efficient Troubleshooting in Building Electrical Systems\n\nModule 4: Electrical Safety Measures \n\nEnsuring Electrical Safety in Building Services\nImplementing Safety Protocols and Procedures\n\nDay 2: \nModule 5: Optimizing Electrical System Performance \n\nStrategies for Optimizing the Performance of Electrical Systems\nEnhancing Efficiency in Building Electrical Operations\n\nModule 6: Regulatory Compliance in Building Electrical Systems \n\nUnderstanding and Adhering to Regulatory Standards\nCompliance Measures for Building Electrical Systems\n\nModule 7: Emerging Technologies in Building Electrical Systems \n\nExploration of Emerging Technologies in Electrical Operation for Building Services\nAdapting to Technological Advances for Enhanced Performance\n\nModule 8: Sustainability and Energy Efficiency \n\nImplementing Sustainable Practices in Electrical Operation and Maintenance\nStrategies for Enhancing Energy Efficiency in Building Electrical Systems\n\nPricing:\nRM 1\,500.00 Per Person (HRD Corp Claimable Course) + 6% SST\n \nKindly scan or click on the link below for your \nLearning Registration.\n \nFor any enquiries\, please contact us at:\n \nUOA Academy Sdn Bhd\nUOA Corporate Tower\, Lobby A\, Avenue 10\, The Vertical\nBangsar South City\, No 8 Jalan Kerinchi\n59200 Kuala Lumpur\, Malaysia.\nTel: 6019 225 0942 / 6016 806 1760 / 6016 241 3517\nEmail: register@uoa-academy.com\n \n\nhttps://www.surveymonkey.com/r/UOAAEX\n \nCancellation & Transfer\n\nPlease note that should this registration be cancelled fourteen (14) days before the day of the training\, a 50% cancellation charge will be imposed. If cancellation is made seven (7) days before the training\, full payment of the training will be levied. Please note that amendments can only be made to the above arrangement by giving a minimum of three (3) working days’ notice. Additionally\, a 30% upfront payment is required via Human Resource Development Corporation (HRDC) or bank transfer. \nDisclaimer: UOA Academy reserves the right to make changes to the venue\, date\, and speaker\,\nincluding cancellation of the workshop if warranted by circumstances beyond its control. \n\n  \n\n  \nJoin Today!
URL:https://uoa-academy.com/events/electrical-operation-maintenance-for-building-services/
ATTACH;FMTTYPE=image/png:https://uoa-academy.com/wp-content/uploads/2024/01/Electrical-Operation-Maintenance-for-Building-Services.png
END:VEVENT
END:VCALENDAR