BEGIN:VCALENDAR
VERSION:2.0
PRODID:-//UOA Academy - ECPv6.15.20//NONSGML v1.0//EN
CALSCALE:GREGORIAN
METHOD:PUBLISH
X-WR-CALNAME:UOA Academy
X-ORIGINAL-URL:https://uoa-academy.com
X-WR-CALDESC:Events for UOA Academy
REFRESH-INTERVAL;VALUE=DURATION:PT1H
X-Robots-Tag:noindex
X-PUBLISHED-TTL:PT1H
BEGIN:VTIMEZONE
TZID:Asia/Kuala_Lumpur
BEGIN:STANDARD
TZOFFSETFROM:+0800
TZOFFSETTO:+0800
TZNAME:+08
DTSTART:20250101T000000
END:STANDARD
END:VTIMEZONE
BEGIN:VEVENT
DTSTART;VALUE=DATE:20261104
DTEND;VALUE=DATE:20261106
DTSTAMP:20260422T104302
CREATED:20260114T031612Z
LAST-MODIFIED:20260122T024953Z
UID:50784-1793750400-1793923199@uoa-academy.com
SUMMARY:Customer Service Excellence (2 Days)
DESCRIPTION:Objectives  \nTo equip participants with universal customer service skills that enhance client satisfaction\, professional communication\, and problem solving across any business or service environment. Participants will learn how to understand customer behaviour\, communicate effectively\, manage emotions\, and resolve issues efficiently to create positive\, lasting customer experiences.  \nTarget Audience  \n\n Frontline staff in any customer-facing role \n Customer service operator in call center \n Marketing or sales personnel interacting with clients \n SMEs or startups managing customer relations \n Entrepreneurs \n\nLearning Outcomes  \n\n Understand the fundamentals of professional customer service applicable to any business setting. \n Identify different customer types and adapt communication to meet their needs. \nApply verbal and non-verbal communication techniques. \n Manage personal and customer emotions to reduce conflict and enhance engagement. \n Handle complaints and resolve issues effectively using structured approaches. \n\nCourse Outlines:  \nDay 1 – Foundations of Customer Service & Communication  \nModule 1: Foundations of Customer Service Excellence  \n\n Importance of customer service in business success \nCustomer service as brand representation \n Professional behaviour and service mindset \n\nModule 2: Understanding Customers & Behaviour  \n\n Types of customers and behaviour patterns \n Customer expectations and service needs \n Adapting service approach to different customers \n\nModule 3: Professional Communication Skills  \n\n Verbal communication techniques \n Non-verbal communication and body language \n Active listening and effective questioning \n\nModule 4: Managing Service Interactions  \n\n Building rapport with customers \n Handling enquiries and requests professionally \n Managing difficult conversations calmly \n\nDay 2 – Emotional Intelligence\, Conflict & Resolution  \nModule 5: Emotional Intelligence in Customer Service  \n\n Understanding self-awareness and emotional triggers \n Recognising customer emotions \n Managing emotions under pressure \n\nModule 6: Conflict Management & Difficult Customers  \n\n Common causes of customer conflict \n Techniques to de-escalate tense situations \n Responding professionally to challenging behaviour \n\nModule 7: Complaint Handling & Problem Resolution  \n\n Structured problem-solving approaches \n Managing complaints effectively \n Follow-up\, accountability\, and service recovery \n Common mistakes in complaint handling \n\nModule 8: Service Consistency & Practical Application  \n\n Delivering consistent service standards \n Case studies and real workplace scenarios \n Role plays and guided practice \n Key takeaways and action planning \n\nTraining Methodology  \nThis programme uses an interactive and hands-on approach combining short lectures\, group discussions\, case studies\, role plays\, and practical exercises. Participants actively practise communication\, emotional management\, conflict handling\, and problem resolution skills to build confidence and apply learning immediately in their work environment.  \nPRICING: \n\nRM 2\,200.00 Per Person (HRD Corp Claimable Course) + 8% SSTTo inquire about pricing for our training\, please contact us for a quote. \n\n\nKindly scan or click on the link below for your. Learning Registration.For any enquiries\, please contact us at:UOA Academy Sdn BhdSuite 1-2\, Lower Level 1\, City\, The Horizon Annexe\, Avenue 7\,Bangsar South\, 59200 Kuala Lumpur\, Wilayah Persekutuan Kuala Lumpur. \nTel: 6013 482 4810 / 6016 241 3517Email: register@uoa-academy.com \n\n  \n\n \nClick Here for Registration & Further Details!  \n \nCancellation & Transfer\n\nPlease note that should this registration be cancelled fourteen (14) days before the day of the training\, a 50% cancellation charge will be imposed. If cancellation is made seven (7) days before the training\, full payment of the training will be levied. Please note that amendments can only be made to the above arrangement by giving a minimum of three (3) working days’ notice. Additionally\, a 30% upfront payment is required via Human Resource Development Corporation (HRDC) or bank transfer.  \nDisclaimer: UOA Academy reserves the right to make changes to the venue\, date\, and speaker\, including cancellation of the workshop if warranted by circumstances beyond its control.  \n\n     \n  \n 
URL:https://uoa-academy.com/events/customer-service-excellence-2-day-skills-course/
CATEGORIES:Interpersonal Development,Interpersonal Skill,Management,Self Development
END:VEVENT
END:VCALENDAR