BEGIN:VCALENDAR
VERSION:2.0
PRODID:-//UOA Academy - ECPv6.15.20//NONSGML v1.0//EN
CALSCALE:GREGORIAN
METHOD:PUBLISH
X-WR-CALNAME:UOA Academy
X-ORIGINAL-URL:https://uoa-academy.com
X-WR-CALDESC:Events for UOA Academy
REFRESH-INTERVAL;VALUE=DURATION:PT1H
X-Robots-Tag:noindex
X-PUBLISHED-TTL:PT1H
BEGIN:VTIMEZONE
TZID:Asia/Kuala_Lumpur
BEGIN:STANDARD
TZOFFSETFROM:+0800
TZOFFSETTO:+0800
TZNAME:+08
DTSTART:20230101T000000
END:STANDARD
END:VTIMEZONE
BEGIN:VEVENT
DTSTART;VALUE=DATE:20240424
DTEND;VALUE=DATE:20240426
DTSTAMP:20260425T070615
CREATED:20240109T031435Z
LAST-MODIFIED:20240109T031858Z
UID:11098-1713916800-1714089599@uoa-academy.com
SUMMARY:Creating a Checklist Assessment to Boost Safety and Security (2 days)
DESCRIPTION:Objectives \nThe Creating a Checklist Assessment to Boost Safety and Security course is designed to equip participants with the essential skills and knowledge to develop effective checklist assessments tailored for enhancing safety and security measures. The objective is to empower individuals to create comprehensive checklists that contribute to the identification\, prevention\, and mitigation of potential safety and security risks within various environments. \nTarget Audience \nThis course is specifically designed for safety officers\, security personnel\, senior managers\, and individuals responsible for ensuring the safety and security of premises. It is suitable for professionals seeking to enhance their skills in checklist assessment development to bolster safety protocols. The content is crafted to benefit participants at different levels of expertise\, from entry-level to experienced professionals. \nLearning Outcomes  \n\nDevelop proficiency in crafting effective checklist assessments for safety and security purposes.\nIdentify and prioritize potential risks\, ensuring a comprehensive approach to safety measures.\nUnderstand the importance of regular assessment and updates to checklists to adapt to evolving security needs.\nContribute significantly to creating a safer and more secure environment through applied skills in checklist assessment development.\n\nCourse Outlines:\n \nDay 1: \nModule 1: Fundamental knowledge of Checklist Assessments \n\nUnderstanding the role of checklist assessments in safety and security.\nOverview of key concepts and principles in checklist development.\n\nModule 2: Crafting Effective Checklist Assessments \n\nDeveloping proficiency in creating comprehensive checklists.\nIdentifying and prioritizing potential risks to enhance safety measures.\n\nModule 3: Practical Application and Case Studies \n\nApplying learned skills to real-world scenarios.\nAnalyzing case studies for effective checklist development.\n\nDay 2: \nModule 4: Importance of Regular Assessment and Updates \n\nUnderstanding the dynamic nature of security needs.\nImplementing regular assessment and updates for ongoing effectiveness.\n\nModule 5: Contribution to a Safer and More Secure Environment \n\nEmpowering individuals to contribute significantly to safety and security.\nShowcasing the impact of applied skills in checklist assessment development.\n\nModule 6: Excellence in Checklist Assessment Development \n\nInvestigating industry-leading practices and standards for optimal checklist development.\nIntegration of feedback mechanisms to enhance the quality of checklist assessments.\nEmphasizing a commitment to continuous improvement in the refinement of checklist processes.\n\nPricing:\nRM 1\,500.00 Per Person (HRD Corp Claimable Course) + 6% SST\n \nKindly scan or click on the link below for your \nLearning Registration.\n \nFor any enquiries\, please contact us at:\n \nUOA Academy Sdn Bhd\nUOA Corporate Tower\, Lobby A\, Avenue 10\, The Vertical\nBangsar South City\, No 8 Jalan Kerinchi\n59200 Kuala Lumpur\, Malaysia.\nTel: 6019 225 0942 / 6016 806 1760 / 6016 241 3517\nEmail: register@uoa-academy.com\n \n\nhttps://www.surveymonkey.com/r/UOAAEX\n \nCancellation & Transfer\n\nPlease note that should this registration be cancelled fourteen (14) days before the day of the training\, a 50% cancellation charge will be imposed. If cancellation is made seven (7) days before the training\, full payment of the training will be levied. Please note that amendments can only be made to the above arrangement by giving a minimum of three (3) working days’ notice. Additionally\, a 30% upfront payment is required via Human Resource Development Corporation (HRDC) or bank transfer. \nDisclaimer: UOA Academy reserves the right to make changes to the venue\, date\, and speaker\,\nincluding cancellation of the workshop if warranted by circumstances beyond its control. \n\n  \n\n  \nJoin Today! \n 
URL:https://uoa-academy.com/events/creating-a-checklist-assessment-to-boost-safety-and-security/
ATTACH;FMTTYPE=image/png:https://uoa-academy.com/wp-content/uploads/2024/01/Creating-a-Checklist-Assessment-to-Boost-Safety-and-Security.png
END:VEVENT
END:VCALENDAR