BEGIN:VCALENDAR
VERSION:2.0
PRODID:-//UOA Academy - ECPv6.15.20//NONSGML v1.0//EN
CALSCALE:GREGORIAN
METHOD:PUBLISH
X-WR-CALNAME:UOA Academy
X-ORIGINAL-URL:https://uoa-academy.com
X-WR-CALDESC:Events for UOA Academy
REFRESH-INTERVAL;VALUE=DURATION:PT1H
X-Robots-Tag:noindex
X-PUBLISHED-TTL:PT1H
BEGIN:VTIMEZONE
TZID:Asia/Kuala_Lumpur
BEGIN:STANDARD
TZOFFSETFROM:+0800
TZOFFSETTO:+0800
TZNAME:+08
DTSTART:20250101T000000
END:STANDARD
END:VTIMEZONE
BEGIN:VEVENT
DTSTART;VALUE=DATE:20261118
DTEND;VALUE=DATE:20261119
DTSTAMP:20260422T033509
CREATED:20260114T040347Z
LAST-MODIFIED:20260114T040347Z
UID:50795-1794960000-1795046399@uoa-academy.com
SUMMARY:Corporate Presence: Grooming\, Confidence & Impact (2Days)
DESCRIPTION:Objectives  \nIn today’s professional environment\, corporate presence goes beyond appearance—it reflects confidence\, credibility\, communication\, and professional conduct. This 2-day programme is designed to help participants develop a strong and authentic corporate presence through appropriate grooming\, confident behaviour\, and impactful interpersonal skills suited to the Malaysian workplace culture.  \nParticipants will learn how personal image\, attitude\, body language\, and communication influence perceptions\, relationships\, and career growth. The programme focuses on practical application to help professionals present themselves with confidence\, professionalism\, and positive impact in daily work interactions  \nTarget Audience  \n\n Executives and Professionals \n Frontline and Customer-Facing Staff \n Supervisors and Team Leaders \n Administrative and Support Staff \n Employees representing the organisation internally and externally \n\nLearning Outcomes  \nBy the end of this programme\, participants will be able to:  \n\n Understand the importance of corporate presence in professional success \nPresent a professional image aligned with organisational standards \nDemonstrate confident posture\, body language\, and communication \nBuild self-confidence and personal credibility at work \n Communicate with clarity\, professionalism\, and impact \n Strengthen workplace relationships through positive professional behaviour\n\nCourse Outlines:  \nDay 1 – Professional Image & Confidence Foundations  \nModule 1: Understanding Corporate Presence  \n\n What is corporate presence and why it matters \n First impressions and professional credibility \n Corporate presence in the Malaysian workplace context \n\nModule 2: Professional Grooming & Appearance  \n\n Workplace grooming standards and expectations \n Dressing appropriately for different roles and occasions \nPersonal hygiene\, posture\, and professional etiquette \nAligning personal image with organisational values \n\nModule 3: Body Language & Non-Verbal Impact  \n\n Understanding body language and its influence \n Confident posture\, eye contact\, and facial expressions \nManaging nervous habits and negative signals \n\nModule 4: Building Personal Confidence at Work  \n\n Understanding confidence vs arrogance \n Overcoming self-doubt and limiting beliefs \n Developing self-assurance in professional settings \n\nDay 2 – Communication\, Impact & Professional Behaviour  \nModule 5: Professional Communication & Presence  \n\n Speaking with clarity\, confidence\, and professionalism \nTone of voice and verbal impact \n Communicating assertively and respectfully \n\nModule 6: Workplace Etiquette & Professional Conduct  \n\n Professional behaviour in meetings and discussions \nRespectful interaction with colleagues and stakeholders \nManaging emotions and maintaining composure \n\nModule 7: Influencing Others Through Presence  \n\n Building credibility and trust \n Creating positive impact without authority \n Managing perceptions in challenging situations \n\nModule 8: Sustaining Corporate Presence & Personal Action Plan  \n\n Maintaining consistency in image and behaviour \n Aligning presence with career goals \n Developing a personal corporate presence action plan \nProgramme recap and key takeaways \n\nPRICING: \n\nRM 2\,200.00 Per Person (HRD Corp Claimable Course) + 8% SSTTo inquire about pricing for our training\, please contact us for a quote. \n\n\nKindly scan or click on the link below for your. Learning Registration.For any enquiries\, please contact us at:UOA Academy Sdn BhdSuite 1-2\, Lower Level 1\, City\, The Horizon Annexe\, Avenue 7\,Bangsar South\, 59200 Kuala Lumpur\, Wilayah Persekutuan Kuala Lumpur. \nTel: 6013 482 4810 / 6016 241 3517Email: register@uoa-academy.com \n\n  \n\n \nClick Here for Registration & Further Details!  \n \nCancellation & Transfer\n\nPlease note that should this registration be cancelled fourteen (14) days before the day of the training\, a 50% cancellation charge will be imposed. If cancellation is made seven (7) days before the training\, full payment of the training will be levied. Please note that amendments can only be made to the above arrangement by giving a minimum of three (3) working days’ notice. Additionally\, a 30% upfront payment is required via Human Resource Development Corporation (HRDC) or bank transfer.  \nDisclaimer: UOA Academy reserves the right to make changes to the venue\, date\, and speaker\, including cancellation of the workshop if warranted by circumstances beyond its control.  \n\n     \n  \n 
URL:https://uoa-academy.com/events/corporate-presence-grooming-confidence-2-days/
CATEGORIES:Interpersonal Development,Interpersonal Skill,Management,Self Development
END:VEVENT
END:VCALENDAR