BEGIN:VCALENDAR
VERSION:2.0
PRODID:-//UOA Academy - ECPv6.15.20//NONSGML v1.0//EN
CALSCALE:GREGORIAN
METHOD:PUBLISH
X-WR-CALNAME:UOA Academy
X-ORIGINAL-URL:https://uoa-academy.com
X-WR-CALDESC:Events for UOA Academy
REFRESH-INTERVAL;VALUE=DURATION:PT1H
X-Robots-Tag:noindex
X-PUBLISHED-TTL:PT1H
BEGIN:VTIMEZONE
TZID:Asia/Kuala_Lumpur
BEGIN:STANDARD
TZOFFSETFROM:+0800
TZOFFSETTO:+0800
TZNAME:+08
DTSTART:20250101T000000
END:STANDARD
END:VTIMEZONE
BEGIN:VEVENT
DTSTART;VALUE=DATE:20260923
DTEND;VALUE=DATE:20260925
DTSTAMP:20260422T084156
CREATED:20260114T012014Z
LAST-MODIFIED:20260114T012014Z
UID:50750-1790121600-1790294399@uoa-academy.com
SUMMARY:Drive in to the ChatGPT & AI Tools For Workplace
DESCRIPTION:Objectives  \nThe objective of this 2-day training programme is to equip participants with practical\, hands-on knowledge and skills to effectively utilize ChatGPT and AI tools in the workplace. This programme enables participants to enhance productivity\, streamline workflows\, improve communication\, and support better decision-making using AI. Participants will also understand ethical considerations\, best practices\, and real-world applications of AI tools across various job functions.  \nTarget Audience  \nThis programme is designed for:  \n\n Professionals\, executives\, and managers \n Team leaders and supervisors \n HR\, administration\, operations\, marketing\, and support staff \n Organizations seeking to integrate AI tools into daily work processes \n\nLearning Outcomes  \nBy the end of this programme\, participants will be able to:  \n\n Understand the fundamentals of AI and ChatGPT and their impact on the workplace \nUse ChatGPT effectively to support daily work tasks and decision-making \nApply prompt engineering techniques to get accurate and useful AI outputs\nAutomate routine tasks and improve efficiency using AI tools \n Use AI ethically\, responsibly\, and securely in the workplace \n Apply AI tools for communication\, reporting\, analysis\, and problem-solving \nIdentify suitable AI tools for different job roles and business functions \n\nCourse Outlines:  \nDay 1: Foundations & Productivity with ChatGPT  \nModule 1: Introduction to AI & ChatGPT in the Workplace  \n\n Overview of Artificial Intelligence and Generative AI \n Understanding how ChatGPT works \n Capabilities and limitations of ChatGPT \n Current AI trends and workplace impact \n Identifying opportunities for AI adoption in daily work \n\nModule 2: Getting Started with ChatGPT – Practical Usage  \n\n Navigating ChatGPT interface and features \n Understanding prompts and responses \n Do’s and Don’ts when using ChatGPT at work \n Hands-on practice: basic workplace prompts \n Common mistakes and how to avoid them \n\nModule 3: Prompt Engineering for Better Results  \n\n What is prompt engineering and why it matters \n Structuring effective prompts (role\, task\, context\, format) \nUsing follow-up prompts to refine output \n Examples of good vs poor prompts \n Hands-on exercises: job-specific prompt creation \n\nModule 4: Using ChatGPT to Improve Productivity & Communication  \n\n Drafting professional emails and responses \n Creating reports\, summaries\, and meeting minutes \n Preparing presentations\, talking points\, and content \n Brainstorming ideas and solutions faster \n Case examples: HR\, admin\, operations\, and management use cases \n\nDay 2: Automation\, Ethics & Advanced Workplace Applications Module 5: Automating Routine Tasks with AI Tools  \n\n Identifying tasks suitable for automation \n Using AI for scheduling\, documentation\, and workflows \nAI-assisted data\, summarization\, and reporting \n Integrating ChatGPT into daily work routines \n Productivity hacks using AI \n\nModule 6: AI Tools Beyond ChatGPT for the Workplace  \n\n Overview of popular AI tools (writing\, design\, data\, productivity) \nChoosing the right AI tool for specific job roles \n Combining multiple AI tools for better outcomes \n Limitations and risks of over-reliance on AI \n Practical demonstrations and examples \n\nModule 7: Ethical Considerations\, Data Privacy & Best Practices  \n\n Ethical implications of AI usage in organizations \n Data privacy\, confidentiality\, and compliance \n Managing bias\, accuracy\, and reliability of AI outputs \nCompany policies and responsible AI usage \n Best practices for sustainable AI adoption \n\nModule 8: AI for Decision-Making\, Problem-Solving & Innovation  \n\n Using AI to support analysis and decision-making \n AI-assisted problem-solving frameworks \n Creative thinking and innovation with AI \n Real-world case studies of AI in the workplace \n Action planning: applying AI after the training \n\nPRICING: \n\nRM 2\,200.00 Per Person (HRD Corp Claimable Course) + 8% SSTTo inquire about pricing for our training\, please contact us for a quote. \n\n\nKindly scan or click on the link below for your. Learning Registration.For any enquiries\, please contact us at:UOA Academy Sdn BhdSuite 1-2\, Lower Level 1\, City\, The Horizon Annexe\, Avenue 7\,Bangsar South\, 59200 Kuala Lumpur\, Wilayah Persekutuan Kuala Lumpur. \nTel: 6013 482 4810 / 6016 241 3517Email: register@uoa-academy.com \n\n  \n\n \nClick Here for Registration & Further Details!  \n \nCancellation & Transfer\n\nPlease note that should this registration be cancelled fourteen (14) days before the day of the training\, a 50% cancellation charge will be imposed. If cancellation is made seven (7) days before the training\, full payment of the training will be levied. Please note that amendments can only be made to the above arrangement by giving a minimum of three (3) working days’ notice. Additionally\, a 30% upfront payment is required via Human Resource Development Corporation (HRDC) or bank transfer.  \nDisclaimer: UOA Academy reserves the right to make changes to the venue\, date\, and speaker\, including cancellation of the workshop if warranted by circumstances beyond its control.  \n\n     \n  \n 
URL:https://uoa-academy.com/events/chatgpt-ai-tools-for-workplace-2-day-workshop/
CATEGORIES:Interpersonal Development,Interpersonal Skill,Management,Self Development
END:VEVENT
END:VCALENDAR