BEGIN:VCALENDAR
VERSION:2.0
PRODID:-//UOA Academy - ECPv6.15.20//NONSGML v1.0//EN
CALSCALE:GREGORIAN
METHOD:PUBLISH
X-WR-CALNAME:UOA Academy
X-ORIGINAL-URL:https://uoa-academy.com
X-WR-CALDESC:Events for UOA Academy
REFRESH-INTERVAL;VALUE=DURATION:PT1H
X-Robots-Tag:noindex
X-PUBLISHED-TTL:PT1H
BEGIN:VTIMEZONE
TZID:Asia/Kuala_Lumpur
BEGIN:STANDARD
TZOFFSETFROM:+0800
TZOFFSETTO:+0800
TZNAME:+08
DTSTART:20250101T000000
END:STANDARD
END:VTIMEZONE
BEGIN:VEVENT
DTSTART;VALUE=DATE:20260811
DTEND;VALUE=DATE:20260813
DTSTAMP:20260422T000232
CREATED:20260113T060732Z
LAST-MODIFIED:20260113T060732Z
UID:50722-1786406400-1786579199@uoa-academy.com
SUMMARY:Champion Administrative Personnel  (2 Days)
DESCRIPTION:Objectives  \nThis programme is designed to help employees work more effectively with their immediate superiors while managing tasks\, priorities\, and time efficiently. Participants will learn how to understand their boss’s expectations\, preferences\, and working style\, translate instructions into clear actions\, and build a smart working partnership that supports productivity and performance.  \nThe programme also focuses on professional image\, integrity\, work habits\, and time management skills to enable participants to work smarter\, improve efficiency\, and achieve better results with less stress.  \nTarget Audience  \n\n Administrative and Executive Assistants \n Officers and Executives \n Supervisors and Coordinators \n Support Staff working closely with managers \n Employees responsible for task coordination and scheduling \n\nLearning Outcomes  \n\n By the end of this programme\, participants will be able to: \n Understand their boss’s expectations\, preferences\, and working style \nBuild a smart and professional working partnership with their superior \nTranslate work instructions into clear and actionable tasks \n Set clear personal and work objectives and priorities \n Apply effective time and task management techniques \n Maintain professional image\, integrity\, and positive working relationships \nImprove productivity\, efficiency\, and overall work performance \n\nCourse Outline  \nDay 1  \nModule 1: Introduction to Office Administration Getting Organised  \nAdapting to IR 4.0 in technologies and Artificial Intelligence (AI)  \nModule 2: Managing Time  \n\n Managing Your Time\, Keeping Others on Track\, Maintaining Schedules \nPrioritising: The Urgent and The Importance \n SMART Planning and Goal setting \n\nModule 3: Managing Tasks\, Managing Self  \n\n The 80:20 Principles \n Effective vs. Efficient Professional Grooming \n Organising meetings and code of conduct in meetings \n Office Ethics with Internal and External parties \n\nModule 4: Interpersonal Communication Skills  \n\n Verbal and Nonverbal Communication \n Body Language and Its Impact \n The Signal you send to others \n The SELF-MAGNET networking \n Personal IMAGE in and outside the office \n\nDay 2 Module 5: Managing Boss Expectation  \n\n Knowing your Superior \n Matching the pace and boss’s personality \n Your superior‘s Preferences vs. Policy \n\nModule 6:The Team of TWO (Teaming with the Boss)  \n\nWorking with your Superior \n Compatible vs. Chemistry \n Influencing and Convincing Skills \n\nModule 7: Tools and Technique to Organize Work Routine  \n\nTool # 1 : Idea Management : Mind Charting \n Tool # 2 : Idea Planning : Activity versus Timeline Matrix \nTool # 3 : Control Chart : Visual Control \n Tool # 4 : Work Alignment : CTA \n Tool # 5 : Work Up-date : CTUg \n\nModule 8: Wrap up and Moving Forward  \nPRICING: \n\nRM 2\,200.00 Per Person (HRD Corp Claimable Course) + 8% SSTTo inquire about pricing for our training\, please contact us for a quote. \n\n\nKindly scan or click on the link below for your. Learning Registration.For any enquiries\, please contact us at:UOA Academy Sdn BhdSuite 1-2\, Lower Level 1\, City\, The Horizon Annexe\, Avenue 7\,Bangsar South\, 59200 Kuala Lumpur\, Wilayah Persekutuan Kuala Lumpur. \nTel: 6013 482 4810 / 6016 241 3517Email: register@uoa-academy.com \n\n  \n\n \nClick Here for Registration & Further Details!  \n \nCancellation & Transfer\n\nPlease note that should this registration be cancelled fourteen (14) days before the day of the training\, a 50% cancellation charge will be imposed. If cancellation is made seven (7) days before the training\, full payment of the training will be levied. Please note that amendments can only be made to the above arrangement by giving a minimum of three (3) working days’ notice. Additionally\, a 30% upfront payment is required via Human Resource Development Corporation (HRDC) or bank transfer.  \nDisclaimer: UOA Academy reserves the right to make changes to the venue\, date\, and speaker\, including cancellation of the workshop if warranted by circumstances beyond its control.  \n\n     \n  \n 
URL:https://uoa-academy.com/events/champion-administrative-personnel-2-day-skills-course/
CATEGORIES:Interpersonal Development,Interpersonal Skill,Management,Self Development
END:VEVENT
END:VCALENDAR