BEGIN:VCALENDAR
VERSION:2.0
PRODID:-//UOA Academy - ECPv6.15.20//NONSGML v1.0//EN
CALSCALE:GREGORIAN
METHOD:PUBLISH
X-WR-CALNAME:UOA Academy
X-ORIGINAL-URL:https://uoa-academy.com
X-WR-CALDESC:Events for UOA Academy
REFRESH-INTERVAL;VALUE=DURATION:PT1H
X-Robots-Tag:noindex
X-PUBLISHED-TTL:PT1H
BEGIN:VTIMEZONE
TZID:Asia/Kuala_Lumpur
BEGIN:STANDARD
TZOFFSETFROM:+0800
TZOFFSETTO:+0800
TZNAME:+08
DTSTART:20240101T000000
END:STANDARD
END:VTIMEZONE
BEGIN:VEVENT
DTSTART;VALUE=DATE:20250305
DTEND;VALUE=DATE:20250307
DTSTAMP:20260422T060048
CREATED:20250210T085416Z
LAST-MODIFIED:20250210T085738Z
UID:37364-1741132800-1741305599@uoa-academy.com
SUMMARY:Hazard Identification\, Risk Assessment and Risk Control (HIRARC)
DESCRIPTION:Objectives \nThe Hazard Identification\, Risk Assessment\, and Risk Control (HIRARC) Training Course is designed to equip participants with the essential knowledge and skills to systematically identify\, assess\, and control hazards in the workplace. The course is designed to instill a comprehensive understanding of HIRARC principles\, fostering a proactive safety culture within organizations. \nTarget Audience \nThis training course is tailored for individuals across various industries\, including but not limited to safety officers\, supervisors\, managers\, and middle management that are involved in health and safety responsibilities. It caters to professionals seeking to enhance their proficiency in hazard identification\, risk assessment\, and risk control\, ultimately contributing to a safer working environment. \nLearning Outcomes  \n\nThorough understanding of HIRARC methodology.\nProficiency in identifying workplace hazards and conducting risk assessments.\nImplementation of practical risk control measures.\nDevelopment of clear safety communication skills.\nActive contribution to robust safety management systems.\nEmpowerment to minimize risks and foster a safer work environment.\n\nCourse Outlines: \nDay 1: \nModule 1: Introduction to HIRARC Principles \n\nOverview and importance of Hazard Identification\, Risk Assessment\, and Risk Control.\nPrinciples of fostering a proactive safety culture.\n\nModule 2: HIRARC Methodology \n\nIn-depth exploration and practical application exercises.\nCase studies illustrating successful HIRARC implementation.\n\nModule 3: Target Audience and Industry Application \n\nIdentification of target audience and customization for diverse industries.\nPractical scenarios and discussions for industry-specific application.\n\nModule 4: Proficiency in Hazard Identification and Risk Assessment \n\nTechniques for identifying workplace hazards.\nStep-by-step guide to conducting effective risk assessments.\n\nDay 2: \nModule 5: Practical Risk Control Measures \n\nImplementation strategies and real-world simulations.\nShowcasing successful risk control practices through case studies.\n\nModule 6: Safety Communication Skills \n\nImportance of clear safety communication.\nDeveloping effective communication strategies.\n\nModule 7: Contribution to Safety Management Systems \n\nActive contribution to robust safety management systems.\nIntegration of HIRARC principles into organizational safety frameworks.\n\nModule 8: Empowerment for a Safer Work Environment \n\nStrategies for minimizing risks in the workplace.\nFostering a culture of safety empowerment.\n\nPRICING: \n\nRM 1\,800.00 Per Person (HRD Corp Claimable Course) + 8% SST \n\n \nKindly scan or click on the link below for your \nLearning Registration.\n \nFor any enquiries\, please contact us at:\n \nUOA Academy Sdn Bhd\nUOA Corporate Tower\, Lobby A\, Avenue 10\, The Vertical\nBangsar South City\, No 8 Jalan Kerinchi\n59200 Kuala Lumpur\, Malaysia.\nTel: 6019 225 0942 / 6016 806 1760 / 6016 241 3517\nEmail: register@uoa-academy.com\n \n\nhttps://www.surveymonkey.com/r/EXTREG\n \nCancellation & Transfer\n\nPlease note that should this registration be cancelled fourteen (14) days before the day of the training\, a 50% cancellation charge will be imposed. If cancellation is made seven (7) days before the training\, full payment of the training will be levied. Please note that amendments can only be made to the above arrangement by giving a minimum of three (3) working days’ notice. Additionally\, a 30% upfront payment is required via Human Resource Development Corporation (HRDC) or bank transfer. \nDisclaimer: UOA Academy reserves the right to make changes to the venue\, date\, and speaker\,\nincluding cancellation of the workshop if warranted by circumstances beyond its control. \n\n  \n\n  \nJoin Today! \n 
URL:https://uoa-academy.com/events/hazard-identification-risk-assessment-and-risk-control/
CATEGORIES:Interpersonal Development,Interpersonal Skill,Management,Self Development
ATTACH;FMTTYPE=image/jpeg:https://uoa-academy.com/wp-content/uploads/2025/02/Hazard-Identification-Risk-Assessment-and-Risk-Control-HIRARC-Training-Course.jpg
END:VEVENT
BEGIN:VEVENT
DTSTART;VALUE=DATE:20250305
DTEND;VALUE=DATE:20250307
DTSTAMP:20260422T060048
CREATED:20250204T013145Z
LAST-MODIFIED:20250204T013408Z
UID:36833-1741132800-1741305599@uoa-academy.com
SUMMARY:Time Management for Boosting Productivity
DESCRIPTION:Objectives \nThe objective of this training course is to equip participants with effective time management techniques to enhance their productivity and efficiency. The course focuses on teaching participants how to prioritize tasks\, set realistic goals\, and implement strategies to minimize procrastination and distractions. By learning to organize their workload\, manage their time more effectively\, and use productivity tools\, participants will be able to optimize their performance and achieve a better balance between professional and personal responsibilities. \nTarget Audience \nThis training course is designed for professionals at all levels who seek to improve their time management skills and enhance their productivity. It is particularly beneficial for individuals facing challenges with prioritizing tasks\, meeting deadlines\, or managing a heavy workload. The course is ideal for team leaders\, managers\, and employees who want to develop more effective organizational habits\, reduce stress related to time constraints\, and achieve a better balance between work and personal life. \nLearning Outcomes \n\nEffective Prioritization: Skills to identify and prioritize tasks based on urgency and importance\, ensuring focus on high-impact activities.\nGoal Setting and Planning: Techniques for setting clear\, achievable goals and creating actionable plans to manage and track progress efficiently.\nProcrastination Reduction: Strategies to overcome procrastination and maintain consistent productivity through effective time management practices.\nEfficient Use of Tools: Proficiency in utilizing time management tools and technologies to streamline tasks\, schedules\, and reminders.\nEnhanced Work-Life Balance: Methods to balance professional responsibilities with personal life\, reducing stress and preventing burnout.\nImproved Organizational Skills: Techniques for organizing tasks\, setting deadlines\, and managing workflows to enhance overall productivity and efficiency.\n\nCourse Outlines:  \nDay 1: Foundations and Core Techniques \nModule 1: Understanding Time Management \n\nPrinciples of Time Management: Explore the fundamental concepts and benefits of effective time management.\nAssessing Time Usage: Techniques for evaluating how time is currently spent and identifying areas for improvement.\n\nModule 2: Prioritization and Goal Setting \n\nTask Prioritization: Methods for categorizing tasks by urgency and importance to focus on high-priority activities.\nSMART Goals: Techniques for setting Specific\, Measurable\, Achievable\, Relevant\, and Time-bound goals to guide productivity.\n\nModule 3: Planning and Scheduling \n\nCreating Effective Schedules: Strategies for developing daily\, weekly\, and monthly schedules to manage time efficiently.\nTask Management Systems: Introduction to various task management systems and tools to organize and track tasks and deadlines.\n\nModule 4: Overcoming Procrastination \n\nIdentifying Procrastination Triggers: Understanding common reasons for procrastination and strategies to address them.\nMotivation Techniques: Methods to enhance motivation and maintain focus to complete tasks in a timely manner.\n\nDay 2: Advanced Techniques and Application \nModule 5: Utilizing Time Management Tools \n\nTechnology Solutions: Introduction to digital tools and apps for time management\, such as calendar apps\, task managers\, and time trackers.\nIntegrating Tools into Workflow: Strategies for incorporating these tools effectively into daily routines to boost productivity.\n\nModule 6: Enhancing Work-Life Balance \n\nBalancing Professional and Personal Life: Techniques for managing work responsibilities while maintaining personal well-being and reducing stress.\nSetting Boundaries: Methods for setting clear boundaries between work and personal time to improve overall life balance.\n\nModule 7: Improving Organizational Skills \n\nOrganizing Workspaces and Tasks: Strategies for maintaining an organized workspace and efficiently managing task lists.\nEffective Delegation: Techniques for delegating tasks appropriately to improve team productivity and focus on high-priority activities.\n\nModule 8: Developing a Personal Action Plan \n\nCreating an Action Plan: Develop a personalized plan to implement learned time management techniques and strategies.\nRole-Playing and Scenario Practice: Engage in exercises and role-playing scenarios to practice applying time management skills and addressing potential challenges.\n\nPRICING:\nRM 1\,800.00 Per Person (HRD Corp Claimable Course) + 8% SST \n\n \nKindly scan or click on the link below for your \nLearning Registration.\n \nFor any enquiries\, please contact us at:\n \nUOA Academy Sdn Bhd\nUOA Corporate Tower\, Lobby A\, Avenue 10\, The Vertical\nBangsar South City\, No 8 Jalan Kerinchi\n59200 Kuala Lumpur\, Malaysia.\nTel: 6019 225 0942 / 6016 806 1760 / 6016 241 3517\nEmail: register@uoa-academy.com\n \n\nhttps://www.surveymonkey.com/r/EXTREG\n \nCancellation & Transfer\n\nPlease note that should this registration be cancelled fourteen (14) days before the day of the training\, a 50% cancellation charge will be imposed. If cancellation is made seven (7) days before the training\, full payment of the training will be levied. Please note that amendments can only be made to the above arrangement by giving a minimum of three (3) working days’ notice. Additionally\, a 30% upfront payment is required via Human Resource Development Corporation (HRDC) or bank transfer. \nDisclaimer: UOA Academy reserves the right to make changes to the venue\, date\, and speaker\,\nincluding cancellation of the workshop if warranted by circumstances beyond its control. \n\n  \n\n  \nJoin Today! \n 
URL:https://uoa-academy.com/events/time-management-for-boosting-productivity-2/
CATEGORIES:Interpersonal Development,Interpersonal Skill,Management,Self Development
ATTACH;FMTTYPE=image/jpeg:https://uoa-academy.com/wp-content/uploads/2025/02/Time-Management-for-Boosting-Productivity.jpg
END:VEVENT
BEGIN:VEVENT
DTSTART;VALUE=DATE:20250128
DTEND;VALUE=DATE:20250130
DTSTAMP:20260422T060048
CREATED:20250529T033040Z
LAST-MODIFIED:20260122T025627Z
UID:43078-1738022400-1738195199@uoa-academy.com
SUMMARY:Managing Expectation & Stress Management: A Holistic View
DESCRIPTION:Objectives\n\nThe “Managing Expectations & Stress Management” course is designed to equip participants with the skills to effectively manage expectations and navigate stress in both professional and personal contexts. The primary objectives include providing insights intoexpectation management strategies\, offering practical stress management techniques\, and fostering resilience in challenging situations. \nTarget AudienceThis course is tailored for executives\, senior managers\, and individuals in leadership roles who aim to enhance their ability to manage expectations and stress effectively. It is suitable for anyone seeking practical tools and strategies to navigate high-pressure situations\,improve performance\, and foster a positive work-life balance. \nLearning Outcomes● Communicate expectations clearly to minimize conflicts.● Learn practical and effective stress management techniques.● Foster resilience in facing challenging situations.● Develop skills to navigate challenging situations with composure.● Gain a deep understanding of effective management contributing to overallwell-being. \nCourse Outlines: \nDay 1: \nModule 1: Introduction to Expectation Management● Overview of the course objectives.● Importance of effective expectation management in professional and personalcontexts. \nModule 2: Strategies for Clear Communication of Expectations● Techniques for communicating expectations clearly.● Minimizing conflicts through effective communication. \nModule 3: Practical Stress Management Techniques● Introduction to stress management principles.● Learning and applying practical techniques for stress reduction. \nModule 4: Building Resilience● Understanding resilience in the face of challenges.● Strategies for fostering resilience in both professional and personal aspects. \nDay 2: \nModule 5: Navigating Challenging Situations with Composure● Developing skills to navigate high-pressure situations.● Maintaining composure and effectiveness in challenging environments. \nModule 6: Work-Life Balance● Importance of work-life balance.● Strategies for achieving and maintaining a positive work-life balance. \nModule 7: Overall Well-being and Professional Success● Connecting effective expectation management and stress reduction to overallwell-being.● Building skills for professional success through effective stress and expectationmanagement. \nModule 8: Group Activities and Discussions● Engaging in group activities to reinforce learning.● Discussions on challenges and solutions in managing expectations and stress. \n\nPRICING:\nRM 1\,800.00 Per Person (HRD Corp Claimable Course) + 8% SST\n\n \nKindly scan or click on the link below for your \nLearning Registration.\n \nFor any enquiries\, please contact us at:\n \nUOA Academy Sdn Bhd\nUOA Corporate Tower\, Lobby A\, Avenue 10\, The Vertical\nBangsar South City\, No 8 Jalan Kerinchi\n59200 Kuala Lumpur\, Malaysia.\nTel: 603-2381 0478 | 6012-575 1767\nEmail: register@uoa-academy.com\n \n\nhttps://www.surveymonkey.com/r/EXTREG\n \nCancellation & Transfer\nPlease note that should this registration be cancelled fourteen (14) days before the day of the training\, a 50% cancellation charge will be imposed. If cancellation is made seven (7) days before the training\, full payment of the training will be levied. Please note that amendments can only be made to the above arrangement by giving a minimum of three (3) working days’ notice. Additionally\, a 30% upfront payment is required via Human Resource Development Corporation (HRDC) or bank transfer. Disclaimer: UOA Academy reserves the right to make changes to the venue\, date\, and speaker\, including cancellation of the workshop if warranted by circumstances beyond its control.\n     \nJoin Today! \n  \n\n\n\n 
URL:https://uoa-academy.com/events/managing-expectation-stress-management-a-holistic-view/
CATEGORIES:Interpersonal Development,Interpersonal Skill,Leadership,Management,Personal Growth & Development,Self Development
END:VEVENT
END:VCALENDAR