BEGIN:VCALENDAR
VERSION:2.0
PRODID:-//UOA Academy - ECPv6.15.20//NONSGML v1.0//EN
CALSCALE:GREGORIAN
METHOD:PUBLISH
X-WR-CALNAME:UOA Academy
X-ORIGINAL-URL:https://uoa-academy.com
X-WR-CALDESC:Events for UOA Academy
REFRESH-INTERVAL;VALUE=DURATION:PT1H
X-Robots-Tag:noindex
X-PUBLISHED-TTL:PT1H
BEGIN:VTIMEZONE
TZID:Asia/Kuala_Lumpur
BEGIN:STANDARD
TZOFFSETFROM:+0800
TZOFFSETTO:+0800
TZNAME:+08
DTSTART:20250101T000000
END:STANDARD
END:VTIMEZONE
BEGIN:VEVENT
DTSTART;VALUE=DATE:20260623
DTEND;VALUE=DATE:20260625
DTSTAMP:20260422T061742
CREATED:20260113T010639Z
LAST-MODIFIED:20260113T010639Z
UID:50675-1782172800-1782345599@uoa-academy.com
SUMMARY:Strategic Leadership & Change Mastery (2 Days)
DESCRIPTION:Objectives  \nThe program is designed to equip leaders with skills to drive change and lead teams strategically. It develops a mindset of adaptability and forward‑thinking in leadership. This program offers participants relevant tools and frameworks for aligning team goals with organizational strategy and change.  \nTarget Audience  \nThe program is suitable for middle to senior-level managers\, department heads\, business unit leaders\, change agents\, transformation teams\, and high-potential talent in the leadership pipeline.  \nLearning Outcomes  \nBy the end of this program\, participants will be able to:  \n\n Apply strategic thinking frameworks to effectively align team actions with organizational goals. \n Lead change initiatives with clarity\, confidence\, and impactful communication. \nIdentify sources of resistance to change and implement strategies to manage them effectively. \n Apply a strategic change framework to drive successful transformation in the workplace.\n\nCourse Outlines: Day 1: Strategic Leadership Foundations  \nModule 1: The Role of a Strategic Leader  \n\n Moving from operational to strategic mindset \n Traits of high-impact leaders \n Personal leadership audit & clarity of purpose \n\nModule 2: Strategic Thinking & Alignment  \n\n Using SWOT\, PESTLE\, and Strategic Mapping \n Aligning team goals with organizational direction \n Making trade-offs and resource prioritization \n\nModule 3: Decision-Making Under Pressure  \n\n Critical thinking tools (e.g.\, 5 Whys\, Fishbone) \n Risk-aware and data-informed decisions \n Deciding with incomplete information \n\nDay 2: Change is the Only Constant!  \nModule 4: From Status Quo to Future State  \n\n Change Gurus and Paradigm Shift \n Lewin’s 3-Step Change Model \n Kotter’s 8-Step Change Model \n Who Says the Elephant Can’t Dance? \n\nModule 5: Transformation Matrix  \n\n Degree\, level\, and scope of change \n Continuous improvement vs drastic change \n Quick wins vs sustainable shifts \n Change agent \n\nModule 6: Change Management Framework  \n\n Organizational-wide change \n New KPIs\, behaviors\, coaching\, mentoring-performance \nCulture-wide change \n\nPRICING: \n\nRM 2\,200.00 Per Person (HRD Corp Claimable Course) + 8% SSTTo inquire about pricing for our training\, please contact us for a quote. \n\n\nKindly scan or click on the link below for your. Learning Registration.For any enquiries\, please contact us at:UOA Academy Sdn BhdSuite 1-2\, Lower Level 1\, City\, The Horizon Annexe\, Avenue 7\,Bangsar South\, 59200 Kuala Lumpur\, Wilayah Persekutuan Kuala Lumpur. \nTel: 6013 482 4810 / 6016 241 3517Email: register@uoa-academy.com \n\n  \n\n \nClick Here for Registration & Further Details!  \n \nCancellation & Transfer\n\nPlease note that should this registration be cancelled fourteen (14) days before the day of the training\, a 50% cancellation charge will be imposed. If cancellation is made seven (7) days before the training\, full payment of the training will be levied. Please note that amendments can only be made to the above arrangement by giving a minimum of three (3) working days’ notice. Additionally\, a 30% upfront payment is required via Human Resource Development Corporation (HRDC) or bank transfer.  \nDisclaimer: UOA Academy reserves the right to make changes to the venue\, date\, and speaker\, including cancellation of the workshop if warranted by circumstances beyond its control.  \n\n     \n  \n 
URL:https://uoa-academy.com/events/strategic-leadership-change-mastery-2-day-executive-course/
CATEGORIES:Interpersonal Development,Interpersonal Skill,Management,Self Development
END:VEVENT
BEGIN:VEVENT
DTSTART;VALUE=DATE:20260623
DTEND;VALUE=DATE:20260625
DTSTAMP:20260422T061742
CREATED:20260113T011156Z
LAST-MODIFIED:20260113T011156Z
UID:50677-1782172800-1782345599@uoa-academy.com
SUMMARY:Sensory Awareness & Mindfulness (SAM)  (2 Days)
DESCRIPTION:Objectives  \nSensory Awareness & Mindfulness (SAM) is a wellbeing programme designed to help employees slow down\, reconnect with themselves\, and build healthier ways to cope with stress and emotional fatigue. The programme blends mindfulness with sensory-based self-care approaches to support professionals facing high workloads\, caregiving responsibilities\, and constant pressure.  \nOver two days\, participants will engage in guided sensory and mindfulness practices that enhance self-awareness\, emotional regulation\, and resilience. The programme focuses on practical\, experiential learning that participants can safely apply in daily work and personal life.  \nTarget Audience  \n\n Working Professionals \n Caretakers \n Helping Professionals \n Employees experiencing high workload or emotional demands \n\nLearning Outcomes  \n\n Understand the core pillars of self-care and the impact of neglecting wellbeing at work \n Recognise personal stress signals and early signs of burnout \n Apply mindfulness principles to manage emotional and mental challenges \nPractise a range of sensory-based self-care techniques \n Use creative expression as a tool for emotional processing and grounding \nDevelop a personal mindfulness and self-care routine \n\nCourse Outlines:  \nDay 1 – Awareness\, Regulation & Inner Stability  \nModule 1: Understanding Stress & the Modern Workplace  \nWorkplace stress in today’s environment  \n\n Emotional load\, mental fatigue\, and burnout risks \n How stress affects focus\, mood\, and behaviour \n\nModule 2: The Body–Mind Connection  \n\n How the nervous system responds to stress \n Fight\, flight\, freeze and shutdown responses \n Recognising physical and emotional stress signals \n\nModule 3: Foundations of Mindfulness  \n\n What mindfulness is (and what it is not) \n Present-moment awareness \n The 9 attitudes of mindfulness \n Applying mindfulness at work \n\nModule 4: Sensory Awareness for Grounding  \n\n Using sight\, sound\, touch\, and movement to regulate emotions \nGrounding techniques for overwhelm and anxiety \n Sensory practices for focus and calm\n\nDay 2 – Expression\, Integration & Resilience Building  \nModule 5: Sensory-Based Self-Care Practices  \n\n Brainspotting (gaze spotting) for emotional release \n Mindfulness touch practices \n Mindfulness body movement and walking \n\nModule 6: Creative Expression for Emotional Processing  \n\n Expressive art as a non-verbal processing tool \n Bilateral music and drawing \n Painting and reflective writing for clarity \n\nModule 7: Building Emotional Resilience  \n\n Responding vs reacting \n Self-compassion and emotional balance \n Creating healthy coping strategies for daily stress \n\nModule 8: Integration & Personal Mindfulness Plan  \n\n Integrating mindfulness into daily routines \n Creating a simple\, sustainable self-care plan \n Reflection\, sharing\, and commitment to practice \n\nTraining Methodology  \nThis programme uses experiential learning\, sensory-based practices\, creative expression\, guided reflection\, and group sharing. Participants engage in hands-on mindfulness activities designed to promote awareness\, emotional regulation\, and resilience in a safe and supportive environment.  \nPRICING: \n\nRM 2\,200.00 Per Person (HRD Corp Claimable Course) + 8% SSTTo inquire about pricing for our training\, please contact us for a quote. \n\n\nKindly scan or click on the link below for your. Learning Registration.For any enquiries\, please contact us at:UOA Academy Sdn BhdSuite 1-2\, Lower Level 1\, City\, The Horizon Annexe\, Avenue 7\,Bangsar South\, 59200 Kuala Lumpur\, Wilayah Persekutuan Kuala Lumpur. \nTel: 6013 482 4810 / 6016 241 3517Email: register@uoa-academy.com \n\n  \n\n \nClick Here for Registration & Further Details!  \n \nCancellation & Transfer\n\nPlease note that should this registration be cancelled fourteen (14) days before the day of the training\, a 50% cancellation charge will be imposed. If cancellation is made seven (7) days before the training\, full payment of the training will be levied. Please note that amendments can only be made to the above arrangement by giving a minimum of three (3) working days’ notice. Additionally\, a 30% upfront payment is required via Human Resource Development Corporation (HRDC) or bank transfer.  \nDisclaimer: UOA Academy reserves the right to make changes to the venue\, date\, and speaker\, including cancellation of the workshop if warranted by circumstances beyond its control.  \n\n     \n  \n 
URL:https://uoa-academy.com/events/sensory-awareness-mindfulness-sam-2-day-wellbeing-course/
CATEGORIES:Interpersonal Development,Interpersonal Skill,Management,Self Development
END:VEVENT
BEGIN:VEVENT
DTSTART;VALUE=DATE:20260623
DTEND;VALUE=DATE:20260625
DTSTAMP:20260422T061742
CREATED:20260113T011649Z
LAST-MODIFIED:20260113T011912Z
UID:50679-1782172800-1782345599@uoa-academy.com
SUMMARY:Boost your Productivity with Artificial Intelligence-AI (2 Days)
DESCRIPTION:Objectives  \nThis 2-day training program is designed to equip participants with the knowledge and skills to leverage Artificial Intelligence (AI) tools specifically aimed at enhancing time management and productivity. Through practical workshops\, hands-on exercises\, and interactive discussions\, participants will explore AI-driven solutions tailored to optimize time allocation\, streamline workflows\, and prioritize tasks efficiently. The training will focus on practical strategies for integrating AI technologies into daily routines to maximize productivity and achieve better time management outcomes.  \nTarget Audience  \nThis training is suitable for professionals\, entrepreneurs\, and individuals seeking to enhance their time management skills using AI technologies. It is ideal for anyone who wants to learn how to leverage AI tools and techniques to prioritize tasks effectively\, automate repetitive processes\, and optimize time allocation in both personal and professional contexts.  \nLearning Outcomes  \n\n Understand the role of Artificial Intelligence (AI) in time management and productivity enhancement. \n Identify and evaluate AI-powered tools and technologies designed to optimize time allocation and streamline workflows. \n Develop practical skills in using AI-driven solutions for task prioritization\, scheduling\, and time tracking. \n Implement effective strategies for integrating AI into daily routines to improve time management practices and boost productivity. \n Cultivate a mindset for continuous learning and exploration of AI-driven productivity solutions to optimize time management in the long term\n\nCourse Outlines:  \nDay 1  \nSession 1: Introduction to AI for Time Management  \n\nOverview of Artificial Intelligence (AI) and its relevance in time management. \nUnderstanding the intersection of AI technologies and productivity enhancement. \nExploring common challenges in time management and how AI can address them. \n\nSession 2: Prioritizing Tasks with AI  \n\nStrategies for using AI-powered tools to prioritize tasks effectively. \nHands-on exercises in categorizing tasks based on urgency and importance. \nLeveraging AI algorithms for personalized task prioritization. \n\nSession 3: Automating Repetitive Tasks with AI  \n\nIntroduction to AI-driven automation tools and techniques. \nDemonstrations of automating repetitive tasks using AI algorithms. \nBenefits and considerations of task automation in time management. \n\nSession 4: AI-Powered Scheduling and Time Tracking  \n\nExploring AI-enabled scheduling applications and time tracking tools. \nHands-on exercises in using AI for scheduling meetings and appointments. \nLeveraging AI insights for optimizing time allocation and identifying productivity patterns. \n\nDay 2:  \nSession 5: Maximizing Efficiency with AI-Driven Personal Assistants  \n\nOverview of AI-powered personal assistant applications and productivity tools. \nHands-on exploration of virtual assistants for task management and reminders. \nTips and techniques for maximizing efficiency with AI-driven personal assistants. \n\nSession 6: Enhancing Focus and Concentration with AI  \n\nStrategies for using AI technologies to minimize distractions and maintain focus. \nExploring AI-driven tools for blocking distractions and managing digital clutter. \nPractical exercises in creating an AI-enhanced productivity environment. \n\nSession 7: Integrating AI into Daily Routines  \n\nDeveloping personalized routines and workflows with AI-driven productivity solutions. \nTips for seamlessly integrating AI tools into daily schedules and habits. \nCase studies and success stories of individuals leveraging AI for better time management. \n\nSession 8: Action Planning and Implementation  \n\nDeveloping actionable plans for integrating AI-driven time management strategies into participants’ daily routines. \nPeer feedback and collaboration on implementation strategies and best practices. \nClosing remarks and resources for continued learning and exploration of AI-driven time management solutions. \n\nPRICING: \n\nRM 2\,200.00 Per Person (HRD Corp Claimable Course) + 8% SSTTo inquire about pricing for our training\, please contact us for a quote. \n\n\nKindly scan or click on the link below for your. Learning Registration.For any enquiries\, please contact us at:UOA Academy Sdn BhdSuite 1-2\, Lower Level 1\, City\, The Horizon Annexe\, Avenue 7\,Bangsar South\, 59200 Kuala Lumpur\, Wilayah Persekutuan Kuala Lumpur. \nTel: 6013 482 4810 / 6016 241 3517Email: register@uoa-academy.com \n\n  \n\n \nClick Here for Registration & Further Details!  \n \nCancellation & Transfer\n\nPlease note that should this registration be cancelled fourteen (14) days before the day of the training\, a 50% cancellation charge will be imposed. If cancellation is made seven (7) days before the training\, full payment of the training will be levied. Please note that amendments can only be made to the above arrangement by giving a minimum of three (3) working days’ notice. Additionally\, a 30% upfront payment is required via Human Resource Development Corporation (HRDC) or bank transfer.  \nDisclaimer: UOA Academy reserves the right to make changes to the venue\, date\, and speaker\, including cancellation of the workshop if warranted by circumstances beyond its control.  \n\n     \n  \n 
URL:https://uoa-academy.com/events/boost-productivity-with-ai-2-day-time-management-workshop/
CATEGORIES:Interpersonal Development,Interpersonal Skill,Management,Self Development
END:VEVENT
BEGIN:VEVENT
DTSTART;VALUE=DATE:20260623
DTEND;VALUE=DATE:20260625
DTSTAMP:20260422T061742
CREATED:20260113T012625Z
LAST-MODIFIED:20260113T012625Z
UID:50681-1782172800-1782345599@uoa-academy.com
SUMMARY:Conflict Resolution: Getting Along in the Workplace (2 Days)
DESCRIPTION:Objectives  \nConflict is a natural part of any workplace\, but when not effectively managed\, it can hinder productivity\, damage relationships\, and impact overall team morale. This two-day training course focuses on equipping participants with essential conflict resolution skills to promote a harmonious work environment. Participants will learn strategies and techniques to identify\, address\, and resolve conflicts\, fostering open communication\, collaboration\, and a positive workplace culture.  \nTarget Audience  \nAll levels of staff including senior and mid-managers\, supervisors\, executives\, frontline staff and those who seek to improve their professional skills in business communication.  \nLearning Outcomes  \nBy the end of this programme\, participants will be able to:  \n\n Understand the nature and causes of workplace conflicts. \n Identify different conflict resolution styles and their implications. \n Apply effective communication techniques to prevent and manage conflicts. \nUtilize active listening skills to understand and address underlying concerns. \n\nCourse Outlines: Day 1:  \nModule 1:Introduction to Workplace Conflict  \n\n Understanding the nature and impact of workplace conflicts \nCommon causes and signs of conflicts \n The importance of addressing conflicts proactively \n\nModule 2: Conflict Resolution Styles  \n\n Exploring different conflict resolution styles \n Recognizing the strengths and limitations of each style\nIdentifying personal conflict resolution tendencies \n\nModule 3: Effective Communication in Conflict Resolution  \n\n Importance of clear and assertive communication \n Nonverbal communication and its impact on conflict resolution \nActive listening techniques to promote understanding \n\nModule 4: Problem-Solving Approaches  \n\n Applying problem-solving techniques to conflicts \n Identifying underlying interests and needs \n Generating creative options for resolution \n\nDay 2:  \nModule 5: Emotional Intelligence in Conflict Resolution  \n\n Understanding emotions and their role in conflicts \n Managing personal emotions during conflicts \n Empathy and building rapport to diffuse tension \n\nModule 6: Collaboration and Negotiation  \n\n Collaborative approaches to conflict resolution \n Building consensus and reaching win-win outcomes \n Negotiation techniques for mutually beneficial resolutions \n\nModule 7: Preventing and Resolving Workplace Conflicts  \n\n Strategies for preventing conflicts in the workplace \n Early intervention and conflict management techniques \nMediation and facilitation skills \n\nModule 8: Developing a Conflict Resolution Action Plan  \n\n Identifying personal areas for growth in conflict resolution \nCreating an action plan for implementing conflict resolution strategies \nApplying conflict resolution skills in real-life scenarios \n\nPRICING: \n\nRM 2\,200.00 Per Person (HRD Corp Claimable Course) + 8% SSTTo inquire about pricing for our training\, please contact us for a quote. \n\n\nKindly scan or click on the link below for your. Learning Registration.For any enquiries\, please contact us at:UOA Academy Sdn BhdSuite 1-2\, Lower Level 1\, City\, The Horizon Annexe\, Avenue 7\,Bangsar South\, 59200 Kuala Lumpur\, Wilayah Persekutuan Kuala Lumpur. \nTel: 6013 482 4810 / 6016 241 3517Email: register@uoa-academy.com \n\n  \n\n \nClick Here for Registration & Further Details!  \n \nCancellation & Transfer\n\nPlease note that should this registration be cancelled fourteen (14) days before the day of the training\, a 50% cancellation charge will be imposed. If cancellation is made seven (7) days before the training\, full payment of the training will be levied. Please note that amendments can only be made to the above arrangement by giving a minimum of three (3) working days’ notice. Additionally\, a 30% upfront payment is required via Human Resource Development Corporation (HRDC) or bank transfer.  \nDisclaimer: UOA Academy reserves the right to make changes to the venue\, date\, and speaker\, including cancellation of the workshop if warranted by circumstances beyond its control.  \n\n     \n  \n 
URL:https://uoa-academy.com/events/conflict-resolution-getting-along-in-the-workplace-2-days/
CATEGORIES:Interpersonal Development,Interpersonal Skill,Management,Self Development
END:VEVENT
END:VCALENDAR