BEGIN:VCALENDAR
VERSION:2.0
PRODID:-//UOA Academy - ECPv6.15.20//NONSGML v1.0//EN
CALSCALE:GREGORIAN
METHOD:PUBLISH
X-WR-CALNAME:UOA Academy
X-ORIGINAL-URL:https://uoa-academy.com
X-WR-CALDESC:Events for UOA Academy
REFRESH-INTERVAL;VALUE=DURATION:PT1H
X-Robots-Tag:noindex
X-PUBLISHED-TTL:PT1H
BEGIN:VTIMEZONE
TZID:Asia/Kuala_Lumpur
BEGIN:STANDARD
TZOFFSETFROM:+0800
TZOFFSETTO:+0800
TZNAME:+08
DTSTART:20250101T000000
END:STANDARD
END:VTIMEZONE
BEGIN:VEVENT
DTSTART;VALUE=DATE:20260616
DTEND;VALUE=DATE:20260617
DTSTAMP:20260422T013455
CREATED:20260112T082515Z
LAST-MODIFIED:20260112T082515Z
UID:50671-1781568000-1781654399@uoa-academy.com
SUMMARY:Administrative Excellence
DESCRIPTION:Objectives  \nThe Next Generation Administrative Excellence course is designed to empower administrative professionals with the skills\, knowledge\, and mindset required to thrive in the modern workplace. Over two days\, participants will explore the evolving role of administrative professionals\, learn to leverage technology effectively\, enhance organisational and time management skills\, and develop strong communication and problem-solving abilities. The course aims to equip participants with the tools necessary to excel in their roles and make significant contributions to their organisations.  \nTarget Audience  \nThe Next Generation Administrative Excellence course is intended for administrative professionals\, executive assistants\, office managers\, and support staff seeking to enhance their skills and effectiveness in the modern workplace. It is suitable for both seasoned professionals looking to adapt to the changing demands of their roles and emerging professionals seeking to develop a strong foundation for career growth.  \nLearning Outcomes  \n\n Embrace a growth mindset and adapt effectively to the evolving role of administrative professionals in the digital age. \n Leverage technology tools and software to enhance productivity and efficiency in daily tasks. \n Demonstrate strong organizational and time management skills to effectively handle multiple responsibilities. \n Communicate confidently and professionally\, fostering positive relationships with colleagues and stakeholders. \n Apply problem-solving techniques to analyze challenges and make informed decision\n\nCourse Outline:  \nModule 1: The Evolving Role of Administrative Professionals  \n\n Understanding the changing landscape of administrative work \n Embracing a growth mindset and adaptability in the workplace \nNavigating challenges and embracing opportunities in the digital era \n\nModule 2: Leveraging Technology for Enhanced Productivity  \n\n Exploring essential digital tools for administrative professionals \nHarnessing the power of productivity software\, project management tools\, and collaboration platforms \n Implementing time-saving techniques through automation and organization \n\nModule 3: Mastering Organizational and Time Management Skills  \n\n Prioritizing tasks and managing competing demands \n Setting and achieving SMART goals for personal and team success \nCreating efficient workflows and managing calendars effectively \n\nModule 4: Effective Communication Strategies for Administrative Professionals  \n\n Enhancing verbal and written communication skills \n Developing active listening and effective questioning techniques \nBuilding strong professional relationships with colleagues\, superiors\, and clients. \n\n  \nPRICING: \n\nRM 2\,200.00 Per Person (HRD Corp Claimable Course) + 8% SSTTo inquire about pricing for our training\, please contact us for a quote. \n\n\nKindly scan or click on the link below for your. Learning Registration.For any enquiries\, please contact us at:UOA Academy Sdn BhdSuite 1-2\, Lower Level 1\, City\, The Horizon Annexe\, Avenue 7\,Bangsar South\, 59200 Kuala Lumpur\, Wilayah Persekutuan Kuala Lumpur. \nTel: 6013 482 4810 / 6016 241 3517Email: register@uoa-academy.com \n\n  \n\n \nClick Here for Registration & Further Details!  \n \nCancellation & Transfer\n\nPlease note that should this registration be cancelled fourteen (14) days before the day of the training\, a 50% cancellation charge will be imposed. If cancellation is made seven (7) days before the training\, full payment of the training will be levied. Please note that amendments can only be made to the above arrangement by giving a minimum of three (3) working days’ notice. Additionally\, a 30% upfront payment is required via Human Resource Development Corporation (HRDC) or bank transfer.  \nDisclaimer: UOA Academy reserves the right to make changes to the venue\, date\, and speaker\, including cancellation of the workshop if warranted by circumstances beyond its control.  \n\n     \n  \n 
URL:https://uoa-academy.com/events/administrative-excellence-modern-skills-for-office-professionals/
CATEGORIES:Interpersonal Development,Interpersonal Skill,Management,Self Development
END:VEVENT
BEGIN:VEVENT
DTSTART;VALUE=DATE:20260616
DTEND;VALUE=DATE:20260617
DTSTAMP:20260422T013455
CREATED:20260113T010010Z
LAST-MODIFIED:20260113T010010Z
UID:50673-1781568000-1781654399@uoa-academy.com
SUMMARY:ESG Essentials: What Every Employee Must Know (1 day)
DESCRIPTION:Objectives  \nEnvironmental\, Social and Governance (ESG) principles are no longer limited to top management or sustainability teams. In Malaysia\, organisations are increasingly expected to demonstrate responsible business practices\, regulatory compliance\, and ethical conduct across all levels of the workforce.  \nThis programme is designed to build foundational ESG awareness among employees by explaining what ESG means\, why it matters\, and how individual roles contribute to organisational ESG commitments. Participants will gain practical understanding of ESG concepts\, workplace implications\, and everyday actions that support sustainable and responsible business practices  \nTarget Audience  \n\n Employees at all levels \n Executives\, managers\, and supervisors \n Operational and support staff \n Organisations beginning or strengthening ESG initiatives \n\nLearning Outcomes  \n\n Understand the basic concepts and components of ESG \n Recognise the importance of ESG in the Malaysian business context \nIdentify how ESG principles apply to daily work activities \n Understand employee roles and responsibilities in supporting ESG goals \nContribute positively to environmental\, social\, and governance practices at the workplace \n\nCourse Outline: Module 1: Introduction to ESG  \n\n What is ESG and why it matters \n Evolution of ESG in global and Malaysian contexts \n ESG as a business\, compliance\, and reputation issue \n\nModule 2: Environmental (E) – Sustainability at the Workplace  \n\n Environmental responsibility in organisations \n Resource efficiency\, waste reduction\, and energy awareness \nEnvironmental practices relevant to Malaysian workplaces \nEmployee roles in supporting environmental sustainability \n\nModule 3: Social (S) – People\, Workplace & Community  \n\n Workplace health\, safety\, and wellbeing \n Diversity\, inclusion\, and fair labour practices \n Ethical behaviour and respectful workplace culture \n Social responsibility within organisations and communities \n\nModule 4: Governance (G) – Ethics\, Integrity & Accountability  \n\n Understanding governance in simple terms \n Code of conduct\, policies\, and compliance \n Anti-corruption and ethical decision-making \n Employee accountability and reporting responsibilities \n\nModule 5: ESG in Daily Work Practices  \n\n How individual actions support ESG goals \n ESG-related risks and consequences of non-compliance \nSimple workplace examples and scenarios \n Aligning personal responsibility with organisational values \n\nModule 6: Building an ESG-Aware Workplace Culture  \n\n Creating awareness and shared responsibility \n Supporting organisational ESG initiatives \n Personal action planning for ESG-friendly behaviour \nKey takeaways and commitment to responsible practices \n\nPRICING: \n\nRM 1\,800.00 Per Person (HRD Corp Claimable Course) + 8% SSTTo inquire about pricing for our training\, please contact us for a quote. \n\n\nKindly scan or click on the link below for your. Learning Registration.For any enquiries\, please contact us at:UOA Academy Sdn BhdSuite 1-2\, Lower Level 1\, City\, The Horizon Annexe\, Avenue 7\,Bangsar South\, 59200 Kuala Lumpur\, Wilayah Persekutuan Kuala Lumpur. \nTel: 6013 482 4810 / 6016 241 3517Email: register@uoa-academy.com \n\n  \n\n \nClick Here for Registration & Further Details!  \n \nCancellation & Transfer\n\nPlease note that should this registration be cancelled fourteen (14) days before the day of the training\, a 50% cancellation charge will be imposed. If cancellation is made seven (7) days before the training\, full payment of the training will be levied. Please note that amendments can only be made to the above arrangement by giving a minimum of three (3) working days’ notice. Additionally\, a 30% upfront payment is required via Human Resource Development Corporation (HRDC) or bank transfer.  \nDisclaimer: UOA Academy reserves the right to make changes to the venue\, date\, and speaker\, including cancellation of the workshop if warranted by circumstances beyond its control.  \n\n     \n  \n 
URL:https://uoa-academy.com/events/esg-essentials-foundational-training-for-employees-1-day/
CATEGORIES:Interpersonal Development,Interpersonal Skill,Management,Self Development
END:VEVENT
END:VCALENDAR