BEGIN:VCALENDAR
VERSION:2.0
PRODID:-//UOA Academy - ECPv6.15.20//NONSGML v1.0//EN
CALSCALE:GREGORIAN
METHOD:PUBLISH
X-WR-CALNAME:UOA Academy
X-ORIGINAL-URL:https://uoa-academy.com
X-WR-CALDESC:Events for UOA Academy
REFRESH-INTERVAL;VALUE=DURATION:PT1H
X-Robots-Tag:noindex
X-PUBLISHED-TTL:PT1H
BEGIN:VTIMEZONE
TZID:Asia/Kuala_Lumpur
BEGIN:STANDARD
TZOFFSETFROM:+0800
TZOFFSETTO:+0800
TZNAME:+08
DTSTART:20250101T000000
END:STANDARD
END:VTIMEZONE
BEGIN:VEVENT
DTSTART;VALUE=DATE:20261203
DTEND;VALUE=DATE:20261204
DTSTAMP:20260423T064415
CREATED:20260119T025522Z
LAST-MODIFIED:20260119T025522Z
UID:50903-1796256000-1796342399@uoa-academy.com
SUMMARY:AI Tools at the Workplace (1 Day)
DESCRIPTION:Objectives  \nArtificial Intelligence (AI) is rapidly transforming how work is performed across industries. From writing emails and analysing data to managing tasks and improving productivity\, AI tools are becoming essential workplace enablers.  \nThis 1-day programme is designed to introduce employees to commonly used AI tools and demonstrate how they can be applied responsibly and effectively in daily work. Participants will gain practical exposure to AI tools that support productivity\, communication\, and decision-making\, with emphasis on ethical use and relevance to the Malaysian workplace.  \nTarget Audience  \n\n Employees at all levels \n Executives\, officers\, and administrative staff \n Professionals with little or no AI background \n Teams looking to improve productivity using digital tools \n\nLearning Outcomes  \nBy the end of this programme\, participants will be able to:  \n\n Understand what AI is and how it is used in the workplace \n Identify common AI tools that support daily work tasks \n Apply AI tools to improve productivity and efficiency \n Use AI responsibly while protecting data and confidentiality \n Integrate AI into daily work routines to support better outcomes \n\nCourse Outlines: Day 1:  \nModule 1: Introduction to AI in the Workplace  \n\n What AI is and what it is not \n Common myths and misconceptions about AI \n How AI is changing the way we work \n AI adoption trends in Malaysia \n\nModule 2: Overview of Common AI Workplace Tools  \n\n Generative AI tools for writing and communication \n AI tools for task management and productivity \n AI tools for data analysis and reporting \n Examples of AI use across different job roles \n\nModule 3: Using AI for Everyday Work Tasks  \n\n Drafting emails\, reports\, and documents \n Generating ideas and improving content clarity \n Summarising information and meeting notes \n Practical demonstrations and examples \n\nModule 4: AI for Productivity & Time Management  \n\n Using AI to prioritise tasks and manage schedules \n Automating repetitive work \n Improving focus and work efficiency \n Working smarter\, not harder \n\nModule 5: Responsible & Ethical Use of AI  \n\n Data privacy and confidentiality considerations \n Avoiding over-reliance on AI \n Understanding AI limitations and bias \n Workplace policies and responsible AI practices \n\nModule 6: Applying AI at Work & Action Planning  \n\n Identifying suitable AI use cases for individual roles \n Integrating AI into daily workflows \n Developing a simple personal AI action plan \n Programme recap and key takeaways \n\n  \nPRICING: \n\nRM 1\,800.00 Per Person (HRD Corp Claimable Course) + 8% SSTTo inquire about pricing for our training\, please contact us for a quote. \n\n\nKindly scan or click on the link below for your. Learning Registration.For any enquiries\, please contact us at:UOA Academy Sdn BhdSuite 1-2\, Lower Level 1\, City\, The Horizon Annexe\, Avenue 7\,Bangsar South\, 59200 Kuala Lumpur\, Wilayah Persekutuan Kuala Lumpur. \nTel: 6013 482 4810 / 6016 241 3517Email: register@uoa-academy.com \n\n  \n\n \nClick Here for Registration & Further Details!  \n \nCancellation & Transfer\n\nPlease note that should this registration be cancelled fourteen (14) days before the day of the training\, a 50% cancellation charge will be imposed. If cancellation is made seven (7) days before the training\, full payment of the training will be levied. Please note that amendments can only be made to the above arrangement by giving a minimum of three (3) working days’ notice. Additionally\, a 30% upfront payment is required via Human Resource Development Corporation (HRDC) or bank transfer.  \nDisclaimer: UOA Academy reserves the right to make changes to the venue\, date\, and speaker\, including cancellation of the workshop if warranted by circumstances beyond its control.  \n\n     \n  \n 
URL:https://uoa-academy.com/events/ai-tools-at-the-workplace-1-day-training/
CATEGORIES:Interpersonal Development,Interpersonal Skill,Management,Self Development
END:VEVENT
BEGIN:VEVENT
DTSTART;VALUE=DATE:20261208
DTEND;VALUE=DATE:20261210
DTSTAMP:20260423T064415
CREATED:20260119T031000Z
LAST-MODIFIED:20260119T031000Z
UID:50907-1796688000-1796860799@uoa-academy.com
SUMMARY:Personal Mastery & Self-Leadership  (2 Days)
DESCRIPTION:Objectives  \nThe objective of this training is to empower individuals to cultivate personal mastery and self-leadership by developing self-awareness\, emotional intelligence\, and proactive habits. Participants will learn to align their personal values with their actions\, build resilience\, and take ownership of their growth. This program aims to enhance decision-making\, foster accountability\, and inspire individuals to lead themselves effectively\, unlocking their potential for personal and professional success.  \nTarget Audience  \nThis training is designed for professionals\, leaders\, and individuals seeking to enhance their personal effectiveness\, emotional intelligence\, and self-leadership skills. It is ideal for those who aspire to take greater control of their growth\, improve decision-making\, and achieve meaningful success in both their personal and professional lives.  \nLearning Outcomes  \nBy the end of this programme\, participants will be able to:  \n\n Develop greater self-awareness by identifying personal strengths\, values\, and areas for growth. \n Enhance emotional intelligence to manage emotions effectively and build stronger relationships. \n Cultivate habits and mindsets that promote resilience\, focus\, and consistent personal growth. \n Align daily actions and decisions with long-term goals and core values. \nStrengthen accountability and ownership to drive meaningful results in personal and professional contexts. \n\nDay 1:  \nModule 1: Introduction to Personal Mastery & Self-Leadership  \nUnderstanding the concepts of personal mastery and self-leadership.  \nExploring the benefits of self-leadership in personal and professional contexts.  \nSetting personal intentions and goals for the course.  \nModule 2: Developing Self-Awareness  \n\n Identifying personal strengths\, values\, and limiting beliefs. \n Practicing self-reflection techniques for deeper self-understanding. \nUsing feedback to uncover blind spots and areas for growth. \n\nModule 3: Emotional Intelligence for Self-Leadership  \n\n Understanding the components of emotional intelligence (EQ). \nManaging emotions effectively in challenging situations. \n Building empathy to enhance communication and relationships. \n\nModule 4: Aligning Values with Actions  \n\n Defining core values and their role in decision-making. \n Creating a personal vision and aligning it with daily habits. \n Developing strategies for maintaining integrity and authenticity. \n\nDay 2:  \nModule 5: Building Resilience and Managing Stress  \n\n Understanding the connection between resilience and self-leadership. \nTechniques for managing stress and staying focused under pressure. \nBuilding mental and emotional agility to navigate challenges. \n\nModule 6: Goal Setting and Habit Formation  \n\n Setting SMART goals for personal and professional growth. \nIdentifying habits that support or hinder success. \n Using habit-tracking tools to ensure consistent progress. \n\nModule 7: Accountability and Ownership  \n\n The role of accountability in achieving success. \n Creating systems for self-monitoring and reflection. \n Overcoming procrastination and fostering a proactive mindset. \n\nModule 8: Action Planning and Commitment  \n\n Consolidating key learnings from the training. \n Developing a personalized action plan for ongoing self-leadership. \nCommitting to long-term growth and continuous improvement. \n\nPRICING: \n\nRM 2\,200.00 Per Person (HRD Corp Claimable Course) + 8% SSTTo inquire about pricing for our training\, please contact us for a quote. \n\n\nKindly scan or click on the link below for your. Learning Registration.For any enquiries\, please contact us at:UOA Academy Sdn BhdSuite 1-2\, Lower Level 1\, City\, The Horizon Annexe\, Avenue 7\,Bangsar South\, 59200 Kuala Lumpur\, Wilayah Persekutuan Kuala Lumpur. \nTel: 6013 482 4810 / 6016 241 3517Email: register@uoa-academy.com \n\n  \n\n \nClick Here for Registration & Further Details!  \n \nCancellation & Transfer\n\nPlease note that should this registration be cancelled fourteen (14) days before the day of the training\, a 50% cancellation charge will be imposed. If cancellation is made seven (7) days before the training\, full payment of the training will be levied. Please note that amendments can only be made to the above arrangement by giving a minimum of three (3) working days’ notice. Additionally\, a 30% upfront payment is required via Human Resource Development Corporation (HRDC) or bank transfer.  \nDisclaimer: UOA Academy reserves the right to make changes to the venue\, date\, and speaker\, including cancellation of the workshop if warranted by circumstances beyond its control.  \n\n     \n  \n 
URL:https://uoa-academy.com/events/personal-mastery-self-leadership-2-days/
CATEGORIES:Interpersonal Development,Interpersonal Skill,Management,Self Development
END:VEVENT
END:VCALENDAR