BEGIN:VCALENDAR
VERSION:2.0
PRODID:-//UOA Academy - ECPv6.15.20//NONSGML v1.0//EN
CALSCALE:GREGORIAN
METHOD:PUBLISH
X-WR-CALNAME:UOA Academy
X-ORIGINAL-URL:https://uoa-academy.com
X-WR-CALDESC:Events for UOA Academy
REFRESH-INTERVAL;VALUE=DURATION:PT1H
X-Robots-Tag:noindex
X-PUBLISHED-TTL:PT1H
BEGIN:VTIMEZONE
TZID:Asia/Kuala_Lumpur
BEGIN:STANDARD
TZOFFSETFROM:+0800
TZOFFSETTO:+0800
TZNAME:+08
DTSTART:20250101T000000
END:STANDARD
END:VTIMEZONE
BEGIN:VEVENT
DTSTART;VALUE=DATE:20260414
DTEND;VALUE=DATE:20260415
DTSTAMP:20260422T044230
CREATED:20260109T075216Z
LAST-MODIFIED:20260122T025454Z
UID:50554-1776124800-1776211199@uoa-academy.com
SUMMARY:Workplace Hazardous Materials Information
DESCRIPTION:Objectives  \nThe Workplace Hazardous Materials Information (WHMIS) programme is designed to provide participants with a comprehensive understanding of hazardous materials in the workplace and the associated safety measures. The programme equips participants with the necessary knowledge to identify\, handle\, and manage hazardous materials effectively while fostering a safety-conscious culture. Emphasis is placed on regulatory awareness\, proactive risk control\, and practical application to safeguard worker well-being.  \nTarget Audience  \nThis training is suitable for employees and professionals across industries where exposure to hazardous materials is present. It is designed for individuals responsible for handling\, storing\, and managing hazardous materials\, as well as those involved in maintaining a safe work environment. The programme is appropriate for both new and experienced personnel  \nLearning Outcomes  \n\n Understand potential risks associated with hazardous materials and apply appropriate safety measures \n Demonstrate awareness of WHMIS regulations and compliance requirements \nContribute actively to creating a safe and secure working environment \nApply informed practices to minimise risks related to hazardous materials \nSupport overall workplace safety through effective hazardous material management \n\nCourse Outlines:  \nModule 1: Introduction to Hazardous Materials  \n\n Significance of hazardous materials in the workplace \nOverview of WHMIS principles \n Importance of a safety-conscious culture \n\nModule 2: Identification & Safe Handling of Hazardous Materials  \n\n Techniques for identifying hazardous materials \n Safe handling practices \n Practical applications across different industries \n\nModule 3: Hazardous Materials Management & Storage  \n\n Effective handling and storage methods \n Strategies for managing hazardous materials \n Compliance with WHMIS regulations \n\nModule 4: WHMIS Regulations & Compliance Awareness  \n\n Understanding WHMIS regulatory requirements \n Legal implications of non-compliance \n Case examples and compliance lessons \n\nModule 5: Proactive Safety Measures & Risk Minimisation  \n\n Implementing proactive safety measures \n Hazard communication strategies \n Practical approaches to risk minimisation \n Promoting shared responsibility for workplace safety\n\nPRICING: \n\nRM 1\,500.00 Per Person (HRD Corp Claimable Course) + 8% SSTTo inquire about pricing for our training\, please contact us for a quote. \n\n\nKindly scan or click on the link below for your. Learning Registration.For any enquiries\, please contact us at:UOA Academy Sdn BhdSuite 1-2\, Lower Level 1\, City\, The Horizon Annexe\, Avenue 7\,Bangsar South\, 59200 Kuala Lumpur\, Wilayah Persekutuan Kuala Lumpur. \nTel: 6013 482 4810 / 6016 241 3517Email: register@uoa-academy.com \n\n  \n\n \nClick Here for Registration & Further Details!  \n \nCancellation & Transfer\n\nPlease note that should this registration be cancelled fourteen (14) days before the day of the training\, a 50% cancellation charge will be imposed. If cancellation is made seven (7) days before the training\, full payment of the training will be levied. Please note that amendments can only be made to the above arrangement by giving a minimum of three (3) working days’ notice. Additionally\, a 30% upfront payment is required via Human Resource Development Corporation (HRDC) or bank transfer.  \nDisclaimer: UOA Academy reserves the right to make changes to the venue\, date\, and speaker\, including cancellation of the workshop if warranted by circumstances beyond its control.  \n\n     \n  \n 
URL:https://uoa-academy.com/events/workplace-hazardous-materials-information-4/
CATEGORIES:Interpersonal Development,Interpersonal Skill,Management,Self Development
END:VEVENT
BEGIN:VEVENT
DTSTART;VALUE=DATE:20260414
DTEND;VALUE=DATE:20260416
DTSTAMP:20260422T044230
CREATED:20260109T075828Z
LAST-MODIFIED:20260112T070745Z
UID:50556-1776124800-1776297599@uoa-academy.com
SUMMARY:Mastering Canva Design with AI  (2 days)
DESCRIPTION:Objectives  \nThis workshop program is designed to empower professionals to effectively use Canva and its AI-powered tools to elevate their design skills for company-related content. From learning the basics of Canva’s interface to customizing brand-aligned templates and leveraging AI tools for faster\, smarter design\, participants will gain practical knowledge to create visually compelling and consistent corporate materials.  \nThrough guided tutorials\, real-world design challenges\, and collaborative feedback\, this workshop helps teams enhance internal communication assets\, client presentations\, reports\, marketing visuals\, and social media content. Whether you’re new to Canva or looking to upgrade your creative workflow with AI\, this program will help participants confidently create branded\, professional-quality designs with ease and efficiency.  \nTarget Audience  \nThis workshop is ideal for professionals\, entrepreneurs\, educators\, content creators\, and administrative staff who want to improve their visual communication through compelling designs. It is suitable for individuals with little to no design background\, as well as those looking to enhance their content creation using Canva and its AI tools for work\, branding\, teaching\, or personal projects.  \nLearning Outcomes  \nUpon completing this 2- day workshop\, participants should be able to :  \n\n Identify basic elements of Canva’s interface \n Understand Canva’s design features to creating visually balanced designs \nAble to create a simple graphic design using Canva\, either from scratch or by customizing an existing template. \n Use Canva to design simple marketing or communication materials such as posters\, infographics\, or slides aligned with company branding. \n Design and customise company-specific templates from scratch or using AI tools\, ensuring consistency with corporate identity and communication goals.Be willing to take on different roles in order to achieve the larger goal\, even though the roles may be more challenging or harder \n Understand how a leader can create the environment for teamwork to happen \n\nCourse Outlines: Day 1 – Canva Fundamentals & Core Design Skills  \nModule 1: Introduction to Canva & Design Thinking  \n\n Overview of Canva and its workplace applications \n Benefits of using Canva for corporate communication\nCreating and setting up a Canva account \n Navigating the Canva interface \n\nModule 2: Basic Design Elements  \n\n Understanding templates and design types \n Using text\, colours\, shapes\, and lines \n Uploading and using personal or company images \n Hands-on activity: Designing a basic poster \n\nModule 3: Working with Templates\, Images & Icons  \n\n Customising pre-designed templates \n Managing layers and grouping elements \n Using Canva’s image and icon libraries \n Best practices for image placement and cropping \n\nModule 4: Layout\, Visual Balance & Data Visualisation  \n\n Designing with grids and frames \n Creating photo collages and visual layouts \n Using charts and graphs for reports and presentations \nHands-on activity: Turning raw data into branded visuals \n\nDay 2 – Advanced Design\, AI Tools & Collaboration  \nModule 5: Advanced Typography & Design Pitfalls  \n\n Advanced text effects and typography controls \n Managing spacing\, alignment\, and hierarchy \n Common design mistakes and how to fix them \n Introduction to Canva AI tools \n\nModule 6: Creating Professional Presentations in Canva  \n\n Designing multi-slide presentations \n Applying brand colours\, fonts\, and layouts \n Using transitions\, animations\, and visual storytelling \nHands-on activity: Creating a branded slide deck \n\nModule 7: Collaboration\, Workflow & AI-Powered Creativity  \n\n Sharing designs and collaborating with teams \n Using comments\, version history\, and export options \nExploring Canva AI tools (Magic Write\, Magic Design) \nUsing AI for productivity while maintaining brand consistency \n\nModule 8: Final Design Project & Presentation  \n\n Individual or group design project \n Presentation of final designs \n Design critique\, feedback\, and improvement tips \n Programme wrap-up and Q&A \n\nPRICING: \n\nRM 2\,200.00 Per Person (HRD Corp Claimable Course) + 8% SSTTo inquire about pricing for our training\, please contact us for a quote. \n\n\nKindly scan or click on the link below for your. Learning Registration.For any enquiries\, please contact us at:UOA Academy Sdn BhdSuite 1-2\, Lower Level 1\, City\, The Horizon Annexe\, Avenue 7\,Bangsar South\, 59200 Kuala Lumpur\, Wilayah Persekutuan Kuala Lumpur. \nTel: 6013 482 4810 / 6016 241 3517Email: register@uoa-academy.com \n\n  \n\n \nClick Here for Registration & Further Details!  \n \nCancellation & Transfer\n\nPlease note that should this registration be cancelled fourteen (14) days before the day of the training\, a 50% cancellation charge will be imposed. If cancellation is made seven (7) days before the training\, full payment of the training will be levied. Please note that amendments can only be made to the above arrangement by giving a minimum of three (3) working days’ notice. Additionally\, a 30% upfront payment is required via Human Resource Development Corporation (HRDC) or bank transfer.  \nDisclaimer: UOA Academy reserves the right to make changes to the venue\, date\, and speaker\, including cancellation of the workshop if warranted by circumstances beyond its control.  \n\n     \n  \n 
URL:https://uoa-academy.com/events/mastering-canva-design-with-ai-professional-workshop/
CATEGORIES:Interpersonal Development,Interpersonal Skill,Management,Self Development
END:VEVENT
END:VCALENDAR