BEGIN:VCALENDAR
VERSION:2.0
PRODID:-//UOA Academy - ECPv6.15.20//NONSGML v1.0//EN
CALSCALE:GREGORIAN
METHOD:PUBLISH
X-WR-CALNAME:UOA Academy
X-ORIGINAL-URL:https://uoa-academy.com
X-WR-CALDESC:Events for UOA Academy
REFRESH-INTERVAL;VALUE=DURATION:PT1H
X-Robots-Tag:noindex
X-PUBLISHED-TTL:PT1H
BEGIN:VTIMEZONE
TZID:Asia/Kuala_Lumpur
BEGIN:STANDARD
TZOFFSETFROM:+0800
TZOFFSETTO:+0800
TZNAME:+08
DTSTART:20240101T000000
END:STANDARD
END:VTIMEZONE
BEGIN:VEVENT
DTSTART;VALUE=DATE:20251105
DTEND;VALUE=DATE:20251107
DTSTAMP:20260423T065430
CREATED:20251013T012500Z
LAST-MODIFIED:20251013T013858Z
UID:49347-1762300800-1762473599@uoa-academy.com
SUMMARY:Scaffolding Training (2 Days)
DESCRIPTION:ObjectivesThe objective of the Scaffolding Training program is to equip participants with the necessary skills and knowledge to effectively provide instructional support in educational or trainingsettings. The program aims to train individuals\, such as educators\, trainers\, or facilitators\, in implementing scaffolding techniques to guide learners through the acquisition of new skillsand concepts. By the end of the training\, participants will be adept at tailoring support to learners’ needs\, fostering a more effective and supportive learning environment. \nTarget AudienceThis Scaffolding Training is designed for educators\, trainers\, instructional designers\, and anyone involved in facilitating learning experiences. It is suitable for professionals acrossvarious fields\, including education\, corporate training\, and skill development programs. The content is crafted to address the unique needs of those responsible for guiding othersthrough the learning process\, enhancing their ability to provide targeted and effective support. \nLearning Outcomes● Gain in-depth knowledge of scaffolding techniques and their application in educational settings.● Develop skills in modeling effective learning behaviors for enhanced understanding.● Be well-equipped to foster engaging and successful learning experiences.● Enhance the ability to facilitate knowledge retention in learners through effective scaffolding. \nCourse Outlines:Day 1:Module 1: Introduction to Scaffolding in Education● Understanding the importance of scaffolding in learning● Overview of course objectives and structure● Role of scaffolding in facilitating effective learning experiencesModule 2: In-depth Knowledge of Scaffolding Techniques● Exploring various scaffolding techniques and their applications● Case studies on successful implementation of scaffolding in educational contexts● Practical exercises for hands-on learningModule 3: Tailoring Support to Individual Learner Needs● Developing skills to tailor instructional support based on learners’ unique needs● Strategies for creating a supportive and adaptive learning environment● Real-world examples of personalized scaffolding approachesModule 4: Modeling Effective Learning Behaviors● Cultivating skills in modeling effective learning behaviors● Demonstrating behaviors that enhance understanding and engagement● Role-playing and simulations for practical application \nDay 2:Module 5: Fostering Engaging Learning Experiences● Equipping participants to foster engaging and successful learning experiences● Strategies for creating interactive and participatory learning sessions● Incorporating technology and multimedia for enhanced engagement \nModule 6: Facilitating Knowledge Retention● Enhancing the ability to facilitate knowledge retention through effective scaffolding● Techniques for reinforcing and consolidating learned concepts● Continuous assessment and feedback for retention improvementModule 7: Strategies for Continuous Enhancement● Explore methodologies for continuously refining scaffolding techniques.● Implement effective feedback mechanisms to glean insights from experiences.● Develop personalized action plans to sustain ongoing professional growth. \nPRICING:RM 1\,000.00 Per Person (HRD Corp Claimable Course) + 8% SST \n\nKindly scan or click on the link below for your \nLearning Registration.\n \nFor any enquiries\, please contact us at:\n \nUOA Academy Sdn Bhd\nUOA Corporate Tower\, Lobby A\, Avenue 10\, The Vertical\nBangsar South City\, No 8 Jalan Kerinchi\n59200 Kuala Lumpur\, Malaysia.\nTel: 603-2381 0478 | 6012-575 1767\nEmail: register@uoa-academy.com\n \n\nhttps://www.surveymonkey.com/r/EXTREG\n \nCancellation & Transfer\nPlease note that should this registration be cancelled fourteen (14) days before the day of the training\, a 50% cancellation charge will be imposed. If cancellation is made seven (7) days before the training\, full payment of the training will be levied. Please note that  amendments can only be made to the above arrangement by giving a minimum of three (3) working days’ notice. Additionally\, a 30%upfront payment is required via Human Resource Development Corporation (HRDC) or bank transfer.Disclaimer: UOA Academy reserves the right to make changes to the venue\, date\, and speaker\,including cancellation of the workshop if warranted by circumstances beyond its control.\n     \n  \n 
URL:https://uoa-academy.com/events/2-day-scaffolding-training-for-educators-trainers/
CATEGORIES:Interpersonal Development,Interpersonal Skill,Management,Self Development
END:VEVENT
BEGIN:VEVENT
DTSTART;VALUE=DATE:20251105
DTEND;VALUE=DATE:20251107
DTSTAMP:20260423T065430
CREATED:20251013T013317Z
LAST-MODIFIED:20251013T013518Z
UID:49349-1762300800-1762473599@uoa-academy.com
SUMMARY:Emotional Intelligence - Empowering your best Self &  Maximizing your Potential (2 days)
DESCRIPTION:ObjectivesThe objective of this training course is to enhance participants’ emotional intelligence by helping them understand and leverage their emotional strengths to achieve personal and professional growth. The course focuses on developing self-awareness\, self-regulation\, and interpersonal skills to empower individuals to manage their emotions effectively\, improve their relationships\, and maximize their potential. Participants will learn strategies for harnessing emotional intelligence to boost resilience\, enhance decision-making\, and create a positive impact in both their personal lives and workplace environments. \nTarget AudienceThis training course is designed for individuals at all levels who are seeking to improve their emotional intelligence to enhance personal and professional effectiveness. It is particularlybeneficial for professionals looking to develop greater self-awareness\, better manage their emotions\, and improve their interpersonal relationships. The course is ideal for those inleadership roles\, team members\, and anyone interested in maximizing their potential and fostering a more positive and productive work environment. \nLearning Outcomes● Enhanced Self-Awareness: Improved ability to recognize and understand personal emotions and their impact on behavior and decision-making.● Advanced Self-Regulation: Mastery of techniques for managing and controlling emotional responses to handle stress and maintain composure effectively.● Strengthened Interpersonal Skills: Enhanced ability to communicate empathetically\, build stronger relationships\, and navigate social interactions with greater ease.● Increased Resilience: Development of strategies to bounce back from setbacks and manage challenges with a positive and proactive mindset.● Improved Decision-Making: Greater capacity to make informed and balanced decisions by integrating emotional insights with rational analysis.● Maximized Personal and Professional Potential: Leveraging emotional intelligence to boost overall performance\, achieve personal goals\, and foster a more productive and harmonious work environment. \nCourse Outlines:Day 1: Foundations and Leadership in Service Culture \nModule 1: Understanding Service Culture● Defining Service Excellence: Explore the key components of a service-oriented culture and what distinguishes exceptional service.● Impact on Organizational Success: Understand how a strong service culture contributes to customer satisfaction\, loyalty\, and business growth.Module 2: Leading by Example● Modeling Exceptional Service: Techniques for demonstrating high standards of customer service and setting a positive example for your team.● Developing Leadership Skills: Strategies for inspiring and motivating employees to deliver superior service and uphold service standards.Module 3: Creating and Communicating Service Standards● Establishing Clear Standards: Methods for defining and implementing service expectations that align with organizational goals.● Effective Communication: Skills for communicating service standards and expectations clearly to your team to ensure alignment and consistency.Module 4: Coaching and Mentoring for Service Excellence● Building Skills through Coaching: Techniques for providing effective feedback and coaching to improve team performance.● Mentoring for Growth: Strategies for mentoring team members to develop their customer service skills and advance their careers. \nDay 2: Implementing Strategies and Fostering a Positive Culture \nModule 5: Implementing Service Strategies● Developing Action Plans: Create actionable plans to implement service strategies that enhance customer satisfaction and service delivery.● Monitoring and Adjusting: Techniques for tracking the effectiveness of service strategies and making necessary adjustments for continuous improvement.Module 6: Driving Continuous Improvement● Performance Evaluation: Tools for assessing service performance and identifying areas for improvement.● Actionable Feedback: How to gather and use customer and employee feedback to refine service practices and drive improvements.Module 7: Fostering a Service-Oriented Culture● Building a Positive Environment: Strategies for creating and maintaining a work environment that supports and encourages exceptional service.● Engagement and Recognition: Techniques for recognizing and rewarding team members who exemplify outstanding service\, reinforcing a culture of excellence.Module 8: Personal Action Plans and Implementation● Developing Individual Action Plans: Craft personalized plans for applying the learned concepts to your specific team and organizational context.● Role-Playing and Scenario Practice: Engage in role-playing exercises to practice implementing service strategies and resolving service-related challenges. \nPRICING:– \n\nKindly scan or click on the link below for your \nLearning Registration.\n \nFor any enquiries\, please contact us at:\n \nUOA Academy Sdn Bhd\nUOA Corporate Tower\, Lobby A\, Avenue 10\, The Vertical\nBangsar South City\, No 8 Jalan Kerinchi\n59200 Kuala Lumpur\, Malaysia.\nTel: 603-2381 0478 | 6012-575 1767\nEmail: register@uoa-academy.com\n \n\nhttps://www.surveymonkey.com/r/EXTREG\n \nCancellation & Transfer\nPlease note that should this registration be cancelled fourteen (14) days before the day of the training\, a 50% cancellation charge will be imposed. If cancellation is made seven (7) days before the training\, full payment of the training will be levied. Please note that  amendments can only be made to the above arrangement by giving a minimum of three (3) working days’ notice. Additionally\, a 30%upfront payment is required via Human Resource Development Corporation (HRDC) or bank transfer.Disclaimer: UOA Academy reserves the right to make changes to the venue\, date\, and speaker\,including cancellation of the workshop if warranted by circumstances beyond its control.\n     \n  \n 
URL:https://uoa-academy.com/events/emotional-intelligence-empower-your-best-self-2-day-training/
CATEGORIES:Interpersonal Development,Interpersonal Skill,Management,Self Development
END:VEVENT
BEGIN:VEVENT
DTSTART;VALUE=DATE:20251112
DTEND;VALUE=DATE:20251114
DTSTAMP:20260423T065430
CREATED:20251013T005815Z
LAST-MODIFIED:20251013T013930Z
UID:49341-1762905600-1763078399@uoa-academy.com
SUMMARY:Building Resilience to Boost Productivity at your Workplace (2 Days)
DESCRIPTION:Objectives  \nThis program is designed to equip participants with practical tools and strategies to build resilience in the workplace\, enabling them to thrive under pressure and adapt to change effectively. Participants will learn how to maintain focus\, manage stress\, and foster a resilient mindset to enhance personal productivity and contribute to team success.  \nTarget Audience  \nThe target audience for the Building Resilience to Boost Productivity at Your Workplace program includes executives\, senior management\, and middle management. This training is ideal for individuals seeking to strengthen their resilience to thrive in high-pressure environments\, adapt to organizational changes\, and lead by example. It is particularly beneficial for leaders and managers who aim to foster resilient teams\, manage stress effectively\, and create a productive and sustainable workplace culture.  \nLearning Outcomes  \n\n Identify the core principles of resilience and their impact on workplace productivity. ● Develop strategies to manage stress and maintain focus under pressure. ● Foster a growth mindset to adapt effectively to challenges and changes. ● Enhance emotional intelligence and self-awareness for better decision-making and interpersonal relationships. \n Build supportive and collaborative teams that prioritize resilience and productivity. ● Create actionable plans to embed resilience practices in daily work routines. \n\nCourse Outlines:  \nDay 1:  \nModule 1: Understanding Resilience  \n\n Defining resilience and its importance in the workplace. ● Characteristics of resilient individuals and teams. \n The link between resilience and productivity. \n\nModule 2: Managing Stress and Building Focus  \n\n Understanding stress triggers and their impact on performance. ● Techniques for stress management and staying calm under pressure. ● Developing focus and prioritization skills for peak performance. \n\nModule 3: Emotional Intelligence for Resilience  \n\n The role of emotional intelligence in resilience. \n Improving self-awareness and self-regulation. \n Strengthening interpersonal skills for collaborative work. \n\nModule 4: Cultivating a Growth Mindset  \n\n Understanding fixed vs. growth mindsets. \n Techniques to reframe challenges as opportunities. \n Encouraging adaptability and continuous learning. \n\nDay 2:  \nModule 5: Leadership and Resilience  \n\n The role of leadership in fostering resilience. \n Inspiring resilience through communication and support. ● Leading by example in high-pressure situations. \n\nModule 6: Enhancing Team Dynamics  \n\n Building trust and collaboration within teams. \n Encouraging resilience through shared goals and mutual support. ● Managing conflicts effectively to maintain team cohesion. \n\nModule 7: Embedding Resilience in Workplace Culture  \n\n Creating organizational practices that prioritize well-being. ● Promoting work-life balance to prevent burnout. \n Recognizing and celebrating resilience in the workplace. \n\nModule 8: Action Planning for Sustainable Resilience  \n\n Identifying personal and team resilience goals. \n Developing a practical action plan for applying resilience strategies. ● Monitoring progress and sustaining resilience practices over time. \n\nPRICING:RM 1\,800.00 Per Person (HRD Corp Claimable Course) + 8% SST \n\nKindly scan or click on the link below for your \nLearning Registration.\n \nFor any enquiries\, please contact us at:\n \nUOA Academy Sdn Bhd\nUOA Corporate Tower\, Lobby A\, Avenue 10\, The Vertical\nBangsar South City\, No 8 Jalan Kerinchi\n59200 Kuala Lumpur\, Malaysia.\nTel: 603-2381 0478 | 6012-575 1767\nEmail: register@uoa-academy.com\n \n\nhttps://www.surveymonkey.com/r/EXTREG\n \nCancellation & Transfer\nPlease note that should this registration be cancelled fourteen (14) days before the day of the training\, a 50% cancellation charge will be imposed. If cancellation is made seven (7) days before the training\, full payment of the training will be levied. Please note that  amendments can only be made to the above arrangement by giving a minimum of three (3) working days’ notice. Additionally\, a 30%upfront payment is required via Human Resource Development Corporation (HRDC) or bank transfer.Disclaimer: UOA Academy reserves the right to make changes to the venue\, date\, and speaker\,including cancellation of the workshop if warranted by circumstances beyond its control.\n     \n  \n 
URL:https://uoa-academy.com/events/2-day-training-build-workplace-resilience-boost-productivity/
CATEGORIES:Interpersonal Development,Interpersonal Skill,Management,Self Development
END:VEVENT
END:VCALENDAR