BEGIN:VCALENDAR
VERSION:2.0
PRODID:-//UOA Academy - ECPv6.15.20//NONSGML v1.0//EN
CALSCALE:GREGORIAN
METHOD:PUBLISH
X-WR-CALNAME:UOA Academy
X-ORIGINAL-URL:https://uoa-academy.com
X-WR-CALDESC:Events for UOA Academy
REFRESH-INTERVAL;VALUE=DURATION:PT1H
X-Robots-Tag:noindex
X-PUBLISHED-TTL:PT1H
BEGIN:VTIMEZONE
TZID:Asia/Kuala_Lumpur
BEGIN:STANDARD
TZOFFSETFROM:+0800
TZOFFSETTO:+0800
TZNAME:+08
DTSTART:20240101T000000
END:STANDARD
END:VTIMEZONE
BEGIN:VEVENT
DTSTART;TZID=Asia/Kuala_Lumpur:20250709T000000
DTEND;TZID=Asia/Kuala_Lumpur:20250710T235959
DTSTAMP:20260423T142646
CREATED:20250529T022835Z
LAST-MODIFIED:20250529T031520Z
UID:41828-1752019200-1752191999@uoa-academy.com
SUMMARY:Hazard Identification\, Risk Assessment and Risk Control (HIRARC) Training Course
DESCRIPTION:ObjectivesThe Hazard Identification\, Risk Assessment\, and Risk Control (HIRARC) Training Course is designed to equip participants with the essential knowledge and skills to systematically identify\, assess\, and control hazards in the workplace. The course is designed to instill acomprehensive understanding of HIRARC principles\, fostering a proactive safety culture within organizations. \nTarget AudienceThis training course is tailored for individuals across various industries\, including but not limited to safety officers\, supervisors\, managers\, and middle management that are involved in health and safety responsibilities. It caters to professionals seeking to enhance theirproficiency in hazard identification\, risk assessment\, and risk control\, ultimately contributing to a safer working environment. \nLearning Outcomes● Thorough understanding of HIRARC methodology.● Proficiency in identifying workplace hazards and conducting risk assessments.● Implementation of practical risk control measures.● Development of clear safety communication skills.● Active contribution to robust safety management systems.● Empowerment to minimize risks and foster a safer work environment. \nCourse Outlines:Day 1: \nModule 1: Introduction to HIRARC Principles● Overview and importance of Hazard Identification\, Risk Assessment\, and RiskControl.● Principles of fostering a proactive safety culture. \nModule 2: HIRARC Methodology● In-depth exploration and practical application exercises.● Case studies illustrating successful HIRARC implementation. \nModule 3: Target Audience and Industry Application● Identification of target audience and customization for diverse industries.● Practical scenarios and discussions for industry-specific application. \nModule 4: Proficiency in Hazard Identification and Risk Assessment● Techniques for identifying workplace hazards.● Step-by-step guide to conducting effective risk assessments. \nDay 2: \nModule 5: Practical Risk Control Measures● Implementation strategies and real-world simulations.● Showcasing successful risk control practices through case studies. \nModule 6: Safety Communication Skills● Importance of clear safety communication.● Developing effective communication strategies. \nModule 7: Contribution to Safety Management Systems● Active contribution to robust safety management systems.● Integration of HIRARC principles into organizational safety frameworks. \nModule 8: Empowerment for a Safer Work Environment● Strategies for minimizing risks in the workplace.● Fostering a culture of safety empowerment. \n\nPRICING:\nRM 1\,500.00 Per Person (HRD Corp Claimable Course) + 8% SST\n\n \nKindly scan or click on the link below for your \nLearning Registration.\n \nFor any enquiries\, please contact us at:\n \nUOA Academy Sdn Bhd\nUOA Corporate Tower\, Lobby A\, Avenue 10\, The Vertical\nBangsar South City\, No 8 Jalan Kerinchi\n59200 Kuala Lumpur\, Malaysia.\nTel: 603-2381 0478 | 6012-575 1767\nEmail: register@uoa-academy.com\n \n\nhttps://www.surveymonkey.com/r/EXTREG\n \nCancellation & Transfer\nPlease note that should this registration be cancelled fourteen (14) days before the day of the training\, a 50% cancellation charge will be imposed. If cancellation is made seven (7) days before the training\, full payment of the training will be levied. Please note that amendments can only be made to the above arrangement by giving a minimum of three (3) working days’ notice. Additionally\, a 30% upfront payment is required via Human Resource Development Corporation (HRDC) or bank transfer. Disclaimer: UOA Academy reserves the right to make changes to the venue\, date\, and speaker\, including cancellation of the workshop if warranted by circumstances beyond its control.\n     \nJoin Today! \n  \n\n\n\n 
URL:https://uoa-academy.com/events/hirarc-training-course-uoa-academy/
CATEGORIES:Interpersonal Development,Interpersonal Skill,Leadership,Management,Personal Growth & Development,Self Development
END:VEVENT
BEGIN:VEVENT
DTSTART;VALUE=DATE:20250709
DTEND;VALUE=DATE:20250711
DTSTAMP:20260423T142646
CREATED:20250529T035647Z
LAST-MODIFIED:20250603T022745Z
UID:43084-1752019200-1752191999@uoa-academy.com
SUMMARY:Supervisory Development Skills
DESCRIPTION:ObjectivesThe Supervisory Development Skills course is designed to equip participants with the essential knowledge and skills to excel in their roles as supervisors. Through a combination of theoretical concepts\, practical exercises\, and case studies\, participants will develop thenecessary competencies to effectively lead teams\, manage performance\, communicate effectively\, and handle common supervisory challenges. \nTarget AudienceSupervisors who would like to develop highly effective supervisory skills in order to professionally and successfully manage their teams. \nLearning OutcomesBy the end of the course\, participants will be able to:● Define the supervisor’s three roles and his/her related competencies for optimal performance● Apply the essential supervisory functions that are key for the success of the team● Use powerful communication skills in order to maintain trust and boost cooperation● Implement effective coaching/mentoring techniques to help the team progress and grow● Apply effective time management techniques to increase the productivity of the team \nCourse Outline \nMODULE 1: GAIN THE MINDSETUnderstand & Explore● Their role as a Supervisor● Difference between management and leadership● How to balance both sets of skills?● Your Journey: – From a team member to a team leader● Competencies of a supervisor● Understand the tools for practical leadership skills to apply to work situations and challenges \nMODULE 2: MANAGING PEOPLE● Managing the expectations● Managing team members● Managing peers● Managing your managers \nMODULE 3: TIME – MANAGEMENT● How to manage time?● Prioritizing the To-Do List● Delegating work \nMODULE 4: COMMUNICATION● Evaluate self in communication abilities● Develop communication- oral and written● Evaluate your natural Listening skills● Acquire active listening skills● Asking effective questions● Understand how to communicate during meetings● Being assertive \nMODULE 5: RECOGNISING THE ACHIEVEMENTSUnderstand● the relevance of recognizing the team members for their effort● strategies for recognizing the team members \nMODULE 6: TEAMWORK● Understand team dynamics● 5-step model of team-development● Characteristics of a highly effective team● Examine how to enhance the value and effectiveness of your team● Identify opportunities for improving self and the team● Create action- plan for applying the concepts and skills \nMODULE 7: DELEGATION & ACCOUNTABILITY● Importance of delegation and accountability● Assess your current delegation and accountability strengths and areas for improvement● Learn how to effectively communicate a delegated assignment to team members and follow through with them for accountability \nMODULE 8: BUILDING TRUST● Importance of trust to build productive relationships and achieving business results● Identify the behaviours and actions that make and break trust● How to rebuild lost or damaged trust?● Create action plans and strategies for sustainability \nMODULE 9: CONFLICT MANAGEMENT● Develop awareness about your approach to managing differences at the workplace● Explore root cause of differences and conflict● Understand the distinctive approaches to managing differences and conflict \nMODULE 10: STRESS MANAGEMENT● Identify situations and factors which lead to stress● Understand how to handle high-pressure situations● Explore possible outcomes when stress management techniques are employed \nPRICING: \n\n \n \nKindly scan or click on the link below for your \nLearning Registration.\n \nFor any enquiries\, please contact us at:\n \nUOA Academy Sdn Bhd\nUOA Corporate Tower\, Lobby A\, Avenue 10\, The Vertical\nBangsar South City\, No 8 Jalan Kerinchi\n59200 Kuala Lumpur\, Malaysia.\nTel: 603-2381 0478 | 6012-575 1767\nEmail: register@uoa-academy.com\n \n\nhttps://www.surveymonkey.com/r/EXTREG\n \nCancellation & Transfer\nPlease note that should this registration be cancelled fourteen (14) days before the day of the training\, a 50% cancellation charge will be imposed. If cancellation is made seven (7) days before the training\, full payment of the training will be levied. Please note that amendments can only be made to the above arrangement by giving a minimum of three (3) working days’ notice. Additionally\, a 30% upfront payment is required via Human Resource Development Corporation (HRDC) or bank transfer. Disclaimer: UOA Academy reserves the right to make changes to the venue\, date\, and speaker\, including cancellation of the workshop if warranted by circumstances beyond its control.\n     \nJoin Today! \n  \n\n\n\n 
URL:https://uoa-academy.com/events/supervisory-development-skills-2/
CATEGORIES:Interpersonal Development,Interpersonal Skill,Leadership,Management,Personal Growth & Development,Self Development
END:VEVENT
END:VCALENDAR