BEGIN:VCALENDAR
VERSION:2.0
PRODID:-//UOA Academy - ECPv6.15.20//NONSGML v1.0//EN
CALSCALE:GREGORIAN
METHOD:PUBLISH
X-ORIGINAL-URL:https://uoa-academy.com
X-WR-CALDESC:Events for UOA Academy
REFRESH-INTERVAL;VALUE=DURATION:PT1H
X-Robots-Tag:noindex
X-PUBLISHED-TTL:PT1H
BEGIN:VTIMEZONE
TZID:Asia/Kuala_Lumpur
BEGIN:STANDARD
TZOFFSETFROM:+0800
TZOFFSETTO:+0800
TZNAME:+08
DTSTART:20240101T000000
END:STANDARD
END:VTIMEZONE
BEGIN:VEVENT
DTSTART;VALUE=DATE:20250619
DTEND;VALUE=DATE:20250620
DTSTAMP:20260423T024719
CREATED:20250505T072240Z
LAST-MODIFIED:20250505T072240Z
UID:41823-1750291200-1750377599@uoa-academy.com
SUMMARY:ISO 14001 – Awareness Training – Environmental Management Systems
DESCRIPTION:Objectives\nThe ISO 14001 – Awareness Training – Environmental Management Systems aims to provide participants with a foundational understanding of ISO 14001 and Environmental Management Systems (EMS). The primary objectives include familiarizing participants with the key principles\, requirements\, and benefits of ISO 14001. The training seeks to instill awareness of environmental management practices to facilitate compliance and contribute to sustainable business operations. \nTarget Audience\nThis training is designed for any level of professionals\, executive\, senior manager across various industries who seek a fundamental understanding of ISO 14001 and Environmental Management Systems. It is suitable for individuals involved in environmental stewardship\, compliance\, and those aspiring to enhance their knowledge of internationally recognized environmental standards. \nLearning Outcomes \n\nDevelop foundational knowledge of ISO 14001 and Environmental Management Systems.\nGain understanding of core principles\, requirements\, and benefits of ISO 14001.\nContribute to the implementation and maintenance of effective environmental management practices.\nEmpower participants to integrate environmentally sustainable practices.\nEnhance compliance and support the overall commitment to environmental responsibility within organizations.\n\nCourse Outlines:\nDay 1:\nModule 1: Introduction to ISO 14001 and Environmental Management Systems (EMS) \n\nOverview of ISO 14001 and its significance in environmental management\nUnderstanding the fundamental principles\, requirements\, and benefits of EMS\n\nModule 2: Key Principles of ISO 14001 \n\nIn-depth exploration of the core principles underpinning ISO 14001\nDiscussion on how these principles contribute to effective environmental management\n\nModule 3: Requirements and Compliance \n\nComprehensive understanding of the key requirements outlined in ISO 14001\nStrategies for ensuring compliance with international environmental standards\n\nModule 4: Environmental Stewardship and Sustainable Practices \n\nExamining the role of environmental stewardship in organizational practices\nEmpowering participants to integrate environmentally sustainable practices into daily\noperations\n\nModule 5: Implementation and Maintenance \n\nPractical guidance on implementing and maintaining effective environmental management practices\nBest practices for continuous improvement in environmental performance\n\nModule 6: Role of Professionals in Environmental Responsibility \n\nUnderstanding the role of professionals\, executives\, and senior managers in environmental responsibility\nStrategies for fostering a culture of environmental awareness within organizations\n\nPRICING: \n\nRM 1\,000.00 Per Person (HRD Corp Claimable Course) + 8% SST \n\n\n \nKindly scan or click on the link below for your \nLearning Registration.\n \nFor any enquiries\, please contact us at:\n \nUOA Academy Sdn Bhd\nUOA Corporate Tower\, Lobby A\, Avenue 10\, The Vertical\nBangsar South City\, No 8 Jalan Kerinchi\n59200 Kuala Lumpur\, Malaysia.\nTel: 603-2381 0478 | 6012-575 1767\nEmail: register@uoa-academy.com\n \n\nhttps://www.surveymonkey.com/r/EXTREG\n \nCancellation & Transfer\n\nPlease note that should this registration be cancelled fourteen (14) days before the day of the training\, a 50% cancellation charge will be imposed. If cancellation is made seven (7) days before the training\, full payment of the training will be levied. Please note that amendments can only be made to the above arrangement by giving a minimum of three (3) working days’ notice. Additionally\, a 30% upfront payment is required via Human Resource Development Corporation (HRDC) or bank transfer. \nDisclaimer: UOA Academy reserves the right to make changes to the venue\, date\, and speaker\,\nincluding cancellation of the workshop if warranted by circumstances beyond its control. \n\n  \n\n  \nJoin Today! \n 
URL:https://uoa-academy.com/events/iso-14001-awareness-environmental-management/
CATEGORIES:Interpersonal Development,Interpersonal Skill,Leadership,Management,Personal Growth & Development,Self Development
ATTACH;FMTTYPE=image/jpeg:https://uoa-academy.com/wp-content/uploads/2025/05/ISO-14001.jpg
END:VEVENT
END:VCALENDAR