BEGIN:VCALENDAR
VERSION:2.0
PRODID:-//UOA Academy - ECPv6.15.20//NONSGML v1.0//EN
CALSCALE:GREGORIAN
METHOD:PUBLISH
X-WR-CALNAME:UOA Academy
X-ORIGINAL-URL:https://uoa-academy.com
X-WR-CALDESC:Events for UOA Academy
REFRESH-INTERVAL;VALUE=DURATION:PT1H
X-Robots-Tag:noindex
X-PUBLISHED-TTL:PT1H
BEGIN:VTIMEZONE
TZID:Asia/Kuala_Lumpur
BEGIN:STANDARD
TZOFFSETFROM:+0800
TZOFFSETTO:+0800
TZNAME:+08
DTSTART:20240101T000000
END:STANDARD
END:VTIMEZONE
BEGIN:VEVENT
DTSTART;VALUE=DATE:20250611
DTEND;VALUE=DATE:20250613
DTSTAMP:20260422T165211
CREATED:20250505T043141Z
LAST-MODIFIED:20250505T043141Z
UID:41813-1749600000-1749772799@uoa-academy.com
SUMMARY:Essential Skills for Communication Success in A Corporate World
DESCRIPTION:Objectives\nEffective communication skills are crucial for success in the corporate world. This two-day course aims to equip participants with essential communication techniques and strategies to excel in various workplace scenarios. From mastering verbal and non-verbal communication\nto handling challenging conversations\, participants will develop the skills necessary to build strong professional relationships and foster a positive and productive work environment. \nTarget Audience\nThis course is designed for professionals at various levels in the corporate world who want to enhance their communication skills. It is suitable for employees from different departments and roles\, including managers\, team leaders\, project coordinators\, customer\nservice representatives\, and any other individuals seeking to improve their communication effectiveness in a corporate setting. \nLearning Outcomes \n\nDemonstrate improved verbal communication skills\, including clear articulation\, effective presentation techniques\, and the use of positive language.\nDisplay proficiency in active listening\, enabling them to understand others better and respond appropriately.\nUtilize non-verbal communication cues\, such as body language and facial expressions\, to enhance the impact of their messages and create a positive impression.\nHandle challenging conversations and conflicts with composure and emotional intelligence\, facilitating constructive outcomes\n\nCourse Outlines:\nDay 1: \nModule 1: Understanding the Importance of Effective Communication \n\nThe impact of communication on workplace relationships and productivity\nIdentifying communication challenges in the corporate setting\nBuilding a personal communication improvement plan\n\nModule 2: Verbal Communication Skills \n\nActive listening techniques for better understanding and empathy\nArticulating thoughts clearly and concisely\nDeveloping strong speaking skills and effective presentation techniques\nUsing positive language and assertive communication\n\nModule 3: Non-Verbal Communication and Body Language \n\nUnderstanding the significance of non-verbal cues in communication\nInterpreting body language accurately\nMastering facial expressions\, gestures\, and eye contact\nAligning verbal and non-verbal communication for impactful messages\n\nModule 4: Written Communication Excellence \n\nCrafting professional emails\, memos\, and reports\nThe art of effective business writing\nUnderstanding tone and etiquette in written communication\nEditing and proofreading techniques for error-free communication\n\nDay 2:\nModule 5: Communicating with Different Personality Types \n\nRecognizing diverse communication styles and preferences\nAdapting communication for various personality types\nBuilding rapport and trust with colleagues and clients\n\nModule 6: Managing Challenging Conversations \n\nStrategies for handling conflicts and difficult situations\nMaintaining composure and emotional intelligence during tough discussions\nProviding constructive feedback and receiving feedback gracefully\n\nModule 7: Effective Communication in Teams and Meetings \n\nCommunicating ideas clearly in team settings\nActive participation and engagement in meetings\nFacilitating discussions and encouraging collaboration\nResolving conflicts and building consensus in group settings\n\nModule 8: Building Professional Relationships through Communication \n\nNetworking and relationship-building strategies\nEnhancing professional presence and credibility\nDeveloping interpersonal communication skills\n\nPRICING: \n\nRM 1\,800.00 Per Person (HRD Corp Claimable Course) + 8% SST \n\n\n \nKindly scan or click on the link below for your \nLearning Registration.\n \nFor any enquiries\, please contact us at:\n \nUOA Academy Sdn Bhd\nUOA Corporate Tower\, Lobby A\, Avenue 10\, The Vertical\nBangsar South City\, No 8 Jalan Kerinchi\n59200 Kuala Lumpur\, Malaysia.\nTel: 603-2381 0478 | 6012-575 1767\nEmail: register@uoa-academy.com\n \n\nhttps://www.surveymonkey.com/r/EXTREG\n \nCancellation & Transfer\n\nPlease note that should this registration be cancelled fourteen (14) days before the day of the training\, a 50% cancellation charge will be imposed. If cancellation is made seven (7) days before the training\, full payment of the training will be levied. Please note that amendments can only be made to the above arrangement by giving a minimum of three (3) working days’ notice. Additionally\, a 30% upfront payment is required via Human Resource Development Corporation (HRDC) or bank transfer. \nDisclaimer: UOA Academy reserves the right to make changes to the venue\, date\, and speaker\,\nincluding cancellation of the workshop if warranted by circumstances beyond its control. \n\n  \n\n  \nJoin Today! \n 
URL:https://uoa-academy.com/events/essential-skills-for-communication-success-in-a-corporate-world-2/
CATEGORIES:Interpersonal Development,Interpersonal Skill,Leadership,Management,Personal Growth & Development,Self Development
ATTACH;FMTTYPE=image/jpeg:https://uoa-academy.com/wp-content/uploads/2025/05/Essential-Skills-for-Communication-Success-in-A.jpg
END:VEVENT
BEGIN:VEVENT
DTSTART;VALUE=DATE:20250611
DTEND;VALUE=DATE:20250613
DTSTAMP:20260422T165211
CREATED:20250505T065021Z
LAST-MODIFIED:20250505T065021Z
UID:41820-1749600000-1749772799@uoa-academy.com
SUMMARY:Managing Team Dynamics to Boost Performance
DESCRIPTION:Objectives\nThe “Managing Team Dynamics to Boost Performance” course aims to equip participants with essential skills for optimizing team dynamics to enhance overall performance. The primary objectives include providing insights into effective team management strategies\,\nfostering positive team cultures\, and developing leadership skills for navigating team dynamics successfully. \nTarget Audience\nThis course is designed for executives\, managers\, and supervisors seeking to improve their ability to manage and enhance team dynamics. It is suitable for professionals across various industries interested in cultivating high-performing teams\, improving collaboration\, and\nboosting overall team effectiveness. \nLearning Outcomes \n\nGain a deep understanding of team dynamics and their performance impact.\nDevelop skills in building cohesive and motivated teams.\nAcquire conflict resolution skills for improved team dynamics.\nLeverage diversity as a catalyst for innovation within the team.\nImplement strategies to boost overall team performance.\nImprove communication effectiveness within the team.\nFoster a positive and productive team environment.\n\nCourse Outlines:\nDay 1: \nModule 1: Understanding Team Dynamics \n\nOverview of team dynamics and their impact on performance\nFactors influencing team behavior and collaboration\nImportance of effective team management strategies\n\nModule 2: Building Cohesive and Motivated Teams \n\nStrategies for building a cohesive team culture\nMotivational techniques for team members\nRecognizing and addressing demotivators within the team\n\nModule 3: Conflict Resolution in Team Dynamics \n\nIdentifying sources of conflict within teams\nDeveloping conflict resolution skills\nStrategies for creating a positive conflict resolution environment\n\nModule 4: Leveraging Diversity for Innovation \n\nUnderstanding the role of diversity in team dynamics\nFostering an inclusive team culture\nUtilizing diversity as a catalyst for innovation\n\nModule 5: Strategies for Boosting Team Performance \n\nImplementing performance improvement plans\nSetting clear expectations and goals for teams\nMonitoring and evaluating team performance metrics\n\nDay 2:\nModule 6: Improving Communication Within Teams \n\nImportance of effective communication in team dynamics\nStrategies for enhancing team communication\nAddressing communication challenges within teams\n\nModule 7: Fostering a Positive Team Environment \n\nCreating a positive and supportive team culture\nStrategies for promoting collaboration and camaraderie\nRecognizing and addressing factors that impact team morale\n\nModule 8: Leadership Skills for Navigating Team Dynamics \n\nDeveloping leadership skills in team management\nStrategies for leading teams through challenges\nInspiring and motivating teams towards common goals\n\nModule 9: Action Planning and Implementation \n\nCreating personalized action plans for enhancing team dynamics\nStrategies for implementing learned skills in the workplace\nMonitoring and adapting team management approaches for continuous improvement\n\nPRICING: \n\nRM 1\,500.00 Per Person (HRD Corp Claimable Course) + 6% SST \n\n\n \nKindly scan or click on the link below for your \nLearning Registration.\n \nFor any enquiries\, please contact us at:\n \nUOA Academy Sdn Bhd\nUOA Corporate Tower\, Lobby A\, Avenue 10\, The Vertical\nBangsar South City\, No 8 Jalan Kerinchi\n59200 Kuala Lumpur\, Malaysia.\nTel: 603-2381 0478 | 6012-575 1767\nEmail: register@uoa-academy.com\n \n\nhttps://www.surveymonkey.com/r/EXTREG\n \nCancellation & Transfer\n\nPlease note that should this registration be cancelled fourteen (14) days before the day of the training\, a 50% cancellation charge will be imposed. If cancellation is made seven (7) days before the training\, full payment of the training will be levied. Please note that amendments can only be made to the above arrangement by giving a minimum of three (3) working days’ notice. Additionally\, a 30% upfront payment is required via Human Resource Development Corporation (HRDC) or bank transfer. \nDisclaimer: UOA Academy reserves the right to make changes to the venue\, date\, and speaker\,\nincluding cancellation of the workshop if warranted by circumstances beyond its control. \n\n  \n\n  \nJoin Today! \n 
URL:https://uoa-academy.com/events/managing-team-dynamics-to-boost-performance-2/
CATEGORIES:Interpersonal Development,Interpersonal Skill,Leadership,Management,Personal Growth & Development,Self Development
ATTACH;FMTTYPE=image/jpeg:https://uoa-academy.com/wp-content/uploads/2025/05/Managing-Team-Dynamics-to-Boost-Performance.jpg
END:VEVENT
END:VCALENDAR