BEGIN:VCALENDAR
VERSION:2.0
PRODID:-//UOA Academy - ECPv6.15.20//NONSGML v1.0//EN
CALSCALE:GREGORIAN
METHOD:PUBLISH
X-ORIGINAL-URL:https://uoa-academy.com
X-WR-CALDESC:Events for UOA Academy
REFRESH-INTERVAL;VALUE=DURATION:PT1H
X-Robots-Tag:noindex
X-PUBLISHED-TTL:PT1H
BEGIN:VTIMEZONE
TZID:Asia/Kuala_Lumpur
BEGIN:STANDARD
TZOFFSETFROM:+0800
TZOFFSETTO:+0800
TZNAME:+08
DTSTART:20240101T000000
END:STANDARD
END:VTIMEZONE
BEGIN:VEVENT
DTSTART;VALUE=DATE:20250422
DTEND;VALUE=DATE:20250424
DTSTAMP:20260424T024330
CREATED:20250403T030551Z
LAST-MODIFIED:20250403T031101Z
UID:40961-1745280000-1745452799@uoa-academy.com
SUMMARY:Managing Multiple Tasks and Work Priorities (2 Days)
DESCRIPTION:Objectives \nThe “Managing Multiple Tasks and Work Priorities” course is designed to equip participants with effective strategies and techniques for managing their workload\, prioritizing tasks\, and maximizing productivity in a dynamic and fast-paced work environment. Through practical exercises\, discussions\, and real-life scenarios\, participants will learn how to effectively handle multiple responsibilities\, make informed decisions on task prioritization\, and enhance their time management skills. \nTarget Audience \nThe “Managing Multiple Tasks and Work Priorities” course is designed for professionals at all levels who are faced with managing multiple tasks\, responsibilities\, and competing priorities in their work. It is suitable for individuals from various industries and roles\, including managers\, supervisors\, project leads\, team members\, and anyone seeking to enhance their task management and work prioritization skills. \nLearning Outcomes  \n\nAssess and analyze their workload to effectively manage multiple tasks and responsibilities.\nApply proven time management techniques to maximize productivity and minimize time wastage.\nPrioritize tasks based on importance\, urgency\, and organizational goals.\nImplement strategies to minimize interruptions and distractions and maintain focus.\n\nCourse Outlines:  \nDay 1:  \nModule 1: Introduction to Managing Multiple Tasks and Work Priorities \n\nUnderstanding the challenges and impact of managing multiple tasks.\nIdentifying common time management pitfalls and how they affect productivity.\nSetting goals for improving task management and work prioritization.\nAnalyzing Workload and Task Prioritization\n\nModule 2: Assessing the current workload and identifying tasks and responsibilities. \n\nApplying prioritization techniques to categorize tasks based on importance and urgency.\nIdentifying key factors and criteria for effective task prioritization.\nTime Management Techniques\n\nModule 3: Exploring proven time management strategies and techniques. \n\nSetting realistic deadlines and creating a time management plan.\nOvercoming procrastination and managing distractions.\nManaging Interruptions and Distractions\n\nModule 4: Identifying common interruptions and distractions in the workplace. \n\nImplementing strategies to minimize and effectively handle interruptions.\nDeveloping techniques to regain focus and maintain productivity.\nDelegating and Outsourcing Tasks\n\nDay 2:  \nModule 5: Recognizing tasks that can be delegated or outsourced. \n\nUnderstanding the criteria for determining tasks that are suitable for delegation or outsourcing.\nIdentifying tasks that are repetitive\, time-consuming\, or outside your core competency.\nEvaluating the potential benefits and risks associated with delegating or outsourcing specific tasks.\n\nModule 6: Effective Task and Project Planning \n\nBreaking down projects into manageable tasks and creating action plans.\nUtilizing task management tools and software for planning and tracking progress.\nIncorporating flexibility and adaptability in task and project planning.\n\nModule 7: Prioritization Decision-Making \n\nMaking informed decisions on task prioritization based on organizational goals and deadlines.\nApplying techniques such as the Eisenhower Matrix or ABC Analysis.\nEvaluating trade-offs and considering the impact of task prioritization decisions.\n\nModule 8: Managing Work Overload and Stress \n\nRecognizing signs of work overload and stress.\nImplementing stress management techniques and self-care practices.\nSeeking support and resources to manage work-related stress effectively.\n\nPRICING: \n\nContact us for pricing information \n\n\n \nKindly scan or click on the link below for your \nLearning Registration.\n \nFor any enquiries\, please contact us at:\n \nUOA Academy Sdn Bhd\nUOA Corporate Tower\, Lobby A\, Avenue 10\, The Vertical\nBangsar South City\, No 8 Jalan Kerinchi\n59200 Kuala Lumpur\, Malaysia.\nTel: 603-2381 0478 | 6012-575 1767\nEmail: register@uoa-academy.com\n \n\nhttps://www.surveymonkey.com/r/EXTREG\n \nCancellation & Transfer\n\nPlease note that should this registration be cancelled fourteen (14) days before the day of the training\, a 50% cancellation charge will be imposed. If cancellation is made seven (7) days before the training\, full payment of the training will be levied. Please note that amendments can only be made to the above arrangement by giving a minimum of three (3) working days’ notice. Additionally\, a 30% upfront payment is required via Human Resource Development Corporation (HRDC) or bank transfer. \nDisclaimer: UOA Academy reserves the right to make changes to the venue\, date\, and speaker\,\nincluding cancellation of the workshop if warranted by circumstances beyond its control. \n\n  \n\n  \nJoin Today! \n 
URL:https://uoa-academy.com/events/managing-multiple-tasks-and-work-priorities-3/
CATEGORIES:Interpersonal Development,Interpersonal Skill,Leadership,Management,Personal Growth & Development,Self Development
ATTACH;FMTTYPE=image/jpeg:https://uoa-academy.com/wp-content/uploads/2025/04/Managing-Multiple-Tasks-and-Work-Priorities.jpg
END:VEVENT
END:VCALENDAR