BEGIN:VCALENDAR
VERSION:2.0
PRODID:-//UOA Academy - ECPv6.15.20//NONSGML v1.0//EN
CALSCALE:GREGORIAN
METHOD:PUBLISH
X-WR-CALNAME:UOA Academy
X-ORIGINAL-URL:https://uoa-academy.com
X-WR-CALDESC:Events for UOA Academy
REFRESH-INTERVAL;VALUE=DURATION:PT1H
X-Robots-Tag:noindex
X-PUBLISHED-TTL:PT1H
BEGIN:VTIMEZONE
TZID:Asia/Kuala_Lumpur
BEGIN:STANDARD
TZOFFSETFROM:+0800
TZOFFSETTO:+0800
TZNAME:+08
DTSTART:20250101T000000
END:STANDARD
END:VTIMEZONE
BEGIN:VEVENT
DTSTART;VALUE=DATE:20261014
DTEND;VALUE=DATE:20261016
DTSTAMP:20260423T140137
CREATED:20260114T020615Z
LAST-MODIFIED:20260114T020615Z
UID:50763-1791936000-1792108799@uoa-academy.com
SUMMARY:Hazard Analysis and Critical Control Point (HACCP) + Food Safety Management System (2 days)
DESCRIPTION:Objectives  \nThe Hazard Analysis and Critical Control Point (HACCP) course is designed to educate participants on systematic approaches to identify\, assess\, and control potential hazards in food production processes. The primary objective is to equip participants with the knowledge and skills needed to implement and manage an effective HACCP system\, ensuring food safety\, compliance with regulations\, and the prevention of foodborne illnesses.  \nTarget Audience  \nThis course is specifically designed for professionals within executives\, middle management\, senior managers\, and employees in the hospitality sector relevant to this course. It is well-suited for individuals aiming to deepen their comprehension of HACCP principles. Additionally\, it is tailored for those actively engaged in the development\, implementation\, and upkeep of food safety management systems.  \nLearning Outcomes  \n\n Develop proficiency in identifying potential hazards in food production processes. \nAcquire skills in implementing effective control measures to mitigate identified risks. \nEmpower participants to contribute significantly to creating and maintaining a safe and compliant food handling environment within their professional capacities. \n\nCourse Outlines:  \nDay 1:  \nModule 1: Introduction to HACCP Principles  \n\n Examine systematic methodologies for identifying\, assessing\, and controlling potential hazards in food production processes. \n Emphasize the critical role of HACCP in ensuring food safety\, regulatory compliance\, and the prevention of foodborne illnesses. \n\nModule 2: Fundamentals of Hazard Identification  \n\n Cultivate proficiency in recognizing potential hazards at various stages of food production. \n Employ case studies and practical exercises to enhance skills in hazard identification. \n\nModule 3: Implementation of Control Measures  \n\n Develop skills in implementing effective control measures to mitigate identified risks. \nExplore best practices and real-world examples illustrating successful control measures application. \n\nDay 2:  \nModule 4: Establishment of an Effective HACCP System  \n\n Delve into the components and requirements of an effective HACCP system. \nProvide practical guidance on the development\, implementation\, and maintenance of robust food safety management systems. \n\nModule 5: Regulatory Compliance and Food Safety  \n\n Understanding the regulatory landscape and compliance requirements related to HACCP. \n Strategies for ensuring alignment with food safety regulations and industry standards. \n\nModule 6: Prevention of Foodborne Illnesses  \n\n Utilize case studies and scenarios focused on preventing foodborne illnesses through HACCP implementation. \n Analyze real-world examples to underscore the pivotal role of HACCP in food safety. \n\nPRICING: \n\nRM 2\,200.00 Per Person (HRD Corp Claimable Course) + 8% SSTTo inquire about pricing for our training\, please contact us for a quote. \n\n\nKindly scan or click on the link below for your. Learning Registration.For any enquiries\, please contact us at:UOA Academy Sdn BhdSuite 1-2\, Lower Level 1\, City\, The Horizon Annexe\, Avenue 7\,Bangsar South\, 59200 Kuala Lumpur\, Wilayah Persekutuan Kuala Lumpur. \nTel: 6013 482 4810 / 6016 241 3517Email: register@uoa-academy.com \n\n  \n\n \nClick Here for Registration & Further Details!  \n \nCancellation & Transfer\n\nPlease note that should this registration be cancelled fourteen (14) days before the day of the training\, a 50% cancellation charge will be imposed. If cancellation is made seven (7) days before the training\, full payment of the training will be levied. Please note that amendments can only be made to the above arrangement by giving a minimum of three (3) working days’ notice. Additionally\, a 30% upfront payment is required via Human Resource Development Corporation (HRDC) or bank transfer.  \nDisclaimer: UOA Academy reserves the right to make changes to the venue\, date\, and speaker\, including cancellation of the workshop if warranted by circumstances beyond its control.  \n\n     \n  \n 
URL:https://uoa-academy.com/events/haccp-food-safety-management-system-2-days/
CATEGORIES:Interpersonal Development,Interpersonal Skill,Management,Self Development
END:VEVENT
BEGIN:VEVENT
DTSTART;VALUE=DATE:20261014
DTEND;VALUE=DATE:20261016
DTSTAMP:20260423T140137
CREATED:20260114T021007Z
LAST-MODIFIED:20260114T021007Z
UID:50765-1791936000-1792108799@uoa-academy.com
SUMMARY:LEVEL 3: Microsoft Excel (Advanced)  (2 Days)
DESCRIPTION:Objectives  \nThe “LEVEL 3: Microsoft Excel (Advanced)” course aims to deepen participants’ proficiency in utilizing Microsoft Excel for advanced data analysis\, automation\, and visualization. The primary objectives include mastering advanced functions\, exploring complex data manipulation techniques\, and automating tasks through macros and VBA. The course is designed to empower participants with advanced Excel skills\, enabling them to efficiently tackle complex data challenges in professional settings.  \nTarget Audience  \nThis course is designed for individuals with an intermediate understanding of Microsoft Excel looking to advance their skills. It is suitable for any senior managers\, executives and middle management that seek to enhance their ability to analyze and manipulate data using advanced Excel features. The content caters to those in various industries where data-driven decision-making is crucial.  \nLearning Outcomes  \n\n Mastery of complex functions\, enhancing participants’ Excel proficiency. \nAcquire advanced techniques for manipulating and analyzing data effectively. \nSkills to create dynamic visualizations for clearer data representation. \nEfficiently streamline repetitive tasks for increased productivity. \n Contribute to increased efficiency and effectiveness in professional roles. \nEmpowered to handle complex data scenarios with confidence and precision. \n\nCourse Outline Day 1:  \nModule 1: Advanced Functions Mastery  \n\n Overview of advanced Excel functions \n Practical exercises for mastery \n Application in data analysis scenarios \n\nModule 2: Complex Data Manipulation Techniques  \n\n Strategies for handling intricate datasets \n Techniques for efficient data manipulation \n Real-world applications and case studies \n\nModule 3: Automation through Macros  \n\n Introduction to macros and automation \n Creating and using macros in Excel \n Automation for repetitive tasks \n\nModule 4: Visualizing Data Dynamically  \n\n Importance of dynamic visualizations \n Creating charts and graphs dynamically \n Enhancing data representation in reports \n\nModule 5: Efficient Task Streamlining  \n\n Identifying and streamlining repetitive tasks \n Using Excel features for task efficiency \n Best practices for task management \n\nDay 2: Module 6: Advanced Data Analysis Techniques  \n\n Exploring advanced data analysis methods \n Practical applications in business scenarios \n Interpreting and presenting analysis results \n\nModule 7: Data-driven Decision-Making  \n\n Leveraging data for decision-making \n Case studies on data-driven decisions \n Integrating Excel analysis into decision processes \n\nModule 8: Excel Efficiency in Professional Settings  \n\n Applying advanced Excel skills in the workplace \n Enhancing professional efficiency \n Real-world examples and success stories \n\nModule 9: Handling Complex Data Scenarios with Confidence ● Practical exercises on complex data scenarios  \n\n Building confidence in data handling \n\nPRICING: \n\nRM 2\,200.00 Per Person (HRD Corp Claimable Course) + 8% SSTTo inquire about pricing for our training\, please contact us for a quote. \n\n\nKindly scan or click on the link below for your. Learning Registration.For any enquiries\, please contact us at:UOA Academy Sdn BhdSuite 1-2\, Lower Level 1\, City\, The Horizon Annexe\, Avenue 7\,Bangsar South\, 59200 Kuala Lumpur\, Wilayah Persekutuan Kuala Lumpur. \nTel: 6013 482 4810 / 6016 241 3517Email: register@uoa-academy.com \n\n  \n\n \nClick Here for Registration & Further Details!  \n \nCancellation & Transfer\n\nPlease note that should this registration be cancelled fourteen (14) days before the day of the training\, a 50% cancellation charge will be imposed. If cancellation is made seven (7) days before the training\, full payment of the training will be levied. Please note that amendments can only be made to the above arrangement by giving a minimum of three (3) working days’ notice. Additionally\, a 30% upfront payment is required via Human Resource Development Corporation (HRDC) or bank transfer.  \nDisclaimer: UOA Academy reserves the right to make changes to the venue\, date\, and speaker\, including cancellation of the workshop if warranted by circumstances beyond its control.  \n\n     \n  \n 
URL:https://uoa-academy.com/events/level-3-microsoft-excel-advanced-course-2/
CATEGORIES:Interpersonal Development,Interpersonal Skill,Management,Self Development
END:VEVENT
BEGIN:VEVENT
DTSTART;VALUE=DATE:20261014
DTEND;VALUE=DATE:20261016
DTSTAMP:20260423T140137
CREATED:20260114T021654Z
LAST-MODIFIED:20260114T021654Z
UID:50767-1791936000-1792108799@uoa-academy.com
SUMMARY:Corporate Branding\, Events & Crisis Readiness (2 Days)
DESCRIPTION:Objectives  \nIn today’s highly connected and fast-moving business environment\, organisations must consistently manage their brand image\, deliver impactful corporate events\, and respond effectively to crises. This programme equips participants with practical knowledge and tools to strengthen corporate branding\, execute professional events\, and prepare for crisis situations that may impact organisational reputation.  \nParticipants will gain an integrated understanding of brand positioning\, event execution\, and crisis readiness to ensure organisational credibility\, consistency\, and resilience.  \nTarget Audience  \n\n Corporate Communications and PR professionals \n Marketing and Branding teams \n HR\, Administration\, and Event Management personnel \n Managers and leaders involved in brand representation and decision-making \n\nLearning Outcomes  \n\n Understand the fundamentals of corporate branding and reputation management \nPlan and manage corporate events that align with brand identity and objectives \nIdentify potential risks and crisis scenarios affecting organisational image \nApply structured approaches to crisis communication and response \nStrengthen organisational readiness to protect brand credibility \n\nDay 1  \nModule 1: Fundamentals of Corporate Branding  \n\n Understanding corporate brand identity and values \n Brand positioning and consistency across touchpoints \nManaging reputation in the digital and media landscape \n\nModule 2: Brand Communication & Stakeholder Engagement  \n\n Internal and external brand communication strategies \nAligning messaging with organisational values \n Engaging stakeholders to strengthen brand trust \n\nModule 3: Corporate Event Strategy & Planning  \n\n Purpose and objectives of corporate events \n Event planning frameworks and key success factors \nAligning events with corporate branding goals \n\nModule 4: Executing Professional Corporate Events  \n\n Managing logistics\, vendors\, and stakeholders \n Event protocol\, etiquette\, and brand representation \n Measuring event impact and post-event evaluation \n\nDay 2  \nModule 5: Understanding Crisis & Reputational Risks  \n\n Types of corporate crises and reputational threats \n Identifying early warning signs and risk factors \n The impact of crises on brand perception \n\nModule 6: Crisis Communication & Response  \n\n Principles of effective crisis communication \n Managing media\, public statements\, and stakeholders \nDo’s and don’ts during crisis situations \n\nModule 7: Crisis Preparedness & Simulation  \n\n Developing a crisis readiness and response plan \n Roles\, responsibilities\, and decision-making during crises \nScenario-based crisis simulation exercise \n\nModule 8: Strengthening Organisational Readiness  \n\n Integrating branding\, events\, and crisis management \nBuilding organisational resilience and accountability \nDeveloping an action plan for continuous readiness \n\nPRICING: \n\nRM 2\,200.00 Per Person (HRD Corp Claimable Course) + 8% SSTTo inquire about pricing for our training\, please contact us for a quote. \n\n\nKindly scan or click on the link below for your. Learning Registration.For any enquiries\, please contact us at:UOA Academy Sdn BhdSuite 1-2\, Lower Level 1\, City\, The Horizon Annexe\, Avenue 7\,Bangsar South\, 59200 Kuala Lumpur\, Wilayah Persekutuan Kuala Lumpur. \nTel: 6013 482 4810 / 6016 241 3517Email: register@uoa-academy.com \n\n  \n\n \nClick Here for Registration & Further Details!  \n \nCancellation & Transfer\n\nPlease note that should this registration be cancelled fourteen (14) days before the day of the training\, a 50% cancellation charge will be imposed. If cancellation is made seven (7) days before the training\, full payment of the training will be levied. Please note that amendments can only be made to the above arrangement by giving a minimum of three (3) working days’ notice. Additionally\, a 30% upfront payment is required via Human Resource Development Corporation (HRDC) or bank transfer.  \nDisclaimer: UOA Academy reserves the right to make changes to the venue\, date\, and speaker\, including cancellation of the workshop if warranted by circumstances beyond its control.  \n\n     \n  \n 
URL:https://uoa-academy.com/events/corporate-branding-events-crisis-readiness/
CATEGORIES:Interpersonal Development,Interpersonal Skill,Management,Self Development
END:VEVENT
END:VCALENDAR