BEGIN:VCALENDAR
VERSION:2.0
PRODID:-//UOA Academy - ECPv6.15.20//NONSGML v1.0//EN
CALSCALE:GREGORIAN
METHOD:PUBLISH
X-WR-CALNAME:UOA Academy
X-ORIGINAL-URL:https://uoa-academy.com
X-WR-CALDESC:Events for UOA Academy
REFRESH-INTERVAL;VALUE=DURATION:PT1H
X-Robots-Tag:noindex
X-PUBLISHED-TTL:PT1H
BEGIN:VTIMEZONE
TZID:Asia/Kuala_Lumpur
BEGIN:STANDARD
TZOFFSETFROM:+0800
TZOFFSETTO:+0800
TZNAME:+08
DTSTART:20250101T000000
END:STANDARD
END:VTIMEZONE
BEGIN:VEVENT
DTSTART;VALUE=DATE:20260909
DTEND;VALUE=DATE:20260910
DTSTAMP:20260422T175547
CREATED:20260113T075822Z
LAST-MODIFIED:20260113T080041Z
UID:50736-1788912000-1788998399@uoa-academy.com
SUMMARY:Safety Measures & Emergency Actions Training Course (1 Day)
DESCRIPTION:Objectives  \nThe objective of this training course is to equip participants with essential knowledge and practical skills to ensure a safe and secure environment in various settings. This programme focuses on core safety measures\, risk awareness\, and effective emergency response actions\, enabling participants to respond proactively to incidents\, reduce risks\, and manage emergencies confidently and professionally.  \nTarget Audience  \nThis training course is designed for security personnel\, including new hires and experienced officers\, who are responsible for maintaining safety\, security\, and emergency readiness within their assigned premises.  \nLearning Outcomes  \n\n Understand key safety and security protocols relevant to their roles \nIdentify workplace risks and potential hazards effectively \n Apply physical security and access control measures appropriately \nRespond to fire and emergency situations using correct procedures \nPerform basic emergency response and first aid actions \n Participate effectively in emergency drills and crisis situations \n\nCourse Outlines:  \nDay 1:  \nModule 1: Introduction to Safety Measures & Security Responsibilities  \n\n Importance of safety in security operations \n Legal and ethical considerations in safety management\nRoles\, duties\, and protocols of security officers \n Creating a safety-conscious mindset \n\nModule 2: Risk Assessment & Hazard Identification  \n\n Principles of risk assessment \n Identifying common workplace and site-specific hazards \nPreventive measures to minimise risks \n Reporting and documentation of safety concerns \n\nModule 3: Physical Security & Access Control Measures  \n\n Access control and identification procedures \n Visitor management practices \n Surveillance and monitoring systems \n Perimeter security measures \n\nModule 4: Fire Safety & Emergency Evacuation  \n\n Fire prevention and common fire hazards \n Emergency evacuation procedures \n Roles during fire emergencies \n Proper use of fire extinguishers \n\nModule 5: Emergency Response\, First Aid & Crisis Handling  \n\n Emergency response procedures and communication protocols \nCoordination with emergency services \n Recognising common injuries and basic first aid response \nDe-escalation techniques for volatile situations \n Crisis identification and response strategies \n\nModule 6: Practical Drills\, Review & Assessment  \n\n Simulated emergency and evacuation drills \n Scenario-based role play and response exercises \n Review of key concepts and best practices \n Knowledge assessment and course wrap-up \n\nPRICING: \n\nRM 1\,500.00 Per Person (HRD Corp Claimable Course) + 8% SSTTo inquire about pricing for our training\, please contact us for a quote. \n\n\nKindly scan or click on the link below for your. Learning Registration.For any enquiries\, please contact us at:UOA Academy Sdn BhdSuite 1-2\, Lower Level 1\, City\, The Horizon Annexe\, Avenue 7\,Bangsar South\, 59200 Kuala Lumpur\, Wilayah Persekutuan Kuala Lumpur. \nTel: 6013 482 4810 / 6016 241 3517Email: register@uoa-academy.com \n\n  \n\n \nClick Here for Registration & Further Details!  \n \nCancellation & Transfer\n\nPlease note that should this registration be cancelled fourteen (14) days before the day of the training\, a 50% cancellation charge will be imposed. If cancellation is made seven (7) days before the training\, full payment of the training will be levied. Please note that amendments can only be made to the above arrangement by giving a minimum of three (3) working days’ notice. Additionally\, a 30% upfront payment is required via Human Resource Development Corporation (HRDC) or bank transfer.  \nDisclaimer: UOA Academy reserves the right to make changes to the venue\, date\, and speaker\, including cancellation of the workshop if warranted by circumstances beyond its control.  \n\n     \n  \n 
URL:https://uoa-academy.com/events/safety-measures-emergency-actions-course/
CATEGORIES:Interpersonal Development,Interpersonal Skill,Management,Self Development
END:VEVENT
BEGIN:VEVENT
DTSTART;VALUE=DATE:20260909
DTEND;VALUE=DATE:20260911
DTSTAMP:20260422T175547
CREATED:20260113T081324Z
LAST-MODIFIED:20260114T012931Z
UID:50739-1788912000-1789084799@uoa-academy.com
SUMMARY:ISO 9001:2015 Quality Management System (QMS) – Awareness Training (2 days)
DESCRIPTION:Objectives  \nThe “ISO 9001 Quality Management System” program is designed to provide participants with a comprehensive understanding of the ISO 9001 standard and the principles of quality management. The objectives include imparting the knowledge and skills necessary for implementing and maintaining an effective Quality Management System (QMS) based on ISO 9001. Participants will gain insights into quality management principles\, process improvement methodologies\, and the requirements of ISO 9001. The program aims to empower individuals to contribute to organizational excellence by aligning their processes with international quality standards.  \nTarget Audience  \nThis training is tailored for professionals across various industries\, including quality managers\, auditors\, compliance officers\, and individuals involved in the design\, implementation\, and improvement of Quality Management Systems. It caters to those seeking a practical understanding of ISO 9001 and is suitable for individuals at different career stages\, from beginners aiming to grasp the basics to experienced practitioners looking to enhance their knowledge and skills in quality management.  \nLearning Outcomes  \n\n Gain in-depth knowledge of the ISO 9001 standard and its application to Quality Management Systems. \n Acquire skills for designing\, implementing\, and maintaining a robust QMS in alignment with ISO 9001 requirements. \n Develop expertise in conducting internal audits\, ensuring compliance with ISO 9001\, and fostering a culture of continuous improvement. \n Instill a quality-focused mindset to contribute effectively to organizational success through adherence to international quality standards \n\nDay 1:  \nModule 1: Introduction to ISO 9001 and Quality Principles  \n\nSignificance of ISO 9001 \n Overview of Quality Management Principles \n Aligning Processes with International Quality Standards \n\nModule 2: ISO 9001 Requirements and Insights  \n\n In-Depth Analysis of ISO 9001 Requirements \n Grasping Quality Management Principles \n Skills Advancement for Practitioners \n\nModule 3: Designing and Implementing a Robust QMS  \n\nSkills for Designing a Robust QMS \n Implementation Aligned with ISO 9001 \n Continuous Improvement Methodology \n\nDay 2:  \nModule 4: Internal Audits and Compliance  \n\n Proficiency in Internal Audits \n Ensuring ISO 9001 Compliance \n\nModule 5: Cultivating a Quality-Focused Mindset  \n\n Instilling a Quality-Focused Mindset \n Contributing to Organizational Success \n\nModule 6: Tailored Approaches for Career Stages  \n\n Basics for Beginners \n Advanced Skills for Experienced Practitioners \n Customized Learning Paths for Varied Career Stages \n\nModule 7: Continuous Improvement in Quality Management  \n\nFeedback Mechanisms for Improvement \n Monitoring and Adapting to Evolving Quality Standards \n\nModule 8: Integration of ISO 9001 in Decision-Making  \n\n Applying ISO 9001 in Decision-Making Processes \n Contribution to Safety\, Compliance\, and Project Management Decisions \nFostering a Culture of Quality Management \n\nPRICING: \n\nRM 2\,200.00 Per Person (HRD Corp Claimable Course) + 8% SSTTo inquire about pricing for our training\, please contact us for a quote. \n\n\nKindly scan or click on the link below for your. Learning Registration.For any enquiries\, please contact us at:UOA Academy Sdn BhdSuite 1-2\, Lower Level 1\, City\, The Horizon Annexe\, Avenue 7\,Bangsar South\, 59200 Kuala Lumpur\, Wilayah Persekutuan Kuala Lumpur. \nTel: 6013 482 4810 / 6016 241 3517Email: register@uoa-academy.com \n\n  \n\n \nClick Here for Registration & Further Details!  \n \nCancellation & Transfer\n\nPlease note that should this registration be cancelled fourteen (14) days before the day of the training\, a 50% cancellation charge will be imposed. If cancellation is made seven (7) days before the training\, full payment of the training will be levied. Please note that amendments can only be made to the above arrangement by giving a minimum of three (3) working days’ notice. Additionally\, a 30% upfront payment is required via Human Resource Development Corporation (HRDC) or bank transfer.  \nDisclaimer: UOA Academy reserves the right to make changes to the venue\, date\, and speaker\, including cancellation of the workshop if warranted by circumstances beyond its control.  \n\n     \n  \n 
URL:https://uoa-academy.com/events/iso-90012015-qms-awareness-training-2-days/
CATEGORIES:Interpersonal Development,Interpersonal Skill,Management,Self Development
END:VEVENT
BEGIN:VEVENT
DTSTART;VALUE=DATE:20260909
DTEND;VALUE=DATE:20260911
DTSTAMP:20260422T175547
CREATED:20260113T081920Z
LAST-MODIFIED:20260113T081920Z
UID:50741-1788912000-1789084799@uoa-academy.com
SUMMARY:LEVEL 2: Microsoft Excel (Intermediate)  (2 Days)
DESCRIPTION:Objectives  \nThe Level 2: Microsoft Excel (Intermediate) program aims to provide participants with an in-depth understanding of intermediate Excel functionalities. The primary objectives include advancing participants’ proficiency in data analysis\, enhancing spreadsheet management skills\, and introducing them to more complex features of Microsoft Excel. Emphasis is placed on practical application\, enabling participants to use Excel as a powerful tool for data manipulation\, analysis\, and visualization in professional settings.  \nTarget Audience  \nThis training is designed for individuals with a basic understanding of Microsoft Excel or those who have completed a beginner-level course. It caters to professionals\, analysts\, managers\, and anyone looking to elevate their Excel skills to an intermediate level. The program is suitable for participants at various career stages\, providing valuable insights and hands-on experience to enhance their spreadsheet capabilities.  \nLearning Outcomes  \nBy the end of this programme\, participants will be able to:  \n\n Acquire advanced skills in data organization\, analysis\, and visualization. \nLearn to manage larger datasets and create dynamic reports. \n Utilize Excel’s powerful features for enhanced productivity. \n Empower participants to leverage Excel as a strategic tool for decision-making and data-driven insights in professional roles. \n\nCourse Outlines: Day 1:  \nModule 1: Introduction to Excel 2016 Interface  \n\n Starting Excel \n The Excel Interface \n Changing Excel’s View \n Working with Existing Workbook \n\nModule 2: Working with Microsoft Excel 2016  \n\n Creating Workbooks \n Saving Workbooks \n Input Basic Data \n Using Data Types \n Cutting\, Copying and Pasting Data \n Editing Workbook’s Properties \n\nModule 3: Using Basic Formulas  \n\n Building Basic Formulas \n Using Cell References \n Using Cell Ranges \n\nModule 4: Formatting Cells and Ranges  \n\n Inserting and Deleting Cells \n Manually Formatting Cell Contents \n Using Format Painter \n Paste Special Options \n Formatting Cells with Styles \n Hyperlink Data \n\nDay 2: Module 5: Formatting Worksheets  \n\n Working with Rows and Columns \n Using Themes \n Modifying Worksheet’s Appearance \n Inserting Headers and Footers \n\nModule 6: Adding Pictures and Shapes to a Worksheet  \n\n Inserting Pictures \n Adding Shapes and WordArt \n Deleting\, Copying and Moving Graphics \n Formatting Graphics \n Using SmartArt Graphics \n\nModule 7: Printing Worksheets  \n\n Preparing a Document for Printing \n Printing with Backstage \n\nPRICING: \n\nRM 2\,200.00 Per Person (HRD Corp Claimable Course) + 8% SSTTo inquire about pricing for our training\, please contact us for a quote. \n\n\nKindly scan or click on the link below for your. Learning Registration.For any enquiries\, please contact us at:UOA Academy Sdn BhdSuite 1-2\, Lower Level 1\, City\, The Horizon Annexe\, Avenue 7\,Bangsar South\, 59200 Kuala Lumpur\, Wilayah Persekutuan Kuala Lumpur. \nTel: 6013 482 4810 / 6016 241 3517Email: register@uoa-academy.com \n\n  \n\n \nClick Here for Registration & Further Details!  \n \nCancellation & Transfer\n\nPlease note that should this registration be cancelled fourteen (14) days before the day of the training\, a 50% cancellation charge will be imposed. If cancellation is made seven (7) days before the training\, full payment of the training will be levied. Please note that amendments can only be made to the above arrangement by giving a minimum of three (3) working days’ notice. Additionally\, a 30% upfront payment is required via Human Resource Development Corporation (HRDC) or bank transfer.  \nDisclaimer: UOA Academy reserves the right to make changes to the venue\, date\, and speaker\, including cancellation of the workshop if warranted by circumstances beyond its control.  \n\n     \n  \n 
URL:https://uoa-academy.com/events/level-2-microsoft-excel-intermediate-2-days/
CATEGORIES:Interpersonal Development,Interpersonal Skill,Management,Self Development
END:VEVENT
END:VCALENDAR