BEGIN:VCALENDAR
VERSION:2.0
PRODID:-//UOA Academy - ECPv6.15.20//NONSGML v1.0//EN
CALSCALE:GREGORIAN
METHOD:PUBLISH
X-WR-CALNAME:UOA Academy
X-ORIGINAL-URL:https://uoa-academy.com
X-WR-CALDESC:Events for UOA Academy
REFRESH-INTERVAL;VALUE=DURATION:PT1H
X-Robots-Tag:noindex
X-PUBLISHED-TTL:PT1H
BEGIN:VTIMEZONE
TZID:Asia/Kuala_Lumpur
BEGIN:STANDARD
TZOFFSETFROM:+0800
TZOFFSETTO:+0800
TZNAME:+08
DTSTART:20250101T000000
END:STANDARD
END:VTIMEZONE
BEGIN:VEVENT
DTSTART;VALUE=DATE:20260818
DTEND;VALUE=DATE:20260820
DTSTAMP:20260422T100705
CREATED:20260113T061557Z
LAST-MODIFIED:20260113T061557Z
UID:50724-1787011200-1787183999@uoa-academy.com
SUMMARY:Multitasking & Time Management at the Workplace (2 Days)
DESCRIPTION:Objectives  \nThe “Managing Multiple Tasks and Work Priorities” course is designed to equip participants with effective strategies and techniques for managing their workload\, prioritizing tasks\, and maximizing productivity in a dynamic and fast-paced work environment. Through practical exercises\, discussions\, and real-life scenarios\, participants will learn how to effectively handle multiple responsibilities\, make informed decisions on task prioritization\, and enhance their time management skills.  \nTarget Audience  \nThe “Managing Multiple Tasks and Work Priorities” course is designed for professionals at all levels who are faced with managing multiple tasks\, responsibilities\, and competing priorities in their work. It is suitable for individuals from various industries and roles\, including managers\, supervisors\, project leads\, team members\, and anyone seeking to enhance their task management and work prioritization skills.  \nLearning Outcomes  \n\n Assess and analyze their workload to effectively manage multiple tasks and responsibilities. \n Apply proven time management techniques to maximize productivity and minimize time wastage. \n Prioritize tasks based on importance\, urgency\, and organizational goals. \nImplement strategies to minimize interruptions and distractions and maintain focus. \n\nDay 1:  \nModule 1: Introduction to Managing Multiple Tasks and Work Priorities  \n\nUnderstanding the challenges and impact of managing multiple tasks. \nIdentifying common time management pitfalls and how they affect productivity. \nSetting goals for improving task management and work prioritization. \nAnalyzing Workload and Task Prioritization \n\nModule 2: Assessing the current workload and identifying tasks and responsibilities.  \n\nApplying prioritization techniques to categorize tasks based on importance and urgency. \n Identifying key factors and criteria for effective task prioritization. \n Time Management Techniques \n\nModule 3: Exploring proven time management strategies and techniques.  \n\nSetting realistic deadlines and creating a time management plan. \n Overcoming procrastination and managing distractions. \n Managing Interruptions and Distractions \n\nModule 4: Identifying common interruptions and distractions in the workplace.  \n\nImplementing strategies to minimize and effectively handle interruptions. \nDeveloping techniques to regain focus and maintain productivity. \nDelegating and Outsourcing Tasks \n\nDay 2:  \nModule 5: Recognizing tasks that can be delegated or outsourced.  \n\nUnderstanding the criteria for determining tasks that are suitable for delegation or outsourcing.\nIdentifying tasks that are repetitive\, time-consuming\, or outside your core competency.\nEvaluating the potential benefits and risks associated with delegating or outsourcing specific tasks. \n\nModule 6: Effective Task and Project Planning  \n\n Breaking down projects into manageable tasks and creating action plans. \nUtilizing task management tools and software for planning and tracking progress. \nIncorporating flexibility and adaptability in task and project planning. \n\nModule 7: Prioritization Decision-Making  \n\n Making informed decisions on task prioritization based on organizational goals and deadlines. \n Applying techniques such as the Eisenhower Matrix or ABC Analysis. \nEvaluating trade-offs and considering the impact of task prioritization decisions. \n\nModule 8: Managing Work Overload and Stress  \n\n Recognizing signs of work overload and stress. \n Implementing stress management techniques and self-care practices. \nSeeking support and resources to manage work-related stress effectively. \n\nPRICING: \n\nRM 2\,200.00 Per Person (HRD Corp Claimable Course) + 8% SSTTo inquire about pricing for our training\, please contact us for a quote. \n\n\nKindly scan or click on the link below for your. Learning Registration.For any enquiries\, please contact us at:UOA Academy Sdn BhdSuite 1-2\, Lower Level 1\, City\, The Horizon Annexe\, Avenue 7\,Bangsar South\, 59200 Kuala Lumpur\, Wilayah Persekutuan Kuala Lumpur. \nTel: 6013 482 4810 / 6016 241 3517Email: register@uoa-academy.com \n\n  \n\n \nClick Here for Registration & Further Details!  \n \nCancellation & Transfer\n\nPlease note that should this registration be cancelled fourteen (14) days before the day of the training\, a 50% cancellation charge will be imposed. If cancellation is made seven (7) days before the training\, full payment of the training will be levied. Please note that amendments can only be made to the above arrangement by giving a minimum of three (3) working days’ notice. Additionally\, a 30% upfront payment is required via Human Resource Development Corporation (HRDC) or bank transfer.  \nDisclaimer: UOA Academy reserves the right to make changes to the venue\, date\, and speaker\, including cancellation of the workshop if warranted by circumstances beyond its control.  \n\n     \n  \n 
URL:https://uoa-academy.com/events/multitasking-time-management-training-2-days/
CATEGORIES:Interpersonal Development,Interpersonal Skill,Management,Self Development
END:VEVENT
BEGIN:VEVENT
DTSTART;VALUE=DATE:20260818
DTEND;VALUE=DATE:20260820
DTSTAMP:20260422T100705
CREATED:20260113T062313Z
LAST-MODIFIED:20260113T062905Z
UID:50726-1787011200-1787183999@uoa-academy.com
SUMMARY:Managing Effective Teams: Building Collaboration\, Trust\, and Accountability at Work (2 Days)
DESCRIPTION:Objectives  \nThis 2-day in-person training equips managers and team leaders with the core competencies to lead high-performing teams in today’s dynamic workplace. Focused on Malaysian organisational realities\, the course addresses communication gaps\, role clarity\, conflict resolution\, motivation strategies\, and alignment to shared goals. Participants will gain practical frameworks to improve team effectiveness\, foster trust\, and manage team dynamics with confidence  \nTarget Audience  \n\n Team leaders\, supervisors\, middle managers\, and functional heads responsible for managing team performance\, cohesion\, and workplace collaboration. \n\nLearning Outcomes  \nBy the end of this programme\, participants will be able to:  \n\n Identify the key elements of effective teams and assess current team dynamics \nApply communication strategies that improve trust\, alignment\, and performance \nManage team conflict and resolve misunderstandings constructively \nUse motivation and delegation techniques to drive accountability and ownership \nImplement team action plans to enhance collaboration and team culture \n\nCourse Outlines  \nDay 1: Building Strong Team Foundations & Trust  \nModule 1: Foundations of High-Performance Teams  \n\n Define team effectiveness using models (e.g.\, Tuckman\, Lencioni) \nDiagnose strengths and weaknesses in current teams \nStages of team development \n Characteristics of dysfunctional teams \n\nModule 2: Communication and Role Clarity  \n\n Improve team communication through clarity and feedback \nAlign roles\, goals\, and expectations \n Communication styles \n Role alignment tools \n\nModule 3: Building Trust and Psychological Safety  \n\n Recognise barriers to trust in teams \n Apply behaviours that foster open\, supportive environments \nTrust behaviour \n Safe-to-speak cultures \n\nDay 2: Managing Conflict\, Accountability & Team Culture  \nModule 4: Conflict Management and Constructive Tension  \n\n Identify common sources of team conflict \n Use structured conversations to resolve tension \n Types of conflict (task vs relationship) \n Conflict resolution tools \n\nModule 5: Motivation and Accountability  \n\n Use intrinsic and extrinsic motivation techniques \n Reinforce team accountability without micromanaging \n Motivation styles \n Performance feedback loops \n\nModule 6: Leading Team Culture and Next Steps  \n\n Embed positive norms and rituals into team life \n Develop a team improvement action plan \n Culture shaping tools \n Continuous improvement practices \n\nTraining Methodology  \nThis programme is delivered through case studies and real-life workplace scenarios supported by group discussions and interactive mapping exercises. Participants engage in role plays and communication simulations to practise team leadership skills in realistic situations. Self and team diagnostic tools are used to increase awareness of team dynamics. Learning is reinforced through action planning and peer coaching to ensure practical application at the workplace.  \nPRICING: \n\nRM 2\,200.00 Per Person (HRD Corp Claimable Course) + 8% SSTTo inquire about pricing for our training\, please contact us for a quote. \n\n\nKindly scan or click on the link below for your. Learning Registration.For any enquiries\, please contact us at:UOA Academy Sdn BhdSuite 1-2\, Lower Level 1\, City\, The Horizon Annexe\, Avenue 7\,Bangsar South\, 59200 Kuala Lumpur\, Wilayah Persekutuan Kuala Lumpur. \nTel: 6013 482 4810 / 6016 241 3517Email: register@uoa-academy.com \n\n  \n\n \nClick Here for Registration & Further Details!  \n \nCancellation & Transfer\n\nPlease note that should this registration be cancelled fourteen (14) days before the day of the training\, a 50% cancellation charge will be imposed. If cancellation is made seven (7) days before the training\, full payment of the training will be levied. Please note that amendments can only be made to the above arrangement by giving a minimum of three (3) working days’ notice. Additionally\, a 30% upfront payment is required via Human Resource Development Corporation (HRDC) or bank transfer.  \nDisclaimer: UOA Academy reserves the right to make changes to the venue\, date\, and speaker\, including cancellation of the workshop if warranted by circumstances beyond its control.  \n\n     \n  \n 
URL:https://uoa-academy.com/events/managing-effective-teams-leadership-collaboration/
CATEGORIES:Interpersonal Development,Interpersonal Skill,Management,Self Development
END:VEVENT
BEGIN:VEVENT
DTSTART;VALUE=DATE:20260818
DTEND;VALUE=DATE:20260820
DTSTAMP:20260422T100705
CREATED:20260113T064024Z
LAST-MODIFIED:20260113T064024Z
UID:50728-1787011200-1787183999@uoa-academy.com
SUMMARY:High-Performance Habits for Busy Professionals
DESCRIPTION:Objectives  \nIn today’s fast-paced and demanding work environment\, professionals are expected to deliver results while managing multiple priorities\, tight deadlines\, and constant distractions. This 2-day programme is designed to help busy professionals develop high-performance habits that improve focus\, productivity\, and resilience without leading to burnout.  \nParticipants will learn how to manage energy\, time\, and attention more effectively\, build disciplined work habits\, and adopt practical strategies to sustain performance in the Malaysian workplace context  \nTarget Audience  \n\n Professionals and Executives \n Managers and Team Leaders \n Supervisors and Senior Officers \n Individuals handling multiple responsibilities and deadlines \n Employees seeking sustainable performance improvement \n\nLearning Outcomes  \n\n Understand what drives high performance in busy work environments \nIdentify personal productivity blockers and performance gaps \n Build effective daily habits that support focus and consistency \n Manage time\, energy\, and priorities more strategically \n Improve work efficiency without increasing stress \n Create a personalised high-performance action plan\n\nCourse Outline  \nDay 1 – Foundations of High Performance & Focus  \nModule 1: Understanding High Performance in the Modern Workplace  \n\nWhat high performance really means for busy professionals \nCommon challenges in today’s work environment \n High performance vs burnout \n\nModule 2: Mindset & Personal Effectiveness  \n\n Performance-driven mindset \n Taking ownership and accountability \n Managing internal distractions and limiting beliefs \n\nModule 3: Managing Energy\, Not Just Time  \n\n Understanding personal energy cycles \n Aligning tasks with peak energy levels \n Managing fatigue and stress effectively \n\nModule 4: Focus & Attention Management  \n\n Identifying focus killers at work \n Managing interruptions and digital distractions \n Building deep-work habits \n\nDay 2 – Productivity Systems & Sustainable Habits  \nModule 5: Prioritisation & Smart Work Planning  \n\n Distinguishing urgent vs important tasks \n Planning work for impact\, not activity \n Setting realistic goals and deadlines \n\nModule 6: Building High-Performance Daily Habits  \n\nHabit formation principles \n Designing effective morning and workday routines \nEliminating unproductive habits \n\nModule 7: Productivity Tools & Work Systems  \n\n Creating effective task and workflow systems \n Managing to-do lists and schedules efficiently \n Working smarter through planning and organising \n\nPRICING: \n\nRM 2\,200.00 Per Person (HRD Corp Claimable Course) + 8% SSTTo inquire about pricing for our training\, please contact us for a quote. \n\n\nKindly scan or click on the link below for your. Learning Registration.For any enquiries\, please contact us at:UOA Academy Sdn BhdSuite 1-2\, Lower Level 1\, City\, The Horizon Annexe\, Avenue 7\,Bangsar South\, 59200 Kuala Lumpur\, Wilayah Persekutuan Kuala Lumpur. \nTel: 6013 482 4810 / 6016 241 3517Email: register@uoa-academy.com \n\n  \n\n \nClick Here for Registration & Further Details!  \n \nCancellation & Transfer\n\nPlease note that should this registration be cancelled fourteen (14) days before the day of the training\, a 50% cancellation charge will be imposed. If cancellation is made seven (7) days before the training\, full payment of the training will be levied. Please note that amendments can only be made to the above arrangement by giving a minimum of three (3) working days’ notice. Additionally\, a 30% upfront payment is required via Human Resource Development Corporation (HRDC) or bank transfer.  \nDisclaimer: UOA Academy reserves the right to make changes to the venue\, date\, and speaker\, including cancellation of the workshop if warranted by circumstances beyond its control.  \n\n     \n  \n 
URL:https://uoa-academy.com/events/high-performance-habits-for-professionals-2-days/
CATEGORIES:Interpersonal Development,Interpersonal Skill,Management,Self Development
END:VEVENT
END:VCALENDAR