BEGIN:VCALENDAR
VERSION:2.0
PRODID:-//UOA Academy - ECPv6.15.20//NONSGML v1.0//EN
CALSCALE:GREGORIAN
METHOD:PUBLISH
X-WR-CALNAME:UOA Academy
X-ORIGINAL-URL:https://uoa-academy.com
X-WR-CALDESC:Events for UOA Academy
REFRESH-INTERVAL;VALUE=DURATION:PT1H
X-Robots-Tag:noindex
X-PUBLISHED-TTL:PT1H
BEGIN:VTIMEZONE
TZID:Asia/Kuala_Lumpur
BEGIN:STANDARD
TZOFFSETFROM:+0800
TZOFFSETTO:+0800
TZNAME:+08
DTSTART:20250101T000000
END:STANDARD
END:VTIMEZONE
BEGIN:VEVENT
DTSTART;VALUE=DATE:20260804
DTEND;VALUE=DATE:20260806
DTSTAMP:20260422T064157
CREATED:20260113T034400Z
LAST-MODIFIED:20260113T034400Z
UID:50710-1785801600-1785974399@uoa-academy.com
SUMMARY:Certification Basic First Aid Training (BOFAC) + CPR Training + AED Training (2 days)
DESCRIPTION:Objectives  \nThe Certification Basic First Aid Training (BOFAC) + CPR Training + AED Training is a comprehensive 2-day course designed to equip participants with essential first aid skills\, CPR techniques\, and AED operation knowledge. Participants will learn how to respond effectively to emergencies\, provide life-saving interventions\, and manage common injuries\, illnesses\, and medical conditions. The course combines theoretical knowledge with hands-on practice\, simulations\, and role-play exercises to ensure participants develop the necessary skills and confidence to handle emergency situations.  \nTarget Audience  \nThe Certification Basic First Aid Training (BOFAC) + CPR Training + AED Training is specifically designed for individuals who are expected to perform first aid in their workplace. This comprehensive course is aimed at providing participants with the necessary knowledge and skills to effectively respond to medical emergencies and provide immediate care to injured or ill individuals.  \nLearning Outcomes  \n\n Understand the importance of basic first aid and CPR in emergency situations. \nDemonstrate proficiency in providing CPR to adults\, children\, and infants. \nOperate an Automated External Defibrillator (AED) effectively and safely. \nAssess and prioritize injuries and illnesses\, and provide appropriate first aid interventions. \n\nCourse Outlines: Day 1:  \nModule 1: Introduction to Basic First Aid  \n\n Understanding the importance of basic first aid skills in emergency situations \nLegal and ethical considerations in providing first aid \n Assessing and prioritizing the severity of injuries and illnesses \n\nModule 2: Basic Life Support (BLS) and Cardiopulmonary Resuscitation (CPR)  \n\n Overview of basic life support techniques \n Proper CPR techniques for adults\, children\, and infants \n Hands-on practice of CPR skills using mannequins \n\nModule 3: Automated External Defibrillator (AED) Training  \n\n Introduction to AED devices and their role in cardiac emergencies \n Proper operation and usage of an AED machine \n Simulated scenarios to practice AED usage in different situations \n\nModule 4: First Aid for Common Injuries and Illnesses  \n\n Managing bleeding and wounds \n Treating burns\, fractures\, and sprains \n Recognizing and responding to choking\, allergic reactions\, and other medical emergencies \n\nModule 5: First Aid for Environmental Emergencies  \n\n Identifying and managing heatstroke\, hypothermia\, and other environmental emergencies \n Understanding the importance of proper hydration and sun protection \nProviding first aid for insect bites\, stings\, and allergic reactions \n\nDay 2:  \nModule 6: First Aid for Medical Conditions  \n\n Recognizing and responding to heart attacks\, strokes\, and seizures \nManaging diabetes-related emergencies \n Administering appropriate first aid for asthma attacks and other respiratory conditions \n\nModule 7: First Aid for Pediatric Emergencies  \n\n Specific considerations for providing first aid to infants and children \nManaging common pediatric emergencies\, such as fevers\, seizures\, and allergic reactions \n Techniques for comforting and calming distressed children during first aid situations \n\nModule 8: First Aid in Remote and Disaster Situations  \n\n Understanding the unique challenges and considerations in remote and disaster settings \n Essential first aid skills for wilderness\, outdoor\, or remote locations \nPreparing and responding to natural disasters and other large-scale emergencies \n\nModule 9: Practical Scenarios and Role-Play Exercises  \n\n Engaging in simulated emergency scenarios to apply first aid and CPR skills \nParticipating in role-play exercises to practice communication and coordination during emergencies \n Receiving feedback and guidance from instructors on performance and techniques \n\nModule 10: Certification Assessment  \n\n Final assessment to evaluate participants’ understanding and application of first aid and CPR skills \n Certification awarded upon successful completion of the assessment \n\nPRICING: \n\nRM 2\,200.00 Per Person (HRD Corp Claimable Course) + 8% SSTTo inquire about pricing for our training\, please contact us for a quote. \n\n\nKindly scan or click on the link below for your. Learning Registration.For any enquiries\, please contact us at:UOA Academy Sdn BhdSuite 1-2\, Lower Level 1\, City\, The Horizon Annexe\, Avenue 7\,Bangsar South\, 59200 Kuala Lumpur\, Wilayah Persekutuan Kuala Lumpur. \nTel: 6013 482 4810 / 6016 241 3517Email: register@uoa-academy.com \n\n  \n\n \nClick Here for Registration & Further Details!  \n \nCancellation & Transfer\n\nPlease note that should this registration be cancelled fourteen (14) days before the day of the training\, a 50% cancellation charge will be imposed. If cancellation is made seven (7) days before the training\, full payment of the training will be levied. Please note that amendments can only be made to the above arrangement by giving a minimum of three (3) working days’ notice. Additionally\, a 30% upfront payment is required via Human Resource Development Corporation (HRDC) or bank transfer.  \nDisclaimer: UOA Academy reserves the right to make changes to the venue\, date\, and speaker\, including cancellation of the workshop if warranted by circumstances beyond its control.  \n\n     \n  \n 
URL:https://uoa-academy.com/events/first-aid-cpr-aed-certification-bofac/
CATEGORIES:Interpersonal Development,Interpersonal Skill,Management,Self Development
END:VEVENT
BEGIN:VEVENT
DTSTART;VALUE=DATE:20260804
DTEND;VALUE=DATE:20260806
DTSTAMP:20260422T064157
CREATED:20260113T035208Z
LAST-MODIFIED:20260113T035208Z
UID:50712-1785801600-1785974399@uoa-academy.com
SUMMARY:Introduction to Strata Management  (2 Days)
DESCRIPTION:Objectives  \nStrata management is essential for the effective governance\, maintenance\, and sustainability of stratified properties such as condominiums\, apartments\, and mixed-use developments. This 2-day programme provides participants with a comprehensive introduction to strata management within the Malaysian legal and operational framework.  \nParticipants will gain practical understanding of strata laws\, governance structures\, financial management\, maintenance responsibilities\, and common challenges faced by Joint Management Bodies (JMBs)\, Management Corporations (MCs)\, and managing agents. The programme focuses on real-world application to support compliance\, transparency\, and effective day-to-day strata operations  \nTarget Audience  \n\n Property and Facility Management Staff \n Joint Management Body (JMB) Members \n Management Corporation (MC) Council Members \n Building Managers and Site Supervisors \n Developers’ Representatives \n Administrative staff involved in strata properties \n Individuals new to strata management \n\nLearning Outcomes  \nBy the end of this programme\, participants will be able to:  \n\n Understand the fundamentals of strata management in Malaysia \n Identify key stakeholders and their roles and responsibilities \n Interpret basic requirements under Malaysian strata laws \n Support effective governance and decision-making processes \n Understand basic strata financial management and fund administration \nHandle common operational and resident-related issues professionally \n\nCourse Outline  \nDay 1 – Foundations of Strata Management & Legal Framework  \nModule 1: Introduction to Strata Management  \n\n Definition and purpose of strata management \n Types of strata properties in Malaysia \n Importance of effective strata management \n\nModule 2: Malaysian Strata Laws & Regulatory Framework  \n\n Overview of the Strata Titles Act 1985 \n Strata Management Act 2013 (SMA 2013) \n Role of the Commissioner of Buildings (COB) \n By-laws and compliance obligations \n\nModule 3: Roles & Responsibilities of Stakeholders  \n\n Roles of developers\, JMB\, MC\, and managing agents \n Duties of council members \n Rights and obligations of parcel owners \n Managing agents’ scope of responsibility \n\nModule 4: Governance\, Meetings & Decision-Making  \n\n Annual General Meeting (AGM) and Extraordinary General Meeting (EGM) \nQuorum\, voting rights\, and resolutions \n Record keeping and documentation \n Principles of good governance and transparency \n\nDay 2 – Operations\, Finance & Common Challenges  \nModule 5: Maintenance & Facilities Management  \n\n Common property and shared facilities \n Preventive vs corrective maintenance \n Contractor selection and service monitoring \n Safety\, cleanliness\, and asset upkeep \n\nModule 6: Financial Management in Strata  \n\n Maintenance fund and sinking fund \n Budgeting and financial planning \n Collection of maintenance charges \n Basic financial reporting and accountability \n\nModule 7: Managing Residents\, Complaints & Disputes  \n\n Communication with residents and tenants \n Handling complaints and conflict professionally \n Managing by-law breaches \n Role of the Strata Management Tribunal \n\nModule 8: Common Issues & Best Practices in Strata Management  \n\n Common operational and compliance issues \n Managing arrears and enforcement challenges \n Ethical practices and professionalism \n Developing action plans for effective strata management\n\n  \n\nRM 2\,200.00 Per Person (HRD Corp Claimable Course) + 8% SSTTo inquire about pricing for our training\, please contact us for a quote. \n\n\nKindly scan or click on the link below for your. Learning Registration.For any enquiries\, please contact us at:UOA Academy Sdn BhdSuite 1-2\, Lower Level 1\, City\, The Horizon Annexe\, Avenue 7\,Bangsar South\, 59200 Kuala Lumpur\, Wilayah Persekutuan Kuala Lumpur. \nTel: 6013 482 4810 / 6016 241 3517Email: register@uoa-academy.com \n\n  \n\n \nClick Here for Registration & Further Details!  \n \nCancellation & Transfer\n\nPlease note that should this registration be cancelled fourteen (14) days before the day of the training\, a 50% cancellation charge will be imposed. If cancellation is made seven (7) days before the training\, full payment of the training will be levied. Please note that amendments can only be made to the above arrangement by giving a minimum of three (3) working days’ notice. Additionally\, a 30% upfront payment is required via Human Resource Development Corporation (HRDC) or bank transfer.  \nDisclaimer: UOA Academy reserves the right to make changes to the venue\, date\, and speaker\, including cancellation of the workshop if warranted by circumstances beyond its control.  \n\n     \n  \n 
URL:https://uoa-academy.com/events/introduction-to-strata-management-in-malaysia/
CATEGORIES:Interpersonal Development,Interpersonal Skill,Management,Self Development
END:VEVENT
BEGIN:VEVENT
DTSTART;VALUE=DATE:20260805
DTEND;VALUE=DATE:20260806
DTSTAMP:20260422T064157
CREATED:20260113T042741Z
LAST-MODIFIED:20260113T042741Z
UID:50716-1785888000-1785974399@uoa-academy.com
SUMMARY:Boost your Productivity with Artificial Intelligence-AI (2 Days)
DESCRIPTION:Objectives  \nThis 2-day training program is designed to equip participants with the knowledge and skills to leverage Artificial Intelligence (AI) tools specifically aimed at enhancing time management and productivity. Through practical workshops\, hands-on exercises\, and interactive discussions\, participants will explore AI-driven solutions tailored to optimize time allocation\, streamline workflows\, and prioritize tasks efficiently. The training will focus on practical strategies for integrating AI technologies into daily routines to maximize productivity and achieve better time management outcomes.  \nTarget Audience  \nThis training is suitable for professionals\, entrepreneurs\, and individuals seeking to enhance their time management skills using AI technologies. It is ideal for anyone who wants to learn how to leverage AI tools and techniques to prioritize tasks effectively\, automate repetitive processes\, and optimize time allocation in both personal and professional contexts.  \nLearning Outcomes  \n\n Understand the role of Artificial Intelligence (AI) in time management and productivity enhancement. \n Identify and evaluate AI-powered tools and technologies designed to optimize time allocation and streamline workflows. \n Develop practical skills in using AI-driven solutions for task prioritization\, scheduling\, and time tracking. \n Implement effective strategies for integrating AI into daily routines to improve time management practices and boost productivity. \n Cultivate a mindset for continuous learning and exploration of AI-driven productivity solutions to optimize time management in the long term\n\nCourse Outlines:  \nDay 1  \nSession 1: Introduction to AI for Time Management  \n\nOverview of Artificial Intelligence (AI) and its relevance in time management. \nUnderstanding the intersection of AI technologies and productivity enhancement. \nExploring common challenges in time management and how AI can address them. \n\nSession 2: Prioritizing Tasks with AI  \n\nStrategies for using AI-powered tools to prioritize tasks effectively. \nHands-on exercises in categorizing tasks based on urgency and importance. \nLeveraging AI algorithms for personalized task prioritization. \n\nSession 3: Automating Repetitive Tasks with AI  \n\nIntroduction to AI-driven automation tools and techniques. \nDemonstrations of automating repetitive tasks using AI algorithms. \nBenefits and considerations of task automation in time management. \n\nSession 4: AI-Powered Scheduling and Time Tracking  \n\nExploring AI-enabled scheduling applications and time tracking tools. \nHands-on exercises in using AI for scheduling meetings and appointments. \nLeveraging AI insights for optimizing time allocation and identifying productivity patterns. \n\nCourse Outlines:  \nDay 1  \nSession 1: Introduction to AI for Time Management  \n\nOverview of Artificial Intelligence (AI) and its relevance in time management. \nUnderstanding the intersection of AI technologies and productivity enhancement. \nExploring common challenges in time management and how AI can address them. \n\nSession 2: Prioritizing Tasks with AI  \n\nStrategies for using AI-powered tools to prioritize tasks effectively. \nHands-on exercises in categorizing tasks based on urgency and importance. \nLeveraging AI algorithms for personalized task prioritization. \n\nSession 3: Automating Repetitive Tasks with AI  \n\nIntroduction to AI-driven automation tools and techniques. \nDemonstrations of automating repetitive tasks using AI algorithms. \nBenefits and considerations of task automation in time management. \n\nSession 4: AI-Powered Scheduling and Time Tracking  \n\nExploring AI-enabled scheduling applications and time tracking tools. \nHands-on exercises in using AI for scheduling meetings and appointments. \nLeveraging AI insights for optimizing time allocation and identifying productivity patterns. \n\nPRICING: \n\nRM 2\,200.00 Per Person (HRD Corp Claimable Course) + 8% SSTTo inquire about pricing for our training\, please contact us for a quote. \n\n\nKindly scan or click on the link below for your. Learning Registration.For any enquiries\, please contact us at:UOA Academy Sdn BhdSuite 1-2\, Lower Level 1\, City\, The Horizon Annexe\, Avenue 7\,Bangsar South\, 59200 Kuala Lumpur\, Wilayah Persekutuan Kuala Lumpur. \nTel: 6013 482 4810 / 6016 241 3517Email: register@uoa-academy.com \n\n  \n\n \nClick Here for Registration & Further Details!  \n \nCancellation & Transfer\n\nPlease note that should this registration be cancelled fourteen (14) days before the day of the training\, a 50% cancellation charge will be imposed. If cancellation is made seven (7) days before the training\, full payment of the training will be levied. Please note that amendments can only be made to the above arrangement by giving a minimum of three (3) working days’ notice. Additionally\, a 30% upfront payment is required via Human Resource Development Corporation (HRDC) or bank transfer.  \nDisclaimer: UOA Academy reserves the right to make changes to the venue\, date\, and speaker\, including cancellation of the workshop if warranted by circumstances beyond its control.  \n\n     \n  \n 
URL:https://uoa-academy.com/events/boost-your-productivity-with-ai-2-day-training/
CATEGORIES:Interpersonal Development,Interpersonal Skill,Management,Self Development
END:VEVENT
END:VCALENDAR