BEGIN:VCALENDAR
VERSION:2.0
PRODID:-//UOA Academy - ECPv6.15.20//NONSGML v1.0//EN
CALSCALE:GREGORIAN
METHOD:PUBLISH
X-WR-CALNAME:UOA Academy
X-ORIGINAL-URL:https://uoa-academy.com
X-WR-CALDESC:Events for UOA Academy
REFRESH-INTERVAL;VALUE=DURATION:PT1H
X-Robots-Tag:noindex
X-PUBLISHED-TTL:PT1H
BEGIN:VTIMEZONE
TZID:Asia/Kuala_Lumpur
BEGIN:STANDARD
TZOFFSETFROM:+0800
TZOFFSETTO:+0800
TZNAME:+08
DTSTART:20250101T000000
END:STANDARD
END:VTIMEZONE
BEGIN:VEVENT
DTSTART;VALUE=DATE:20260708
DTEND;VALUE=DATE:20260710
DTSTAMP:20260422T013819
CREATED:20260113T020937Z
LAST-MODIFIED:20260113T020937Z
UID:50689-1783468800-1783641599@uoa-academy.com
SUMMARY:QLASSIC Awareness Course  (2 Days)
DESCRIPTION:Objectives  \nThe QLASSIC Awareness Course is designed to provide participants with a comprehensive understanding of the Quality Assessment System in Construction (QLASSIC). The programme equips participants with essential knowledge and awareness of QLASSIC principles\, criteria\, and assessment methods. It aims to empower construction professionals to contribute effectively to improving construction quality by adhering to QLASSIC standards and best practices within construction projects.  \nTarget Audience  \n\n Project Managers \n Site Engineers \n Construction Personnel \n Middle Management \n Individuals involved in construction project management \n\nLearning Outcomes  \nBy the end of this programme\, participants will be able to:  \n\n Gain in-depth knowledge of the QLASSIC framework\, covering principles\, criteria\, and assessment methods. \n Develop practical skills to apply QLASSIC standards effectively in construction projects\, ensuring the delivery of high-quality work. \n Acquire the ability to identify and address common issues related to construction quality\, fostering excellence in project execution. \n Empower participants to actively contribute to the improvement of construction quality within their respective projects. \n Enable individuals to successfully implement QLASSIC standards\, enhancing overall project quality and success. \n\nCourse Outlines:  \nDay 1 – QLASSIC Fundamentals & Framework  \nModule 1: Introduction to QLASSIC  \n\n Overview of Quality Assessment System in Construction (QLASSIC) \nKey principles and philosophy behind QLASSIC \n\nModule 2: Understanding the QLASSIC Framework  \n\n In-depth exploration of the QLASSIC framework \n Examination of QLASSIC principles\, criteria\, and assessment methods \n\nModule 3: Application of QLASSIC Standards  \n\n Developing practical skills to apply QLASSIC standards \nEnsuring effective implementation of QLASSIC in construction projects \n\nDay 2:  \nQuality Issues\, Implementation & Continuous Improvement  \nModule 4: Addressing Common Construction Quality Issues  \n\n Identification of common quality issues in construction projects \nAnalysis of factors contributing to quality challenges \n Strategies for addressing and resolving quality issues \n\nModule 5: Empowering Project Contributors  \n\n Strategies for active contribution to construction quality improvement \nRoles and responsibilities of project team members \n Encouraging a culture of excellence in project execution \n\nModule 6: Successful Implementation of QLASSIC  \n\n Achieving proficiency in implementing QLASSIC standards \nEnhancing overall project quality \n Ensuring successful project outcomes through quality compliance \n\nPRICING: \n\nRM 2\,200.00 Per Person (HRD Corp Claimable Course) + 8% SSTTo inquire about pricing for our training\, please contact us for a quote. \n\n\nKindly scan or click on the link below for your. Learning Registration.For any enquiries\, please contact us at:UOA Academy Sdn BhdSuite 1-2\, Lower Level 1\, City\, The Horizon Annexe\, Avenue 7\,Bangsar South\, 59200 Kuala Lumpur\, Wilayah Persekutuan Kuala Lumpur. \nTel: 6013 482 4810 / 6016 241 3517Email: register@uoa-academy.com \n\n  \n\n \nClick Here for Registration & Further Details!  \n \nCancellation & Transfer\n\nPlease note that should this registration be cancelled fourteen (14) days before the day of the training\, a 50% cancellation charge will be imposed. If cancellation is made seven (7) days before the training\, full payment of the training will be levied. Please note that amendments can only be made to the above arrangement by giving a minimum of three (3) working days’ notice. Additionally\, a 30% upfront payment is required via Human Resource Development Corporation (HRDC) or bank transfer.  \nDisclaimer: UOA Academy reserves the right to make changes to the venue\, date\, and speaker\, including cancellation of the workshop if warranted by circumstances beyond its control.  \n\n     \n  \n 
URL:https://uoa-academy.com/events/qlassic-awareness-course-quality-assessment-in-construction/
CATEGORIES:Interpersonal Development,Interpersonal Skill,Management,Self Development
END:VEVENT
BEGIN:VEVENT
DTSTART;VALUE=DATE:20260708
DTEND;VALUE=DATE:20260710
DTSTAMP:20260422T013819
CREATED:20260113T022908Z
LAST-MODIFIED:20260113T022908Z
UID:50693-1783468800-1783641599@uoa-academy.com
SUMMARY:Corporate Video Essentials: Shoot & Edit Using Mobile (2 Days)
DESCRIPTION:Objectives  \nThis programme is designed to help participants understand basic video production concepts and apply beginner-friendly filming and editing techniques using mobile devices. Participants will learn how to capture professional-looking corporate videos\, apply simple filming frameworks\, and edit short videos using mobile applications such as CapCut or Canva Video. The programme focuses on practical application suitable for corporate communication\, marketing\, and internal content creation.  \nTarget Audience  \n\n Marketing teams \n Communication officers \n Human Resource personnel \n Corporate content creators \n\nLearning Outcomes  \nBy the end of this programme\, participants will be able to:  \n\n Remember basic video production and audio concepts \n Understand framing\, composition\, and sound fundamentals \n Apply simple mobile filming techniques for corporate scenarios \n Perform basic video editing using mobile applications \n Create short corporate video clips confidently \n\nCourse Outlines: Day 1 – Video Fundamentals & Mobile Filming  \nModule 1: Basics of Video Production  \n\n Introduction to basic video production concepts \n Understanding video purpose and corporate usage \n\nModule 2: Understanding Framing\, Composition & Sound  \n\n Framing and composition basics \n Importance of sound and audio quality in videos \n\nModule 3: Mobile Filming Techniques  \n\n Filming using mobile devices \n Camera angles\, stability\, and lighting basic \n\nModule 4: Simple Script Structure for Corporate Videos  \n\n Understanding simple scripting frameworks \n Structuring messages for corporate video content \n\nModule 5: Filming Practice (Activity)  \n\n Hands-on mobile filming practice \n Guided filming exercises \n\nPRICING: \n\nRM 2\,200.00 Per Person (HRD Corp Claimable Course) + 8% SSTTo inquire about pricing for our training\, please contact us for a quote. \n\n\nKindly scan or click on the link below for your. Learning Registration.For any enquiries\, please contact us at:UOA Academy Sdn BhdSuite 1-2\, Lower Level 1\, City\, The Horizon Annexe\, Avenue 7\,Bangsar South\, 59200 Kuala Lumpur\, Wilayah Persekutuan Kuala Lumpur. \nTel: 6013 482 4810 / 6016 241 3517Email: register@uoa-academy.com \n\n  \n\n \nClick Here for Registration & Further Details!  \n \nCancellation & Transfer\n\nPlease note that should this registration be cancelled fourteen (14) days before the day of the training\, a 50% cancellation charge will be imposed. If cancellation is made seven (7) days before the training\, full payment of the training will be levied. Please note that amendments can only be made to the above arrangement by giving a minimum of three (3) working days’ notice. Additionally\, a 30% upfront payment is required via Human Resource Development Corporation (HRDC) or bank transfer.  \nDisclaimer: UOA Academy reserves the right to make changes to the venue\, date\, and speaker\, including cancellation of the workshop if warranted by circumstances beyond its control.  \n\n     \n  \n 
URL:https://uoa-academy.com/events/corporate-video-essentials-mobile-shooting-editing-2-days/
CATEGORIES:Interpersonal Development,Interpersonal Skill,Management,Self Development
END:VEVENT
END:VCALENDAR