BEGIN:VCALENDAR
VERSION:2.0
PRODID:-//UOA Academy - ECPv6.15.20//NONSGML v1.0//EN
CALSCALE:GREGORIAN
METHOD:PUBLISH
X-WR-CALNAME:UOA Academy
X-ORIGINAL-URL:https://uoa-academy.com
X-WR-CALDESC:Events for UOA Academy
REFRESH-INTERVAL;VALUE=DURATION:PT1H
X-Robots-Tag:noindex
X-PUBLISHED-TTL:PT1H
BEGIN:VTIMEZONE
TZID:Asia/Kuala_Lumpur
BEGIN:STANDARD
TZOFFSETFROM:+0800
TZOFFSETTO:+0800
TZNAME:+08
DTSTART:20250101T000000
END:STANDARD
END:VTIMEZONE
BEGIN:VEVENT
DTSTART;VALUE=DATE:20260507
DTEND;VALUE=DATE:20260508
DTSTAMP:20260422T050636
CREATED:20260112T022855Z
LAST-MODIFIED:20260112T070236Z
UID:50591-1778112000-1778198399@uoa-academy.com
SUMMARY:Safety Measures & Emergency Actions Training Course (1 Day)
DESCRIPTION:Objectives  \nThe objective of this training course is to equip participants with essential knowledge and practical skills to ensure a safe and secure environment in various settings. This programme focuses on core safety measures\, risk awareness\, and effective emergency response actions\, enabling participants to respond proactively to incidents\, reduce risks\, and manage emergencies confidently and professionally.  \nTarget Audience  \nThis training course is designed for security personnel\, including new hires and experienced officers\, who are responsible for maintaining safety\, security\, and emergency readiness within their assigned premises.  \nLearning Outcomes  \n\n Understand key safety and security protocols relevant to their roles \nIdentify workplace risks and potential hazards effectively \n Apply physical security and access control measures appropriately \nRespond to fire and emergency situations using correct procedures \nPerform basic emergency response and first aid actions \n Participate effectively in emergency drills and crisis situations \n\nCourse Outlines:  \nDay 1:  \nModule 1: Introduction to Safety Measures & Security Responsibilities  \n\n Importance of safety in security operations \n Legal and ethical considerations in safety management \nRoles\, duties\, and protocols of security officers \n Creating a safety-conscious mindset \n\nModule 2: Risk Assessment & Hazard Identification  \n\n Principles of risk assessment \n Identifying common workplace and site-specific hazards \nPreventive measures to minimise risks \n Reporting and documentation of safety concerns \n\nModule 3: Physical Security & Access Control Measures  \n\n Access control and identification procedures \n Visitor management practices \n Surveillance and monitoring systems \n Perimeter security measures \n\nModule 4: Fire Safety & Emergency Evacuation  \n\n Fire prevention and common fire hazards \n Emergency evacuation procedures \n Roles during fire emergencies \n Proper use of fire extinguishers \n\nModule 5: Emergency Response\, First Aid & Crisis Handling  \n\n Emergency response procedures and communication protocols \nCoordination with emergency services \n Recognising common injuries and basic first aid response \nDe-escalation techniques for volatile situations \n Crisis identification and response strategies \n\nModule 6: Practical Drills\, Review & Assessment  \n\n Simulated emergency and evacuation drills \n Scenario-based role play and response exercises \n Review of key concepts and best practices \n Knowledge assessment and course wrap-up \n\n  \nPRICING: \n\nRM 1\,500.00 Per Person (HRD Corp Claimable Course) + 8% SSTTo inquire about pricing for our training\, please contact us for a quote. \n\n\nKindly scan or click on the link below for your. Learning Registration.For any enquiries\, please contact us at:UOA Academy Sdn BhdSuite 1-2\, Lower Level 1\, City\, The Horizon Annexe\, Avenue 7\,Bangsar South\, 59200 Kuala Lumpur\, Wilayah Persekutuan Kuala Lumpur. \nTel: 6013 482 4810 / 6016 241 3517Email: register@uoa-academy.com \n\n  \n\n \nClick Here for Registration & Further Details!  \n \nCancellation & Transfer\n\nPlease note that should this registration be cancelled fourteen (14) days before the day of the training\, a 50% cancellation charge will be imposed. If cancellation is made seven (7) days before the training\, full payment of the training will be levied. Please note that amendments can only be made to the above arrangement by giving a minimum of three (3) working days’ notice. Additionally\, a 30% upfront payment is required via Human Resource Development Corporation (HRDC) or bank transfer.  \nDisclaimer: UOA Academy reserves the right to make changes to the venue\, date\, and speaker\, including cancellation of the workshop if warranted by circumstances beyond its control.  \n\n     \n  \n 
URL:https://uoa-academy.com/events/safety-measures-emergency-actions-training-1-day-course/
CATEGORIES:Interpersonal Development,Interpersonal Skill,Management,Self Development
END:VEVENT
BEGIN:VEVENT
DTSTART;VALUE=DATE:20260507
DTEND;VALUE=DATE:20260508
DTSTAMP:20260422T050636
CREATED:20260112T023540Z
LAST-MODIFIED:20260112T023540Z
UID:50593-1778112000-1778198399@uoa-academy.com
SUMMARY:Mastering Microsoft PowerPoint & Presentation Skills (1 Day)
DESCRIPTION:Objectives  \nThis programme is designed for professionals who already use Microsoft PowerPoint and want to elevate both their slide design and presentation delivery skills. It focuses on transforming content-heavy slides into clear\, visually compelling messages while strengthening presentation structure and audience engagement. Participants will learn how to design slides that support decision-making\, influence stakeholders\, and communicate ideas with impact. The programme also integrates practical presentation techniques to ensure slides and delivery work together effectively. By the end of the session\, participants will be able to present with greater clarity\, confidence\, and professionalism.  \nTarget Audience  \n\n Executives\, managers\, and team leaders \n Sales\, marketing\, and business development professionals \n Trainers\, presenters\, and subject matter experts \n Professionals who frequently present data\, proposals\, or reports \n\nLearning Outcomes  \n\nDesign clear\, professional\, and visually consistent PowerPoint slides \nStructure presentations for clarity\, flow\, and decision-making \nUse advanced PowerPoint features to improve efficiency and design quality \nPresent ideas confidently and engage audiences effectively \nDeliver presentations that influence\, inform\, and persuade \n\nCourse Outline Module 1: Structuring an Effective Presentation  \n\n Defining presentation objectives and key messages \nUnderstanding audience needs and expectations \n Building logical flow and structure for clarity \n\nModule 2: Advanced PowerPoint Slide Design  \n\n Applying visual hierarchy and clean layouts \n Effective use of fonts\, colours\, and spacing \n Simplifying content and avoiding slide overload \n\nModule 3: Professional Use of PowerPoint Tools  \n\n Using Slide Master for consistency \n Working with shapes\, icons\, images\, and alignment tools \nImproving efficiency and slide quality \n\nModule 4: Presenting Data and Key Messages Clearly  \n\nChoosing the right charts and visuals \n Highlighting insights and key takeaways \n Avoiding common data presentation mistake \n\nModule 5: Presentation Skills for Confident Delivery ● Voice control\, posture\, and body language  \n\n Engaging audiences and managing attention \n Handling questions and interruptions professionally \n\n  \nPRICING: \n\nRM 1\,500.00 Per Person (HRD Corp Claimable Course) + 8% SSTTo inquire about pricing for our training\, please contact us for a quote. \n\n\nKindly scan or click on the link below for your. Learning Registration.For any enquiries\, please contact us at:UOA Academy Sdn BhdSuite 1-2\, Lower Level 1\, City\, The Horizon Annexe\, Avenue 7\,Bangsar South\, 59200 Kuala Lumpur\, Wilayah Persekutuan Kuala Lumpur. \nTel: 6013 482 4810 / 6016 241 3517Email: register@uoa-academy.com \n\n  \n\n \nClick Here for Registration & Further Details!  \n \nCancellation & Transfer\n\nPlease note that should this registration be cancelled fourteen (14) days before the day of the training\, a 50% cancellation charge will be imposed. If cancellation is made seven (7) days before the training\, full payment of the training will be levied. Please note that amendments can only be made to the above arrangement by giving a minimum of three (3) working days’ notice. Additionally\, a 30% upfront payment is required via Human Resource Development Corporation (HRDC) or bank transfer.  \nDisclaimer: UOA Academy reserves the right to make changes to the venue\, date\, and speaker\, including cancellation of the workshop if warranted by circumstances beyond its control.  \n\n     \n  \n 
URL:https://uoa-academy.com/events/mastering-microsoft-powerpoint-presentation-skills-1-day-2/
CATEGORIES:Interpersonal Development,Interpersonal Skill,Management,Self Development
END:VEVENT
BEGIN:VEVENT
DTSTART;VALUE=DATE:20260507
DTEND;VALUE=DATE:20260508
DTSTAMP:20260422T050636
CREATED:20260112T024309Z
LAST-MODIFIED:20260112T024625Z
UID:50595-1778112000-1778198399@uoa-academy.com
SUMMARY:Microsoft Word Excellence (1 day)
DESCRIPTION:Objectives  \nThe Microsoft Word Excellence program is designed to equip participants with advanced skills and proficiency in utilizing Microsoft Word. The primary objectives include enhancing document creation efficiency\, mastering advanced formatting features\, and enabling participants to leverage the full spectrum of Word’s capabilities. The program is designed to empower participants to create professional\, well-structured documents\, and streamline their workflow through the optimal use of Microsoft Word’s extensive features.  \nTarget Audience  \nThis training is tailored for professionals\, office administrators\, executives\, senior managers\, and anyone seeking to enhance their proficiency in Microsoft Word. It caters to individuals at various skill levels\, from beginners aiming to build foundational knowledge to advanced users looking to unlock the full potential of Microsoft Word for document creation and formatting.  \nLearning Outcomes  \n\n Achieve mastery in advanced document creation\, formatting\, and editing techniques. \nEffectively utilize templates for efficient document creation. \n Acquire time-saving shortcuts for enhanced productivity. \n Explore advanced formatting options for professional document presentation. \nOptimize Microsoft Word usage to enhance overall productivity and document creation capabilities. \n\nCourse Outlines:  \nModule 1: Advanced Document Creation  \n\n Mastery in advanced document creation techniques. \n Effective use of templates for efficient document creation. \n\nModule 2: Advanced Formatting Techniques  \n\n Achieving proficiency in advanced formatting options. \n Exploring advanced formatting for professional document presentation. \n\nModule 3: Collaboration and Efficiency  \n\n Seamless collaboration on shared documents. \n Acquiring time-saving shortcuts for enhanced productivity. \n\nModule 4: Practical Application and Mastery  \n\n Practical application of advanced Word features. \n Mastery in utilizing the full spectrum of Microsoft Word capabilities. \n\nModule 5: Integrating Multimedia and Hyperlinks  \n\n Embedding multimedia elements for dynamic documents. \nIncorporating hyperlinks for interactive content. \n\nModule 6: Advanced Editing and Proofreading  \n\n Utilizing advanced editing tools for precision. \n Implementing effective proofreading techniques. \n\nPRICING: \n\nRM 2\,200.00 Per Person (HRD Corp Claimable Course) + 8% SSTTo inquire about pricing for our training\, please contact us for a quote. \n\n\nKindly scan or click on the link below for your. Learning Registration.For any enquiries\, please contact us at:UOA Academy Sdn BhdSuite 1-2\, Lower Level 1\, City\, The Horizon Annexe\, Avenue 7\,Bangsar South\, 59200 Kuala Lumpur\, Wilayah Persekutuan Kuala Lumpur. \nTel: 6013 482 4810 / 6016 241 3517Email: register@uoa-academy.com \n\n  \n\n \nClick Here for Registration & Further Details!  \n \nCancellation & Transfer\n\nPlease note that should this registration be cancelled fourteen (14) days before the day of the training\, a 50% cancellation charge will be imposed. If cancellation is made seven (7) days before the training\, full payment of the training will be levied. Please note that amendments can only be made to the above arrangement by giving a minimum of three (3) working days’ notice. Additionally\, a 30% upfront payment is required via Human Resource Development Corporation (HRDC) or bank transfer.  \nDisclaimer: UOA Academy reserves the right to make changes to the venue\, date\, and speaker\, including cancellation of the workshop if warranted by circumstances beyond its control.  \n\n     \n  \n 
URL:https://uoa-academy.com/events/microsoft-word-excellence-1-day-2/
CATEGORIES:Interpersonal Development,Interpersonal Skill,Management,Self Development
END:VEVENT
END:VCALENDAR