BEGIN:VCALENDAR
VERSION:2.0
PRODID:-//UOA Academy - ECPv6.15.20//NONSGML v1.0//EN
CALSCALE:GREGORIAN
METHOD:PUBLISH
X-ORIGINAL-URL:https://uoa-academy.com
X-WR-CALDESC:Events for UOA Academy
REFRESH-INTERVAL;VALUE=DURATION:PT1H
X-Robots-Tag:noindex
X-PUBLISHED-TTL:PT1H
BEGIN:VTIMEZONE
TZID:Asia/Kuala_Lumpur
BEGIN:STANDARD
TZOFFSETFROM:+0800
TZOFFSETTO:+0800
TZNAME:+08
DTSTART:20240101T000000
END:STANDARD
END:VTIMEZONE
BEGIN:VEVENT
DTSTART;VALUE=DATE:20251014
DTEND;VALUE=DATE:20251016
DTSTAMP:20260423T134708
CREATED:20250819T020845Z
LAST-MODIFIED:20250819T020845Z
UID:47761-1760400000-1760572799@uoa-academy.com
SUMMARY:Web Design\, UX/UI & Video Editing Course
DESCRIPTION:Objectives  \nThe “Web Designing & UX/UI Design + Video Editing” course aims to equip participants with a diverse skill set covering web design\, user experience (UX/UI) design\, and video editing. The primary objectives include providing hands-on training in web design principles\, UX/UI design best practices\, and video editing techniques. The course seeks to empower participants to create visually appealing websites\, enhance user experiences\, and produce engaging video content.  \nTarget Audience  \nThis course is tailored for aspiring web designers\, executives designer\, and individuals interested in acquiring skills in video editing. It is suitable for beginners looking to enter the fields of web and UX/UI design\, as well as those wanting to enhance their video editing capabilities. The content caters to a broad audience\, including students\, creative professionals\, and anyone seeking a comprehensive foundation in these creative disciplines.  \nLearning Outcomes  \n\n Acquire skills in designing visually appealing websites. \n Implement effective UX/UI design principles. \n Edit engaging video content proficiently. \n Gain hands-on experience with industry-standard web design\, UX/UI design\, and video editing tools. \n Foster creativity\, critical thinking\, and a practical understanding of the interconnected disciplines. \n Apply acquired skills confidently in real-world projects and creative endeavors. \n\nCourse Outlines:  \nDay 1:  \nModule 1: Introduction to Web Design  \n\n Overview of web design principles \n Understanding the importance of visual appeal and user experience \n\nModule 2: UX/UI Design Best Practices  \n\n Introduction to UX/UI design concepts \n Hands-on exercises in implementing effective design principles \n\nModule 3: Video Editing Techniques  \n\n Basics of video editing software \n Practical sessions on editing engaging video content \n\nModule 4: Creating Visually Appealing Websites  \n\n Hands-on web design projects \n Incorporating UX/UI design principles for enhanced user experiences \n\nDay 2:  \nModule 5: Industry-Standard Tools  \n\n Proficiency in using web design\, UX/UI design\, and video editing tools ● Practical guidance on tool selection for different creative aspects \n\nModule 6: Fostering Creativity and Critical Thinking  \n\n Strategies for fostering creativity in design and video editing \n Encouraging critical thinking in problem-solving scenarios \n\nModule 7: Application of Acquired Skills  \n\n Real-world projects to apply web design\, UX/UI\, and video editing skills ● Guidance on confidently integrating skills into professional and creative endeavors. \n\nPRICING:RM 1\,500.00 Per Person (HRD Corp Claimable Course) + 8% SST \n\nKindly scan or click on the link below for your \nLearning Registration.\n \nFor any enquiries\, please contact us at:\n \nUOA Academy Sdn Bhd\nUOA Corporate Tower\, Lobby A\, Avenue 10\, The Vertical\nBangsar South City\, No 8 Jalan Kerinchi\n59200 Kuala Lumpur\, Malaysia.\nTel: 603-2381 0478 | 6012-575 1767\nEmail: register@uoa-academy.com\n \n\nhttps://www.surveymonkey.com/r/EXTREG\n \nCancellation & Transfer\nPlease note that should this registration be cancelled fourteen (14) days before the day of the training\, a 50% cancellation charge will be imposed. If cancellation is made seven (7) days before the training\, full payment of the training will be levied. Please note that  amendments can only be made to the above arrangement by giving a minimum of three (3) working days’ notice. Additionally\, a 30%upfront payment is required via Human Resource Development Corporation (HRDC) or bank transfer.Disclaimer: UOA Academy reserves the right to make changes to the venue\, date\, and speaker\,including cancellation of the workshop if warranted by circumstances beyond its control.\n     \n  \n 
URL:https://uoa-academy.com/events/web-design-ux-ui-video-editing-course/
CATEGORIES:Interpersonal Development,Interpersonal Skill,Management,Self Development
END:VEVENT
BEGIN:VEVENT
DTSTART;VALUE=DATE:20251014
DTEND;VALUE=DATE:20251016
DTSTAMP:20260423T134708
CREATED:20250923T030308Z
LAST-MODIFIED:20250923T030308Z
UID:48984-1760400000-1760572799@uoa-academy.com
SUMMARY:HIRARC Training Course
DESCRIPTION:ObjectivesThe Hazard Identification\, Risk Assessment\, and Risk Control (HIRARC) Training Course is designed to equip participants with the essential knowledge and skills to systematically identify\, assess\, and control hazards in the workplace. The course is designed to instill acomprehensive understanding of HIRARC principles\, fostering a proactive safety culture within organizations. \nTarget AudienceThis training course is tailored for individuals across various industries\, including but not limited to safety officers\, supervisors\, managers\, and middle management that are involved in health and safety responsibilities. It caters to professionals seeking to enhance theirproficiency in hazard identification\, risk assessment\, and risk control\, ultimately contributing to a safer working environment. \nLearning Outcomes● Thorough understanding of HIRARC methodology.● Proficiency in identifying workplace hazards and conducting risk assessments.● Implementation of practical risk control measures.● Development of clear safety communication skills.● Active contribution to robust safety management systems.● Empowerment to minimize risks and foster a safer work environment. \nCourse Outlines:Day 1: \nModule 1: Introduction to HIRARC Principles● Overview and importance of Hazard Identification\, Risk Assessment\, and Risk Control.● Principles of fostering a proactive safety culture.Module 2: HIRARC Methodology● In-depth exploration and practical application exercises.● Case studies illustrating successful HIRARC implementation.Module 3: Target Audience and Industry Application● Identification of target audience and customization for diverse industries.● Practical scenarios and discussions for industry-specific application.Module 4: Proficiency in Hazard Identification and Risk Assessment● Techniques for identifying workplace hazards.● Step-by-step guide to conducting effective risk assessments. \nDay 2:Module 5: Practical Risk Control Measures● Implementation strategies and real-world simulations.● Showcasing successful risk control practices through case studies.Module 6: Safety Communication Skills● Importance of clear safety communication.● Developing effective communication strategies. \nModule 7: Contribution to Safety Management Systems● Active contribution to robust safety management systems.● Integration of HIRARC principles into organizational safety frameworks.Module 8: Empowerment for a Safer Work Environment● Strategies for minimizing risks in the workplace.● Fostering a culture of safety empowerment. \nPRICING:RM 1\,500.00 Per Person (HRD Corp Claimable Course) + 8% SST \n\nKindly scan or click on the link below for your \nLearning Registration.\n \nFor any enquiries\, please contact us at:\n \nUOA Academy Sdn Bhd\nUOA Corporate Tower\, Lobby A\, Avenue 10\, The Vertical\nBangsar South City\, No 8 Jalan Kerinchi\n59200 Kuala Lumpur\, Malaysia.\nTel: 603-2381 0478 | 6012-575 1767\nEmail: register@uoa-academy.com\n \n\nhttps://www.surveymonkey.com/r/EXTREG\n \nCancellation & Transfer\nPlease note that should this registration be cancelled fourteen (14) days before the day of the training\, a 50% cancellation charge will be imposed. If cancellation is made seven (7) days before the training\, full payment of the training will be levied. Please note that  amendments can only be made to the above arrangement by giving a minimum of three (3) working days’ notice. Additionally\, a 30%upfront payment is required via Human Resource Development Corporation (HRDC) or bank transfer.Disclaimer: UOA Academy reserves the right to make changes to the venue\, date\, and speaker\,including cancellation of the workshop if warranted by circumstances beyond its control.\n     \n  \n 
URL:https://uoa-academy.com/events/hirarc-training-course/
CATEGORIES:Interpersonal Development,Interpersonal Skill,Management,Self Development
END:VEVENT
END:VCALENDAR