BEGIN:VCALENDAR
VERSION:2.0
PRODID:-//UOA Academy - ECPv6.15.20//NONSGML v1.0//EN
CALSCALE:GREGORIAN
METHOD:PUBLISH
X-ORIGINAL-URL:https://uoa-academy.com
X-WR-CALDESC:Events for UOA Academy
REFRESH-INTERVAL;VALUE=DURATION:PT1H
X-Robots-Tag:noindex
X-PUBLISHED-TTL:PT1H
BEGIN:VTIMEZONE
TZID:Asia/Kuala_Lumpur
BEGIN:STANDARD
TZOFFSETFROM:+0800
TZOFFSETTO:+0800
TZNAME:+08
DTSTART:20250101T000000
END:STANDARD
END:VTIMEZONE
BEGIN:VEVENT
DTSTART;VALUE=DATE:20260421
DTEND;VALUE=DATE:20260423
DTSTAMP:20260422T092315
CREATED:20260109T083023Z
LAST-MODIFIED:20260112T070535Z
UID:50562-1776729600-1776902399@uoa-academy.com
SUMMARY:Multitasking & Time Management at the Workplace (2 Days)
DESCRIPTION:Objectives  \nThe “Managing Multiple Tasks and Work Priorities” course is designed to equip participants with effective strategies and techniques for managing their workload\, prioritizing tasks\, and maximizing productivity in a dynamic and fast-paced work environment. Through practical exercises\, discussions\, and real-life scenarios\, participants will learn how to effectively handle multiple responsibilities\, make informed decisions on task prioritization\, and enhance their time management skills.  \nTarget Audience  \nThe “Managing Multiple Tasks and Work Priorities” course is designed for professionals at all levels who are faced with managing multiple tasks\, responsibilities\, and competing priorities in their work. It is suitable for individuals from various industries and roles\, including managers\, supervisors\, project leads\, team members\, and anyone seeking to enhance their task management and work prioritization skills.  \nLearning Outcomes  \n\n Assess and analyze their workload to effectively manage multiple tasks and responsibilities. \n Apply proven time management techniques to maximize productivity and minimize time wastage. \n Prioritize tasks based on importance\, urgency\, and organizational goals. \nImplement strategies to minimize interruptions and distractions and maintain focus.\n\nCourse Outlines: Day 1:  \nModule 1: Introduction to Managing Multiple Tasks and Work Priorities  \n\nUnderstanding the challenges and impact of managing multiple tasks. \nIdentifying common time management pitfalls and how they affect productivity. \nSetting goals for improving task management and work prioritization. \nAnalyzing Workload and Task Prioritization \n\nModule 2: Assessing the current workload and identifying tasks and responsibilities.  \n\nApplying prioritization techniques to categorize tasks based on importance and urgency. \n Identifying key factors and criteria for effective task prioritization. \n Time Management Techniques \n\nModule 3: Exploring proven time management strategies and techniques.  \nSetting realistic deadlines and creating a time management plan.  \n\n Overcoming procrastination and managing distractions. \n Managing Interruptions and Distractions \n\nModule 4: Identifying common interruptions and distractions in the workplace.  \n\nImplementing strategies to minimize and effectively handle interruptions. \nDeveloping techniques to regain focus and maintain productivity. \n Delegating and Outsourcing Tasks \n\nDay 2:  \nModule 5: Recognizing tasks that can be delegated or outsourced.  \n\nUnderstanding the criteria for determining tasks that are suitable for delegation or outsourcing. \n Identifying tasks that are repetitive\, time-consuming\, or outside your core competency. \n Evaluating the potential benefits and risks associated with delegating or outsourcing specific tasks. \n\nModule 6: Effective Task and Project Planning  \n\n Breaking down projects into manageable tasks and creating action plans. \nUtilizing task management tools and software for planning and tracking progress. \nIncorporating flexibility and adaptability in task and project planning. \n\nModule 7: Prioritization Decision-Making  \n\n Making informed decisions on task prioritization based on organizational goals and deadlines. \n Applying techniques such as the Eisenhower Matrix or ABC Analysis. \nEvaluating trade-offs and considering the impact of task prioritization decisions. \n\nModule 8: Managing Work Overload and Stress  \n\n Recognizing signs of work overload and stress. \n Implementing stress management techniques and self-care practices. \nSeeking support and resources to manage work-related stress effectively. \n\n  \nPRICING: \n\nRM 2\,200.00 Per Person (HRD Corp Claimable Course) + 8% SSTTo inquire about pricing for our training\, please contact us for a quote. \n\n\nKindly scan or click on the link below for your. Learning Registration.For any enquiries\, please contact us at:UOA Academy Sdn BhdSuite 1-2\, Lower Level 1\, City\, The Horizon Annexe\, Avenue 7\,Bangsar South\, 59200 Kuala Lumpur\, Wilayah Persekutuan Kuala Lumpur. \nTel: 6013 482 4810 / 6016 241 3517Email: register@uoa-academy.com \n\n  \n\n \nClick Here for Registration & Further Details!  \n \nCancellation & Transfer\n\nPlease note that should this registration be cancelled fourteen (14) days before the day of the training\, a 50% cancellation charge will be imposed. If cancellation is made seven (7) days before the training\, full payment of the training will be levied. Please note that amendments can only be made to the above arrangement by giving a minimum of three (3) working days’ notice. Additionally\, a 30% upfront payment is required via Human Resource Development Corporation (HRDC) or bank transfer.  \nDisclaimer: UOA Academy reserves the right to make changes to the venue\, date\, and speaker\, including cancellation of the workshop if warranted by circumstances beyond its control.  \n\n     \n  \n 
URL:https://uoa-academy.com/events/multitasking-time-management-at-the-workplace-training/
CATEGORIES:Interpersonal Development,Interpersonal Skill,Management,Self Development
END:VEVENT
BEGIN:VEVENT
DTSTART;VALUE=DATE:20260421
DTEND;VALUE=DATE:20260423
DTSTAMP:20260422T092315
CREATED:20260112T005457Z
LAST-MODIFIED:20260112T070452Z
UID:50575-1776729600-1776902399@uoa-academy.com
SUMMARY:Negotiation Skills to Close the Deal  (2 days)
DESCRIPTION:Objectives  \nThis training “Negotiation Skills to Close the Deal” course is designed to equip participants with the essential negotiation skills required to successfully close deals and agreements. The objectives include providing a comprehensive understanding of negotiation principles\, strategies\, and techniques. Participants will learn to navigate the complexities of negotiations\, build effective communication\, and develop the confidence to achieve favorable outcomes. By the end of the course\, participants will possess the tools to approach negotiations strategically\, overcome challenges\, and secure mutually beneficial deals.  \nTarget Audience  \nProfessionals involved in sales\, business development\, procurement\, and anyone engaged in deal-making activities especially all the executives and managers will benefit from this course. It is suitable for individuals seeking to enhance their negotiation skills\, whether they are experienced negotiators looking to refine their techniques or individuals entering roles that involve deal closures. This course is also valuable for entrepreneurs and business leaders aiming to foster a negotiation-savvy culture within their organizations.  \nLearning Outcomes  \n\n Develop a deep understanding of negotiation principles\, strategies\, and techniques crucial for successful deal-making. \n Acquire effective communication skills to build rapport\, actively listen\, and persuasively convey ideas during negotiations. \n Cultivate the ability to recognize and leverage favorable negotiation opportunities while addressing potential challenges. \n Gain confidence in navigating complex negotiations and adapt strategies to diverse situations. \n Integrate ethical considerations into negotiation practices to foster trust and cultivate long-term business relationships. \n\nCourse Outlines: Day 1  \nModule 1: Introduction to Negotiation  \n\n Overview of negotiation principles\, strategies\, and techniques \n Understanding the importance of effective negotiation in deal-making \n\nModule 2: Comprehensive Understanding of Negotiation Dynamics  \n\n Deep dive into negotiation principles crucial for successful deal-making \nAnalysis of negotiation strategies and their applications \n\nModule 3: Communication Excellence in Negotiations  \n\n Acquiring effective communication skills for building rapport \n Techniques for active listening and persuasively conveying ideas during negotiations \n\nModule 4: Navigating the Complexities of Negotiations  \n\n Strategies for navigating negotiation complexities \n Building confidence to achieve favorable outcomes in diverse negotiation scenarios \n\nDay 2  \nModule 5: Recognizing and Leveraging Opportunities  \n\n Cultivating the ability to recognize and leverage favorable negotiation opportunities \nAddressing potential challenges in negotiations \n\nModule 6: Integrating Ethical Considerations  \n\n Importance of ethical considerations in negotiation practices \n Strategies for fostering trust and cultivating long-term business relationships \n\nModule 7: Overcoming Objections and Handling Difficult Situations  \n\nTechniques for addressing objections effectively without breaking rapport \nStrategies for staying calm and composed in difficult or high-pressure negotiation scenarios \n Methods to reframe objections and turn them into opportunities for agreement \nConflict resolution tactics to ensure smooth progress in tough negotiations \n\nModule 8: Closing the Deal and Negotiation Follow-Up  \n\n Key strategies for successfully closing the deal while ensuring mutual satisfaction \nUnderstanding the psychological aspects of closing and how to create urgency without pressure \n Best practices for finalizing agreements and preparing the formal contract \nFollow-up techniques to maintain relationships and ensure smooth post-negotiation implementation \n\nPRICING: \n\nRM 2\,200.00 Per Person (HRD Corp Claimable Course) + 8% SSTTo inquire about pricing for our training\, please contact us for a quote. \n\n\nKindly scan or click on the link below for your. Learning Registration.For any enquiries\, please contact us at:UOA Academy Sdn BhdSuite 1-2\, Lower Level 1\, City\, The Horizon Annexe\, Avenue 7\,Bangsar South\, 59200 Kuala Lumpur\, Wilayah Persekutuan Kuala Lumpur. \nTel: 6013 482 4810 / 6016 241 3517Email: register@uoa-academy.com \n\n  \n\n \nClick Here for Registration & Further Details!  \n \nCancellation & Transfer\n\nPlease note that should this registration be cancelled fourteen (14) days before the day of the training\, a 50% cancellation charge will be imposed. If cancellation is made seven (7) days before the training\, full payment of the training will be levied. Please note that amendments can only be made to the above arrangement by giving a minimum of three (3) working days’ notice. Additionally\, a 30% upfront payment is required via Human Resource Development Corporation (HRDC) or bank transfer.  \nDisclaimer: UOA Academy reserves the right to make changes to the venue\, date\, and speaker\, including cancellation of the workshop if warranted by circumstances beyond its control.  \n\n     \n  \n 
URL:https://uoa-academy.com/events/negotiation-skills-to-close-the-deal-2-day-training/
CATEGORIES:Interpersonal Development,Interpersonal Skill,Management,Self Development
END:VEVENT
BEGIN:VEVENT
DTSTART;VALUE=DATE:20260421
DTEND;VALUE=DATE:20260423
DTSTAMP:20260422T092315
CREATED:20260112T010205Z
LAST-MODIFIED:20260112T070402Z
UID:50577-1776729600-1776902399@uoa-academy.com
SUMMARY:Sensory Awareness & Mindfulness (SAM)  (2 Days)
DESCRIPTION:Objectives  \nSensory Awareness & Mindfulness (SAM) is a wellbeing programme designed to help employees slow down\, reconnect with themselves\, and build healthier ways to cope with stress and emotional fatigue. The programme blends mindfulness with sensory-based self-care approaches to support professionals facing high workloads\, caregiving responsibilities\, and constant pressure.  \nOver two days\, participants will engage in guided sensory and mindfulness practices that enhance self-awareness\, emotional regulation\, and resilience. The programme focuses on practical\, experiential learning that participants can safely apply in daily work and personal life.  \nTarget Audience  \n\n Working Professionals \n Caretakers \n Helping Professionals \n Employees experiencing high workload or emotional demands \n\nLearning Outcomes  \n\n Understand the core pillars of self-care and the impact of neglecting wellbeing at work \n Recognise personal stress signals and early signs of burnout \n Apply mindfulness principles to manage emotional and mental challenges \nPractise a range of sensory-based self-care techniques \n Use creative expression as a tool for emotional processing and grounding\nDevelop a personal mindfulness and self-care routine \n\nCourse Outlines:  \nDay 1 – Awareness\, Regulation & Inner Stability  \nModule 1: Understanding Stress & the Modern Workplace \nWorkplace stress in today’s environment  \n\n Emotional load\, mental fatigue\, and burnout risks \n How stress affects focus\, mood\, and behaviour \n\nModule 2: The Body–Mind Connection  \n\n How the nervous system responds to stress \n Fight\, flight\, freeze and shutdown responses \n Recognising physical and emotional stress signals \n\nModule 3: Foundations of Mindfulness  \n\n What mindfulness is (and what it is not) \n Present-moment awareness \n The 9 attitudes of mindfulness \n Applying mindfulness at work \n\nModule 4: Sensory Awareness for Grounding  \n\n Using sight\, sound\, touch\, and movement to regulate emotions\nGrounding techniques for overwhelm and anxiety \n Sensory practices for focus and calm \n\nDay 2 – Expression\, Integration & Resilience Building  \nModule 5: Sensory-Based Self-Care Practices  \n\n Brainspotting (gaze spotting) for emotional release \n Mindfulness touch practices \n Mindfulness body movement and walking \n\nModule 6: Creative Expression for Emotional Processing  \n\n Expressive art as a non-verbal processing tool \n Bilateral music and drawing \n Painting and reflective writing for clarity \n\nModule 7: Building Emotional Resilience  \n\n Responding vs reacting \n Self-compassion and emotional balance \n Creating healthy coping strategies for daily stress \n\nModule 8: Integration & Personal Mindfulness Plan  \n\n Integrating mindfulness into daily routines \n Creating a simple\, sustainable self-care plan \n Reflection\, sharing\, and commitment to practice \n \n\nTraining Methodology  \nThis programme uses experiential learning\, sensory-based practices\, creative expression\, guided reflection\, and group sharing. Participants engage in hands-on mindfulness activities designed to promote awareness\, emotional regulation\, and resilience in a safe and supportive environment.  \nPRICING: \n\nRM 2\,200.00 Per Person (HRD Corp Claimable Course) + 8% SSTTo inquire about pricing for our training\, please contact us for a quote. \n\n\nKindly scan or click on the link below for your. Learning Registration.For any enquiries\, please contact us at:UOA Academy Sdn BhdSuite 1-2\, Lower Level 1\, City\, The Horizon Annexe\, Avenue 7\,Bangsar South\, 59200 Kuala Lumpur\, Wilayah Persekutuan Kuala Lumpur. \nTel: 6013 482 4810 / 6016 241 3517Email: register@uoa-academy.com \n\n  \n\n \nClick Here for Registration & Further Details!  \n \nCancellation & Transfer\n\nPlease note that should this registration be cancelled fourteen (14) days before the day of the training\, a 50% cancellation charge will be imposed. If cancellation is made seven (7) days before the training\, full payment of the training will be levied. Please note that amendments can only be made to the above arrangement by giving a minimum of three (3) working days’ notice. Additionally\, a 30% upfront payment is required via Human Resource Development Corporation (HRDC) or bank transfer.  \nDisclaimer: UOA Academy reserves the right to make changes to the venue\, date\, and speaker\, including cancellation of the workshop if warranted by circumstances beyond its control.  \n\n     \n  \n 
URL:https://uoa-academy.com/events/sensory-awareness-mindfulness-sam/
CATEGORIES:Interpersonal Development,Interpersonal Skill,Management,Self Development
END:VEVENT
BEGIN:VEVENT
DTSTART;VALUE=DATE:20260421
DTEND;VALUE=DATE:20260423
DTSTAMP:20260422T092315
CREATED:20260112T011705Z
LAST-MODIFIED:20260112T070123Z
UID:50579-1776729600-1776902399@uoa-academy.com
SUMMARY:Strategic Leadership & Change Mastery (2 Days)
DESCRIPTION:Objectives  \nThe program is designed to equip leaders with skills to drive change and lead teams strategically. It develops a mindset of adaptability and forward‑thinking in leadership. This program offers participants relevant tools and frameworks for aligning team goals with organizational strategy and change.  \nTarget Audience  \nThe program is suitable for middle to senior-level managers\, department heads\, business unit leaders\, change agents\, transformation teams\, and high-potential talent in the leadership pipeline.  \nLearning Outcomes  \nBy the end of this program\, participants will be able to:  \n\n Apply strategic thinking frameworks to effectively align team actions with organizational goals. \n Lead change initiatives with clarity\, confidence\, and impactful communication. \nIdentify sources of resistance to change and implement strategies to manage them effectively. \n Apply a strategic change framework to drive successful transformation in the workplace. \n\nCourse Outlines: Day 1: Strategic Leadership Foundations  \nModule 1: The Role of a Strategic Leader  \n\n Moving from operational to strategic mindset \n Traits of high-impact leaders \n Personal leadership audit & clarity of purpose \n\nModule 2: Strategic Thinking & Alignment  \n\n Using SWOT\, PESTLE\, and Strategic Mapping \n Aligning team goals with organizational direction \n Making trade-offs and resource prioritization \n\nModule 3: Decision-Making Under Pressure  \n\n Critical thinking tools (e.g.\, 5 Whys\, Fishbone) \n Risk-aware and data-informed decisions \n Deciding with incomplete information \n\nDay 2: Change is the Only Constant!  \nModule 4: From Status Quo to Future State  \n\n Change Gurus and Paradigm Shift \n Lewin’s 3-Step Change Model \n Kotter’s 8-Step Change Model \n Who Says the Elephant Can’t Dance? \n\nModule 5: Transformation Matrix  \n\n Degree\, level\, and scope of change \n Continuous improvement vs drastic change \n Quick wins vs sustainable shifts \n Change agent \n\nModule 6: Change Management Framework  \n\n Organizational-wide change \n New KPIs\, behaviors\, coaching\, mentoring-performance \nCulture-wide change \n\nPRICING: \n\nRM 2\,200.00 Per Person (HRD Corp Claimable Course) + 8% SSTTo inquire about pricing for our training\, please contact us for a quote. \n\n\nKindly scan or click on the link below for your. Learning Registration.For any enquiries\, please contact us at:UOA Academy Sdn BhdSuite 1-2\, Lower Level 1\, City\, The Horizon Annexe\, Avenue 7\,Bangsar South\, 59200 Kuala Lumpur\, Wilayah Persekutuan Kuala Lumpur. \nTel: 6013 482 4810 / 6016 241 3517Email: register@uoa-academy.com \n\n  \n\n \nClick Here for Registration & Further Details!  \n \nCancellation & Transfer\n\nPlease note that should this registration be cancelled fourteen (14) days before the day of the training\, a 50% cancellation charge will be imposed. If cancellation is made seven (7) days before the training\, full payment of the training will be levied. Please note that amendments can only be made to the above arrangement by giving a minimum of three (3) working days’ notice. Additionally\, a 30% upfront payment is required via Human Resource Development Corporation (HRDC) or bank transfer.  \nDisclaimer: UOA Academy reserves the right to make changes to the venue\, date\, and speaker\, including cancellation of the workshop if warranted by circumstances beyond its control.  \n\n     \n  \n 
URL:https://uoa-academy.com/events/strategic-leadership-change-mastery/
CATEGORIES:Interpersonal Development,Interpersonal Skill,Management,Self Development
END:VEVENT
BEGIN:VEVENT
DTSTART;VALUE=DATE:20260421
DTEND;VALUE=DATE:20260423
DTSTAMP:20260422T092315
CREATED:20260112T014909Z
LAST-MODIFIED:20260112T070143Z
UID:50581-1776729600-1776902399@uoa-academy.com
SUMMARY:Basic Mandarin for Workplace Communication (2 Days)
DESCRIPTION:Objectives  \nThis programme is designed to help participants develop basic Mandarin communication skills for workplace and daily interactions. It focuses on pronunciation\, tones\, simple sentence structures\, and commonly used Mandarin expressions. Using an easy\, interactive\, and practical approach\, participants will gain confidence to communicate in basic Mandarin with colleagues\, customers\, and social contacts. The programme supports continuous learning and application in real-life workplace situations.  \nTarget Audience  \n\n Employees with no or minimal Mandarin knowledge \n Frontline and customer-facing staff \n Administrative and support staff \n Professionals interacting with Mandarin-speaking colleagues or customers \n\nLearning Outcomes  \nBy the end of this program\, participants will be able to:  \n\n Pronounce Hanyu Pinyin and the four Mandarin intonations \n Use basic Mandarin greetings and daily expressions \n Conduct a simple self-introduction and address others appropriately \nCommunicate basic preferences and simple needs \n Use common Mandarin vocabulary related to numbers\, time\, money\, places\, and daily activities \n Apply basic Mandarin in simple workplace and social conversations \n\nCourse Outlines: Module 1: Mental Preparation & Motivation  \n\n Understanding the importance of Mandarin communication \nBuilding confidence and interest in learning Mandarin \n\nModule 2: Hanyu Pinyin & Pronunciation  \n\n Introduction to Hanyu Pinyin \n Correct pronunciation techniques \n\nModule 3: Four Intonations (Tones)  \n\n Understanding the four Mandarin tones \n Practising tone accuracy \n\nModule 4: Daily Greetings & Useful Expressions  \n\n Common greetings \n Frequently used daily expressions \n\nModule 5: Self-Introduction & Addressing People  \n\n Introducing oneself \n Proper ways to address people \n\nDay 2 – Practical Vocabulary & Workplace Conversations Module 6: Basic Vocabulary for Daily & Workplace Use  \n\n Names of things and places \n Common nouns\, verbs\, adverbs\, and adjectives \n\nModule 7: Numbers\, Time & Money  \n\n Numbers and money value \n Time\, day\, week\, month\, and year \n\nModule 8: Simple Conversations & Preferences  \n\n Expressing likes and preferences \n Asking and answering simple questions \n\nModule 9: Practical Daily Situations  \n\n Basic shopping and bargaining \n Ordering food in restaurants \n\nModule 10: Practice & Reinforcement  \n\n Singing for pronunciation practice \n Simple conversation practice \n Short test and recap \n\nPRICING: \n\nRM 2\,200.00 Per Person (HRD Corp Claimable Course) + 8% SSTTo inquire about pricing for our training\, please contact us for a quote. \n\n\nKindly scan or click on the link below for your. Learning Registration.For any enquiries\, please contact us at:UOA Academy Sdn BhdSuite 1-2\, Lower Level 1\, City\, The Horizon Annexe\, Avenue 7\,Bangsar South\, 59200 Kuala Lumpur\, Wilayah Persekutuan Kuala Lumpur. \nTel: 6013 482 4810 / 6016 241 3517Email: register@uoa-academy.com \n\n  \n\n \nClick Here for Registration & Further Details!  \n \nCancellation & Transfer\n\nPlease note that should this registration be cancelled fourteen (14) days before the day of the training\, a 50% cancellation charge will be imposed. If cancellation is made seven (7) days before the training\, full payment of the training will be levied. Please note that amendments can only be made to the above arrangement by giving a minimum of three (3) working days’ notice. Additionally\, a 30% upfront payment is required via Human Resource Development Corporation (HRDC) or bank transfer.  \nDisclaimer: UOA Academy reserves the right to make changes to the venue\, date\, and speaker\, including cancellation of the workshop if warranted by circumstances beyond its control.  \n\n     \n  \n 
URL:https://uoa-academy.com/events/basic-mandarin-for-workplace-communication-2-days/
CATEGORIES:Interpersonal Development,Interpersonal Skill,Management,Self Development
END:VEVENT
END:VCALENDAR