BEGIN:VCALENDAR
VERSION:2.0
PRODID:-//UOA Academy - ECPv6.15.20//NONSGML v1.0//EN
CALSCALE:GREGORIAN
METHOD:PUBLISH
X-WR-CALNAME:UOA Academy
X-ORIGINAL-URL:https://uoa-academy.com
X-WR-CALDESC:Events for UOA Academy
REFRESH-INTERVAL;VALUE=DURATION:PT1H
X-Robots-Tag:noindex
X-PUBLISHED-TTL:PT1H
BEGIN:VTIMEZONE
TZID:Asia/Kuala_Lumpur
BEGIN:STANDARD
TZOFFSETFROM:+0800
TZOFFSETTO:+0800
TZNAME:+08
DTSTART:20230101T000000
END:STANDARD
END:VTIMEZONE
BEGIN:VEVENT
DTSTART;VALUE=DATE:20240416
DTEND;VALUE=DATE:20240418
DTSTAMP:20260425T103408
CREATED:20240109T024342Z
LAST-MODIFIED:20240109T024342Z
UID:11091-1713225600-1713398399@uoa-academy.com
SUMMARY:Building Operation & Maintenance Handyman (2 days)
DESCRIPTION:Objectives \nThe Building Operation & Maintenance Handyman course is designed to provide participants with practical skills and knowledge for effective building operation and maintenance. The objective is to equip individuals with the essential competencies needed to perform a wide range of handyman tasks related to building systems\, equipment\, and facilities. The course aims to empower participants with the ability to contribute to the smooth operation and maintenance of buildings\, ensuring functionality\, safety\, and efficiency. \nTarget Audience \nThis course is specifically tailored for individuals aspiring to become building operation and maintenance handymen. It is suitable for maintenance technicians\, facility management staff\, property managers\, constructions\, and individuals seeking to enter the field of building maintenance. The content is crafted to benefit participants at various levels of expertise\, from beginners to those with some experience in the field. \nLearning Outcomes  \n\nGain hands-on skills for various building operation and maintenance tasks.\nAcquire knowledge to effectively troubleshoot common issues in building systems\, equipment\, and facilities.\nDevelop communication skills essential for effective collaboration and reporting in a handyman role.\nImprove employability in the field of building operation and maintenance through gained skills and knowledge.\nComprehend and apply safety protocols relevant to building maintenance tasks.\n\n\nCourse Outlines: \nDay 1: \nModule 1: Fundamentals of Building Operation and Maintenance \n\nUnderstanding the importance of effective building operation and maintenance\nOverview of the course objectives and structure\nIntroduction to the role of a building operation and maintenance handyman\n\nModule 2: Handyman Tasks in Building Maintenance \n\nComprehensive exploration of the wide range of tasks involved in building maintenance\nPractical demonstrations and hands-on training for various maintenance activities\nCase studies illustrating the impact of effective building maintenance\n\nModule 3: Troubleshooting Building Systems and Equipment \n\nAcquiring knowledge and skills to troubleshoot common issues in building systems and equipment\nPractical exercises and simulations for effective problem-solving\nGroup discussions on real-world troubleshooting scenarios\n\nModule 4: Communication Skills for Handyman Roles \n\nDeveloping effective communication skills for collaboration and reporting\nRole-playing exercises and communication simulations\nBest practices for clear and concise reporting in a handyman role\n\nDay 2: \nModule 5: Safety Protocols in Building Maintenance \n\nComprehending and applying safety protocols relevant to building maintenance tasks\nHands-on training on safety procedures and equipment usage\nGroup discussions on promoting a safe working environment\n\nModule 6: Preventive Maintenance Practices \n\nUnderstanding the importance of preventive maintenance in building operation\nTechniques for implementing preventive maintenance practices\nCase studies showcasing successful preventive maintenance strategies\n\nModule 7: Enhancing Employability in Building Maintenance  \n\nStrategies for career development in the field of building operation and maintenance\nResume building and job-seeking tips\nGuidance on advancing skills and expertise for career growth\n\nModule 8: Interactive Workshops and Hands-on Training \n\nApplication of learned skills in interactive workshops\nHands-on training sessions for various building maintenance tasks\nQ&A sessions and problem-solving exercises\n\n\nPricing:\nRM 1\,500.00 Per Person (HRD Corp Claimable Course) + 6% SST\n \nKindly scan or click on the link below for your \nLearning Registration.\n \nFor any enquiries\, please contact us at:\n \nUOA Academy Sdn Bhd\nUOA Corporate Tower\, Lobby A\, Avenue 10\, The Vertical\nBangsar South City\, No 8 Jalan Kerinchi\n59200 Kuala Lumpur\, Malaysia.\nTel: 6019 225 0942 / 6016 806 1760 / 6016 241 3517\nEmail: register@uoa-academy.com\n \n\nhttps://www.surveymonkey.com/r/UOAAEX\n \nCancellation & Transfer\n\nPlease note that should this registration be cancelled fourteen (14) days before the day of the training\, a 50% cancellation charge will be imposed. If cancellation is made seven (7) days before the training\, full payment of the training will be levied. Please note that amendments can only be made to the above arrangement by giving a minimum of three (3) working days’ notice. Additionally\, a 30% upfront payment is required via Human Resource Development Corporation (HRDC) or bank transfer. \nDisclaimer: UOA Academy reserves the right to make changes to the venue\, date\, and speaker\,\nincluding cancellation of the workshop if warranted by circumstances beyond its control. \n\n  \n\n  \nJoin Today!
URL:https://uoa-academy.com/events/building-operation-maintenance-handyman/
ATTACH;FMTTYPE=image/png:https://uoa-academy.com/wp-content/uploads/2024/01/Building-Operation-Maintenance-Handyman.png
END:VEVENT
END:VCALENDAR