BEGIN:VCALENDAR
VERSION:2.0
PRODID:-//UOA Academy - ECPv6.15.20//NONSGML v1.0//EN
CALSCALE:GREGORIAN
METHOD:PUBLISH
X-WR-CALNAME:UOA Academy
X-ORIGINAL-URL:https://uoa-academy.com
X-WR-CALDESC:Events for UOA Academy
REFRESH-INTERVAL;VALUE=DURATION:PT1H
X-Robots-Tag:noindex
X-PUBLISHED-TTL:PT1H
BEGIN:VTIMEZONE
TZID:Asia/Kuala_Lumpur
BEGIN:STANDARD
TZOFFSETFROM:+0800
TZOFFSETTO:+0800
TZNAME:+08
DTSTART:20250101T000000
END:STANDARD
END:VTIMEZONE
BEGIN:VEVENT
DTSTART;VALUE=DATE:20260805
DTEND;VALUE=DATE:20260806
DTSTAMP:20260421T204509
CREATED:20260113T042741Z
LAST-MODIFIED:20260113T042741Z
UID:50716-1785888000-1785974399@uoa-academy.com
SUMMARY:Boost your Productivity with Artificial Intelligence-AI (2 Days)
DESCRIPTION:Objectives  \nThis 2-day training program is designed to equip participants with the knowledge and skills to leverage Artificial Intelligence (AI) tools specifically aimed at enhancing time management and productivity. Through practical workshops\, hands-on exercises\, and interactive discussions\, participants will explore AI-driven solutions tailored to optimize time allocation\, streamline workflows\, and prioritize tasks efficiently. The training will focus on practical strategies for integrating AI technologies into daily routines to maximize productivity and achieve better time management outcomes.  \nTarget Audience  \nThis training is suitable for professionals\, entrepreneurs\, and individuals seeking to enhance their time management skills using AI technologies. It is ideal for anyone who wants to learn how to leverage AI tools and techniques to prioritize tasks effectively\, automate repetitive processes\, and optimize time allocation in both personal and professional contexts.  \nLearning Outcomes  \n\n Understand the role of Artificial Intelligence (AI) in time management and productivity enhancement. \n Identify and evaluate AI-powered tools and technologies designed to optimize time allocation and streamline workflows. \n Develop practical skills in using AI-driven solutions for task prioritization\, scheduling\, and time tracking. \n Implement effective strategies for integrating AI into daily routines to improve time management practices and boost productivity. \n Cultivate a mindset for continuous learning and exploration of AI-driven productivity solutions to optimize time management in the long term\n\nCourse Outlines:  \nDay 1  \nSession 1: Introduction to AI for Time Management  \n\nOverview of Artificial Intelligence (AI) and its relevance in time management. \nUnderstanding the intersection of AI technologies and productivity enhancement. \nExploring common challenges in time management and how AI can address them. \n\nSession 2: Prioritizing Tasks with AI  \n\nStrategies for using AI-powered tools to prioritize tasks effectively. \nHands-on exercises in categorizing tasks based on urgency and importance. \nLeveraging AI algorithms for personalized task prioritization. \n\nSession 3: Automating Repetitive Tasks with AI  \n\nIntroduction to AI-driven automation tools and techniques. \nDemonstrations of automating repetitive tasks using AI algorithms. \nBenefits and considerations of task automation in time management. \n\nSession 4: AI-Powered Scheduling and Time Tracking  \n\nExploring AI-enabled scheduling applications and time tracking tools. \nHands-on exercises in using AI for scheduling meetings and appointments. \nLeveraging AI insights for optimizing time allocation and identifying productivity patterns. \n\nCourse Outlines:  \nDay 1  \nSession 1: Introduction to AI for Time Management  \n\nOverview of Artificial Intelligence (AI) and its relevance in time management. \nUnderstanding the intersection of AI technologies and productivity enhancement. \nExploring common challenges in time management and how AI can address them. \n\nSession 2: Prioritizing Tasks with AI  \n\nStrategies for using AI-powered tools to prioritize tasks effectively. \nHands-on exercises in categorizing tasks based on urgency and importance. \nLeveraging AI algorithms for personalized task prioritization. \n\nSession 3: Automating Repetitive Tasks with AI  \n\nIntroduction to AI-driven automation tools and techniques. \nDemonstrations of automating repetitive tasks using AI algorithms. \nBenefits and considerations of task automation in time management. \n\nSession 4: AI-Powered Scheduling and Time Tracking  \n\nExploring AI-enabled scheduling applications and time tracking tools. \nHands-on exercises in using AI for scheduling meetings and appointments. \nLeveraging AI insights for optimizing time allocation and identifying productivity patterns. \n\nPRICING: \n\nRM 2\,200.00 Per Person (HRD Corp Claimable Course) + 8% SSTTo inquire about pricing for our training\, please contact us for a quote. \n\n\nKindly scan or click on the link below for your. Learning Registration.For any enquiries\, please contact us at:UOA Academy Sdn BhdSuite 1-2\, Lower Level 1\, City\, The Horizon Annexe\, Avenue 7\,Bangsar South\, 59200 Kuala Lumpur\, Wilayah Persekutuan Kuala Lumpur. \nTel: 6013 482 4810 / 6016 241 3517Email: register@uoa-academy.com \n\n  \n\n \nClick Here for Registration & Further Details!  \n \nCancellation & Transfer\n\nPlease note that should this registration be cancelled fourteen (14) days before the day of the training\, a 50% cancellation charge will be imposed. If cancellation is made seven (7) days before the training\, full payment of the training will be levied. Please note that amendments can only be made to the above arrangement by giving a minimum of three (3) working days’ notice. Additionally\, a 30% upfront payment is required via Human Resource Development Corporation (HRDC) or bank transfer.  \nDisclaimer: UOA Academy reserves the right to make changes to the venue\, date\, and speaker\, including cancellation of the workshop if warranted by circumstances beyond its control.  \n\n     \n  \n 
URL:https://uoa-academy.com/events/boost-your-productivity-with-ai-2-day-training/
CATEGORIES:Interpersonal Development,Interpersonal Skill,Management,Self Development
END:VEVENT
END:VCALENDAR