BEGIN:VCALENDAR
VERSION:2.0
PRODID:-//UOA Academy - ECPv6.15.20//NONSGML v1.0//EN
CALSCALE:GREGORIAN
METHOD:PUBLISH
X-WR-CALNAME:UOA Academy
X-ORIGINAL-URL:https://uoa-academy.com
X-WR-CALDESC:Events for UOA Academy
REFRESH-INTERVAL;VALUE=DURATION:PT1H
X-Robots-Tag:noindex
X-PUBLISHED-TTL:PT1H
BEGIN:VTIMEZONE
TZID:Asia/Kuala_Lumpur
BEGIN:STANDARD
TZOFFSETFROM:+0800
TZOFFSETTO:+0800
TZNAME:+08
DTSTART:20250101T000000
END:STANDARD
END:VTIMEZONE
BEGIN:VEVENT
DTSTART;VALUE=DATE:20260929
DTEND;VALUE=DATE:20261001
DTSTAMP:20260423T060656
CREATED:20260114T013045Z
LAST-MODIFIED:20260114T013045Z
UID:50754-1790640000-1790812799@uoa-academy.com
SUMMARY:Basic Mandarin for Workplace Communication (2 Days)
DESCRIPTION:Objectives  \nThis programme is designed to help participants develop basic Mandarin communication skills for workplace and daily interactions. It focuses on pronunciation\, tones\, simple sentence structures\, and commonly used Mandarin expressions. Using an easy\, interactive\, and practical approach\, participants will gain confidence to communicate in basic Mandarin with colleagues\, customers\, and social contacts. The programme supports continuous learning and application in real-life workplace situations.  \nTarget Audience  \n\n Employees with no or minimal Mandarin knowledge \n Frontline and customer-facing staff \n Administrative and support staff \n Professionals interacting with Mandarin-speaking colleagues or customers \n\nLearning Outcomes  \nBy the end of this program\, participants will be able to:  \n\n Pronounce Hanyu Pinyin and the four Mandarin intonations \n Use basic Mandarin greetings and daily expressions \n Conduct a simple self-introduction and address others appropriately \nCommunicate basic preferences and simple needs \n Use common Mandarin vocabulary related to numbers\, time\, money\, places\, and daily activities \n Apply basic Mandarin in simple workplace and social conversations\n\nCourse Outlines: Module 1: Mental Preparation & Motivation  \n\n Understanding the importance of Mandarin communication \nBuilding confidence and interest in learning Mandarin \n\nModule 2: Hanyu Pinyin & Pronunciation  \n\n Introduction to Hanyu Pinyin \n Correct pronunciation techniques \n\nModule 3: Four Intonations (Tones)  \n\n Understanding the four Mandarin tones \n Practising tone accuracy \n\nModule 4: Daily Greetings & Useful Expressions  \n\n Common greetings \n Frequently used daily expressions \n\nModule 5: Self-Introduction & Addressing People  \n\n Introducing oneself \n Proper ways to address people \n\nDay 2 – Practical Vocabulary & Workplace Conversations  \nModule 6: Basic Vocabulary for Daily & Workplace Use  \n\n Names of things and places \n Common nouns\, verbs\, adverbs\, and adjectives \n\nModule 7: Numbers\, Time & Money  \n\n Numbers and money value \n Time\, day\, week\, month\, and year \n\nModule 8: Simple Conversations & Preferences  \n\n Expressing likes and preferences \n Asking and answering simple questions \n\nModule 9: Practical Daily Situations  \n\n Basic shopping and bargaining \n Ordering food in restaurants \n\nModule 10: Practice & Reinforcement  \n\n Singing for pronunciation practice \n Simple conversation practice \n Short test and recap \n\nPRICING: \n\nRM 2\,200.00 Per Person (HRD Corp Claimable Course) + 8% SSTTo inquire about pricing for our training\, please contact us for a quote. \n\n\nKindly scan or click on the link below for your. Learning Registration.For any enquiries\, please contact us at:UOA Academy Sdn BhdSuite 1-2\, Lower Level 1\, City\, The Horizon Annexe\, Avenue 7\,Bangsar South\, 59200 Kuala Lumpur\, Wilayah Persekutuan Kuala Lumpur. \nTel: 6013 482 4810 / 6016 241 3517Email: register@uoa-academy.com \n\n  \n\n \nClick Here for Registration & Further Details!  \n \nCancellation & Transfer\n\nPlease note that should this registration be cancelled fourteen (14) days before the day of the training\, a 50% cancellation charge will be imposed. If cancellation is made seven (7) days before the training\, full payment of the training will be levied. Please note that amendments can only be made to the above arrangement by giving a minimum of three (3) working days’ notice. Additionally\, a 30% upfront payment is required via Human Resource Development Corporation (HRDC) or bank transfer.  \nDisclaimer: UOA Academy reserves the right to make changes to the venue\, date\, and speaker\, including cancellation of the workshop if warranted by circumstances beyond its control.  \n\n     \n  \n 
URL:https://uoa-academy.com/events/basic-mandarin-for-workplace-communication-2-days-2/
CATEGORIES:Interpersonal Development,Interpersonal Skill,Management,Self Development
END:VEVENT
END:VCALENDAR