BEGIN:VCALENDAR
VERSION:2.0
PRODID:-//UOA Academy - ECPv6.15.20//NONSGML v1.0//EN
CALSCALE:GREGORIAN
METHOD:PUBLISH
X-WR-CALNAME:UOA Academy
X-ORIGINAL-URL:https://uoa-academy.com
X-WR-CALDESC:Events for UOA Academy
REFRESH-INTERVAL;VALUE=DURATION:PT1H
X-Robots-Tag:noindex
X-PUBLISHED-TTL:PT1H
BEGIN:VTIMEZONE
TZID:Asia/Kuala_Lumpur
BEGIN:STANDARD
TZOFFSETFROM:+0800
TZOFFSETTO:+0800
TZNAME:+08
DTSTART:20250101T000000
END:STANDARD
END:VTIMEZONE
BEGIN:VEVENT
DTSTART;VALUE=DATE:20260304
DTEND;VALUE=DATE:20260306
DTSTAMP:20260423T060656
CREATED:20251224T035715Z
LAST-MODIFIED:20260112T071546Z
UID:50455-1772582400-1772755199@uoa-academy.com
SUMMARY:Basic Fire Fighting & ERP Training (with Fire Drill Exercise & Safety Awareness) (2 Days)
DESCRIPTION:Objectives \nThe objectives of the “Basic Fire Fighting & ERP Training” program\, which includes a Fire Drill Exercise and Safety Awareness\, are to provide participants with essential knowledge and skills to respond effectively in the event of a fire emergency. The program aims to familiarize participants with basic fire-fighting techniques\, Emergency Response Procedures (ERPs)\, and to instill a heightened safety awareness mindset. Additionally\, the incorporation of a Fire Drill Exercise enhances practical application and ensures participants are well-prepared for real-life emergency scenarios.  \nTarget Audience \nThis training is designed for individuals across various industries and workplaces\, including office environments\, manufacturing facilities\, and public spaces. It caters to employees\, supervisors\, safety officers\, and anyone interested in acquiring fundamental fire-fighting skills and understanding Emergency Response Procedures. The program is suitable for those looking to enhance their safety awareness and contribute to a secure work environment.  \nLearning Outcomes \n\n\nAttainment of essential skills in basic fire-fighting techniques\, encompassing the proper use of fire extinguishers and efficient evacuation procedures. \n Development of a safety awareness mindset among participants. \n The Fire Drill Exercise serves as a practical reinforcement\, allowing participants to apply theoretical knowledge\, enhancing their proficiency in real-life emergency scenarios. \n Empowerment of participants to actively contribute to workplace safety by identifying potential hazards and adhering to established safety protocols. \n\nCourse Outlines \nDay 1:  \nModule 1: Introduction to Fire Safety and Emergency Response  \n\n Understanding the Importance of Fire Safety \n Overview of Emergency Response Procedures (ERPs) \nIntroduction to Safety Awareness Mindset \n\nModule 2: Basic Fire-Fighting Techniques  \n\n Proper Use of Fire Extinguishers \n Efficient Evacuation Procedures \n Practical Application and Hands-on Training \n\nModule 3: Emergency Response Procedures (ERPs)  \n\n In-Depth Exploration of Workplace-Specific ERPs \n Coordinated Response in Fire Emergencies \n Integration of ERPs into Daily Safety Practices \n\nModule 4: Safety Awareness Mindset Development  \n\n Identifying Potential Hazards in the Workplace \n Cultivating a Proactive Safety Awareness Mindset \n Contribution to a Secure Work Environment \n\nDay 2:  \nModule 5: Fire Drill Exercise  \n\n Simulated Emergency Scenario Participation \n Practical Application of Fire-Fighting Techniques \n Evaluation and Feedback for Continuous Improvement \n\nModule 6: Practical Reinforcement of Knowledge  \n\n Application of Theoretical Knowledge in Real-Life Scenarios \nEnhancing Proficiency in Emergency Response \n Continuous Improvement Strategies \n\nModule 7:Active Contribution to Workplace Safety  \n\n Empowerment to Identify and Address Potential Hazards \nAdherence to Established Safety Protocols \n\n● Collective Responsibility for a Secure Work Environment  \nPRICING: \n\nRM 2\,200.00 Per Person (HRD Corp Claimable Course) + 8% SSTTo inquire about pricing for our training\, please contact us for a quote. \n\n\nKindly scan or click on the link below for your. Learning Registration.For any enquiries\, please contact us at:UOA Academy Sdn BhdSuite 1-2\, Lower Level 1\, City\, The Horizon Annexe\, Avenue 7\,Bangsar South\, 59200 Kuala Lumpur\, Wilayah Persekutuan Kuala Lumpur. \nTel: 6013 482 4810 / 6016 241 3517Email: register@uoa-academy.com \n\n  \n\n \nClick Here for Registration & Further Details!  \n \nCancellation & Transfer\n\nPlease note that should this registration be cancelled fourteen (14) days before the day of the training\, a 50% cancellation charge will be imposed. If cancellation is made seven (7) days before the training\, full payment of the training will be levied. Please note that amendments can only be made to the above arrangement by giving a minimum of three (3) working days’ notice. Additionally\, a 30% upfront payment is required via Human Resource Development Corporation (HRDC) or bank transfer.  \nDisclaimer: UOA Academy reserves the right to make changes to the venue\, date\, and speaker\, including cancellation of the workshop if warranted by circumstances beyond its control.  \n\n     \n  \n 
URL:https://uoa-academy.com/events/basic-fire-fighting-erp-training-2-day-course/
CATEGORIES:Interpersonal Development,Interpersonal Skill,Management,Self Development
END:VEVENT
END:VCALENDAR