BEGIN:VCALENDAR
VERSION:2.0
PRODID:-//UOA Academy - ECPv6.15.20//NONSGML v1.0//EN
CALSCALE:GREGORIAN
METHOD:PUBLISH
X-WR-CALNAME:UOA Academy
X-ORIGINAL-URL:https://uoa-academy.com
X-WR-CALDESC:Events for UOA Academy
REFRESH-INTERVAL;VALUE=DURATION:PT1H
X-Robots-Tag:noindex
X-PUBLISHED-TTL:PT1H
BEGIN:VTIMEZONE
TZID:Asia/Kuala_Lumpur
BEGIN:STANDARD
TZOFFSETFROM:+0800
TZOFFSETTO:+0800
TZNAME:+08
DTSTART:20250101T000000
END:STANDARD
END:VTIMEZONE
BEGIN:VEVENT
DTSTART;VALUE=DATE:20260129
DTEND;VALUE=DATE:20260130
DTSTAMP:20260421T215641
CREATED:20251224T015639Z
LAST-MODIFIED:20251231T013837Z
UID:50432-1769644800-1769731199@uoa-academy.com
SUMMARY:Basic English at the Workplace – Level 1  (1 Day)
DESCRIPTION:Objectives \nThis programme is designed for employees with limited English proficiency who need basic communication skills for the workplace. It focuses on building confidence in using simple English for daily work interactions. Participants will be introduced to common workplace vocabulary\, basic sentence structures\, and everyday communication scenarios. The programme provides a supportive learning environment to encourage participation and gradual improvement. It serves as a foundation for effective workplace communication. \nTarget Audience \n\nEntry-level employees \nSupport staff \nEmployees with minimal or basic English proficiency \nStaff who require basic English for daily work communication\n\n\nLearning Outcomes \n\n\n Use simple English words and phrases in the workplace \n Introduce themselves and communicate basic information \n Understand and respond to simple instructions and questions \n Communicate politely with colleagues and supervisors\n\nCourse Outline (1 Day)  \nModule 1: Introduction to Workplace English  \n\n Importance of English at work \n Common workplace words and phrases \n Basic greetings and introductions \n\nModule 2: Basic Sentence Structure  \n\n Simple sentence formation \n Present tense for daily work activities \n Asking and answering simple questions \n\nModule 3: Everyday Workplace Communication  \n\n Communicating needs and requests \n Giving and receiving simple instructions \n Telephone and face-to-face basics \n\nModule 4: Workplace Etiquette & Practice  \n\n Polite expressions and tone \n Common workplace situations \n Guided practice and role-play \n\nTraining Methodology  \nThis programme uses interactive activities\, guided practice\, simple role-plays\, and group exercises to build confidence in basic English usage. Learning focuses on practical workplace situations with continuous trainer support to encourage participation and improvement.  \nPRICING:RM 1\,500.00 Per Person (HRD Corp Claimable Course) + 8% SSTTo inquire about pricing for our training\, please contact us for a quote. \n\n\nKindly scan or click on the link below for your. Learning Registration.For any enquiries\, please contact us at:UOA Academy Sdn BhdSuite 1-2\, Lower Level 1\, City\, The Horizon Annexe\, Avenue 7\,Bangsar South\, 59200 Kuala Lumpur\, Wilayah Persekutuan Kuala Lumpur. \nTel: 6013 482 4810 / 6016 241 3517Email: register@uoa-academy.com \n\n  \n\n \nClick Here for Registration & Further Details!  \n \nCancellation & Transfer\n\nPlease note that should this registration be cancelled fourteen (14) days before the day of the training\, a 50% cancellation charge will be imposed. If cancellation is made seven (7) days before the training\, full payment of the training will be levied. Please note that amendments can only be made to the above arrangement by giving a minimum of three (3) working days’ notice. Additionally\, a 30% upfront payment is required via Human Resource Development Corporation (HRDC) or bank transfer.  \nDisclaimer: UOA Academy reserves the right to make changes to the venue\, date\, and speaker\, including cancellation of the workshop if warranted by circumstances beyond its control.  \n\n     \n  \n 
URL:https://uoa-academy.com/events/basic-english-at-the-workplace-level-1-1-day-training/
CATEGORIES:Interpersonal Development,Interpersonal Skill,Management,Self Development
END:VEVENT
END:VCALENDAR