BEGIN:VCALENDAR
VERSION:2.0
PRODID:-//UOA Academy - ECPv6.15.20//NONSGML v1.0//EN
CALSCALE:GREGORIAN
METHOD:PUBLISH
X-WR-CALNAME:UOA Academy
X-ORIGINAL-URL:https://uoa-academy.com
X-WR-CALDESC:Events for UOA Academy
REFRESH-INTERVAL;VALUE=DURATION:PT1H
X-Robots-Tag:noindex
X-PUBLISHED-TTL:PT1H
BEGIN:VTIMEZONE
TZID:Asia/Kuala_Lumpur
BEGIN:STANDARD
TZOFFSETFROM:+0800
TZOFFSETTO:+0800
TZNAME:+08
DTSTART:20240101T000000
END:STANDARD
END:VTIMEZONE
BEGIN:VEVENT
DTSTART;VALUE=DATE:20251203
DTEND;VALUE=DATE:20251204
DTSTAMP:20260421T233908
CREATED:20251013T021305Z
LAST-MODIFIED:20251110T032927Z
UID:49356-1764720000-1764806399@uoa-academy.com
SUMMARY:Essential First Aid\, CPR\, & AED Training (1 Day)
DESCRIPTION:ObjectivesThe Essential First Aid\, CPR\, & AED Training course is designed to equip participants with fundamental skills in providing immediate assistance during medical emergencies. Theprimary objectives include training participants in basic first aid techniques\, cardiopulmonary resuscitation (CPR)\, and the proper use of automated external defibrillators (AEDs). Thecourse aims to empower individuals to respond effectively to a range of medical situations\, promoting quick and appropriate actions to preserve life and minimize the impact of injuriesor illnesses. \nTarget AudienceThe Essential First Aid\, CPR\, & AED Training is specifically designed for individuals who are expected to perform first aid in their workplace. This comprehensive course is aimed atproviding participants with the necessary knowledge and skills to effectively respond to medical emergencies and provide immediate care to injured or ill individuals. \nLearning Outcomes● Understand the importance of basic first aid and CPR in emergency situations.● Demonstrate proficiency in providing CPR to adults\, children\, and infants.● Operate an Automated External Defibrillator (AED) effectively and safely.● Assess and prioritize injuries and illnesses\, and provide appropriate first aid interventions. \nCourse Outlines: \nModule 1: Introduction to First Aid● Understanding the importance of basic first aid skills in emergency situations● Exploring scenarios where first aid can make a critical difference in preserving life and minimizing the impact of injuries or illnessesModule 2: Basic First Aid Techniques● Wound Care and Bandaging● Burns and Scalds● Fracture ManagementModule 3: Cardiopulmonary Resuscitation (CPR)● CPR Techniques for Adults\, Children\, and Infants● Hands-on Practice SessionsModule 4: Automated External Defibrillator (AED) Operation● Understanding AED Functionality● Safe and Effective Use of AEDs● Practical AED ApplicationModule 5: Medical Emergency Response● Assessment and Prioritization of Injuries and Illnesses● Providing Appropriate First Aid Interventions● Scenario-Based Training \nPRICING:RM 1\,000.00 Per Person (HRD Corp Claimable Course) + 8% SST \n\nKindly scan or click on the link below for your \nLearning Registration.\n \nFor any enquiries\, please contact us at:\n \nUOA Academy Sdn Bhd\nUOA Corporate Tower\, Lobby A\, Avenue 10\, The Vertical\nBangsar South City\, No 8 Jalan Kerinchi\n59200 Kuala Lumpur\, Malaysia.\nTel: 603-2381 0478 | 6012-575 1767\nEmail: register@uoa-academy.com\n \n\nhttps://www.surveymonkey.com/r/EXTREG\n \nCancellation & Transfer\nPlease note that should this registration be cancelled fourteen (14) days before the day of the training\, a 50% cancellation charge will be imposed. If cancellation is made seven (7) days before the training\, full payment of the training will be levied. Please note that  amendments can only be made to the above arrangement by giving a minimum of three (3) working days’ notice. Additionally\, a 30%upfront payment is required via Human Resource Development Corporation (HRDC) or bank transfer.Disclaimer: UOA Academy reserves the right to make changes to the venue\, date\, and speaker\,including cancellation of the workshop if warranted by circumstances beyond its control.\n     \n  \n 
URL:https://uoa-academy.com/events/1-day-essential-first-aid-cpr-aed-training-course/
CATEGORIES:Interpersonal Development,Interpersonal Skill,Management,Self Development
END:VEVENT
END:VCALENDAR